BEGIN:VCALENDAR
VERSION:2.0
PRODID:IEEE vTools.Events//EN
CALSCALE:GREGORIAN
BEGIN:VTIMEZONE
TZID:US/Eastern
BEGIN:DAYLIGHT
DTSTART:20200308T030000
TZOFFSETFROM:-0500
TZOFFSETTO:-0400
RRULE:FREQ=YEARLY;BYDAY=2SU;BYMONTH=3
TZNAME:EDT
END:DAYLIGHT
BEGIN:STANDARD
DTSTART:20191103T010000
TZOFFSETFROM:-0400
TZOFFSETTO:-0500
RRULE:FREQ=YEARLY;BYDAY=1SU;BYMONTH=11
TZNAME:EST
END:STANDARD
END:VTIMEZONE
BEGIN:VEVENT
DTSTAMP:20191116T013345Z
UID:C55BCD9E-3D90-4FD1-AD40-6960A05527AC
DTSTART;TZID=US/Eastern:20191113T170000
DTEND;TZID=US/Eastern:20191113T190000
DESCRIPTION:Demonstration of the use of the RTL-SDR.COM USB dongles using t
 he Windows 10 PC and the Raspberry Pi 3B+. Meeting will also discuss feasi
 bility of follow-up meetings in 2020 for workshops using the dongles.\n\nS
 peaker(s): Dan Cross-Cole\, \n\nAgenda: \n5:00 - 5:30 pm: Pizza\n\n5:30 - 
 7:00 pm: Demo and discussion\n\nRoom: Glebe Meeting Room\, 1015 N. Quincy 
 Ave.\, Arlington\, Virginia\, United States\, 22203
LOCATION:Room: Glebe Meeting Room\, 1015 N. Quincy Ave.\, Arlington\, Virgi
 nia\, United States\, 22203
ORGANIZER:dcrosscole@yahoo.com
SEQUENCE:1
SUMMARY:Software Controlled Radio for PC and Raspberry Pi
URL;VALUE=URI:https://events.vtools.ieee.org/m/208735
X-ALT-DESC:Description: &lt;br /&gt;&lt;p&gt;Demonstration of the use of the RTL-SDR.CO
 M USB dongles using the Windows 10 PC and the Raspberry Pi 3B+.&amp;nbsp\; Mee
 ting will also discuss feasibility of follow-up meetings in 2020 for works
 hops using the dongles.&lt;/p&gt;&lt;br /&gt;&lt;br /&gt;Agenda: &lt;br /&gt;&lt;p&gt;5:00 - 5:30 pm:&amp;nb
 sp\; Pizza&lt;/p&gt;\n&lt;p&gt;5:30 - 7:00 pm:&amp;nbsp\; Demo and discussion&lt;/p&gt;
END:VEVENT
END:VCALENDAR

