BEGIN:VCALENDAR
VERSION:2.0
PRODID:IEEE vTools.Events//EN
CALSCALE:GREGORIAN
BEGIN:VTIMEZONE
TZID:Canada/Atlantic
BEGIN:DAYLIGHT
DTSTART:20200308T030000
TZOFFSETFROM:-0400
TZOFFSETTO:-0300
RRULE:FREQ=YEARLY;BYDAY=2SU;BYMONTH=3
TZNAME:ADT
END:DAYLIGHT
BEGIN:STANDARD
DTSTART:20191103T010000
TZOFFSETFROM:-0300
TZOFFSETTO:-0400
RRULE:FREQ=YEARLY;BYDAY=1SU;BYMONTH=11
TZNAME:AST
END:STANDARD
END:VTIMEZONE
BEGIN:VEVENT
DTSTAMP:20200118T194548Z
UID:945D1E43-1093-4309-97A0-A6006055540C
DTSTART;TZID=Canada/Atlantic:20191205T173000
DTEND;TZID=Canada/Atlantic:20191205T213000
DESCRIPTION:The IEEE Canadian Atlantic Section invites you to its 2019 Annu
 al General Meeting at the Saraguay House on December 5 (details below). Ne
 tworking at the cash bar will begin at 17:30h\, followed by a general welc
 ome\, and a keynote presentation by John Woods (Minas Energy) and Tony Wri
 ght (FORCE)\, who will provide perspectives on tidal energy development in
  Nova Scotia. The Annual General Meeting will commence after our AGM Dinne
 r and Awards ceremony recognizing outstanding contributions and volunteers
  involved in IEEE and CAS activities.\n\nAgenda: \n17:30 – 18:00: Networ
 king\n\n18:00 – 19:00: Welcome address and Technical Talk by John Wood a
 nd Tony Wright\n\n19:00 – 20:00: Dinner and Awards\n\n20:00 – 21:30: A
 nnual General Meeting\n\n360 Purcell’s Cove Road\, Halifax\, Nova Scotia
 \, Canada
LOCATION:360 Purcell’s Cove Road\, Halifax\, Nova Scotia\, Canada
ORGANIZER:macdonaldcaleb2@gmail.com
SEQUENCE:10
SUMMARY:Canadian Atlantic Section Annual General Meeting (AGM)
URL;VALUE=URI:https://events.vtools.ieee.org/m/208786
X-ALT-DESC:Description: &lt;br /&gt;&lt;div&gt;&lt;span style=&quot;font-family: verdana\, gene
 va\, sans-serif\;&quot;&gt;&lt;span style=&quot;font-size: 16px\;&quot;&gt;The IEEE Canadian Atlan
 tic Section invites you to its&amp;nbsp\;&lt;/span&gt;&lt;span style=&quot;font-size: 12pt\;
 &quot;&gt;2019 Annual General Meeting&amp;nbsp\;at the Saraguay House on December 5 (d
 etails below). Networking at the cash bar will begin at 17:30h\, followed 
 by a general welcome\, and a keynote presentation by John Woods (Minas Ene
 rgy) and Tony Wright (FORCE)\, who will provide perspectives on tidal ener
 gy development in Nova Scotia. The Annual General Meeting will commence af
 ter our AGM Dinner and Awards ceremony recognizing outstanding contributio
 ns and volunteers involved in IEEE and CAS activities.&lt;/span&gt;&lt;/span&gt;&lt;/div&gt;
 &lt;br /&gt;&lt;br /&gt;Agenda: &lt;br /&gt;&lt;p&gt;17:30 &amp;ndash\; 18:00: Networking&lt;/p&gt;\n&lt;p&gt;18:0
 0 &amp;ndash\; 19:00: Welcome address and Technical Talk by John Wood and Tony
  Wright&lt;/p&gt;\n&lt;p&gt;19:00 &amp;ndash\; 20:00: Dinner and Awards&lt;/p&gt;\n&lt;p&gt;20:00 &amp;nda
 sh\; 21:30: Annual General Meeting&lt;/p&gt;
END:VEVENT
END:VCALENDAR

