BEGIN:VCALENDAR
VERSION:2.0
PRODID:IEEE vTools.Events//EN
CALSCALE:GREGORIAN
BEGIN:VTIMEZONE
TZID:US/Central
BEGIN:DAYLIGHT
DTSTART:20200308T030000
TZOFFSETFROM:-0600
TZOFFSETTO:-0500
RRULE:FREQ=YEARLY;BYDAY=2SU;BYMONTH=3
TZNAME:CDT
END:DAYLIGHT
BEGIN:STANDARD
DTSTART:20191103T010000
TZOFFSETFROM:-0500
TZOFFSETTO:-0600
RRULE:FREQ=YEARLY;BYDAY=1SU;BYMONTH=11
TZNAME:CST
END:STANDARD
END:VTIMEZONE
BEGIN:VEVENT
DTSTAMP:20191123T034642Z
UID:C8A8BDD3-359A-49AA-9280-45F142A0CC79
DTSTART;TZID=US/Central:20191122T113000
DTEND;TZID=US/Central:20191122T130000
DESCRIPTION:Enabling Efficient and Reliable Edge Computing for IoT\n\nThe r
 apidly expanding market size of the Internet of Things (IoT) has raised fu
 ndamental challenges in processing/transmitting unprecedented volume of da
 ta and powering all these devices. To address the limitations of cloud com
 puting\, the new technologies of edge computing leveraging the power of lo
 cal computing close to where data are collected has become a promising sol
 ution in reducing the transmission overhead and supporting delay-sensitive
  and context-aware services. However\, it further poses significant challe
 nges in designing the computing and transmission system\, memory system\, 
 and energy storage in embedded devices. Besides the challenge in designing
  a single device\, new methodologies for data fusion\, task distribution\,
  and cooperative heterogeneous system on both edge and cloud are also in u
 rgent need to enable efficient edge computing for IoT applications. This t
 alk will discuss those new challenges and possible solutions. In the end\,
  the design trends for the next-generation IoT system and future research 
 directions will also be discussed.\n\nCo-sponsored by: CH05227 - Central T
 exas Section Chapter\, C16 San Antonio\n\nSpeaker(s): Dr. Mimi Xie\, \n\nA
 genda: \nLunch will begin promptly at 11:30am. The Guest Speaker presents 
 from 12pm-1pm\n\nBldg:  Cafeteria\, Southwest Research Institute\, Buildin
 g 161\,  145 Tom Slick Ave\, San Antonio\, TX 78238\, San Antonio\, Texas\
 , United States
LOCATION:Bldg:  Cafeteria\, Southwest Research Institute\, Building 161\,  
 145 Tom Slick Ave\, San Antonio\, TX 78238\, San Antonio\, Texas\, United 
 States
ORGANIZER:Dr.Brian.Kelley@gmail.com
SEQUENCE:1
SUMMARY:Enabling Efficient and Reliable Edge Computing for IoT
URL;VALUE=URI:https://events.vtools.ieee.org/m/209575
X-ALT-DESC:Description: &lt;br /&gt;&lt;p&gt;&lt;strong&gt;Enabling Efficient and Reliable Ed
 ge Computing for IoT&lt;/strong&gt;&lt;/p&gt;\n&lt;p&gt;The rapidly expanding market size of
 &amp;nbsp\;the Internet of Things (IoT)&amp;nbsp\;has raised fundamental challenge
 s in processing/transmitting unprecedented volume of data and powering all
  these devices.&amp;nbsp\;To address the limitations of cloud computing\,&amp;nbsp
 \;the new technologies of edge computing&amp;nbsp\;leveraging the power of loc
 al computing&amp;nbsp\;close to where data are collected has&amp;nbsp\;become a pr
 omising solution in&amp;nbsp\;reducing the transmission overhead&amp;nbsp\;and sup
 porting delay-sensitive and context-aware services. However\, it&amp;nbsp\;fur
 ther poses significant challenges in designing the computing and transmiss
 ion system\, memory system\, and energy storage in embedded devices. Besid
 es the challenge in designing a single device\,&amp;nbsp\;new methodologies fo
 r data fusion\, task distribution\, and cooperative heterogeneous system o
 n both edge and cloud are also in urgent need to enable efficient edge com
 puting for IoT applications.&amp;nbsp\;This talk will discuss those new challe
 nges and possible solutions.&amp;nbsp\;In&amp;nbsp\;the end\, the design trends fo
 r the next-generation IoT system and&amp;nbsp\;future research directions will
  also be&amp;nbsp\;discussed.&lt;/p&gt;&lt;br /&gt;&lt;br /&gt;Agenda: &lt;br /&gt;&lt;p&gt;Lunch will begin
  promptly at 11:30am.&amp;nbsp\; The Guest Speaker presents from 12pm-1pm&lt;/p&gt;
END:VEVENT
END:VCALENDAR

