BEGIN:VCALENDAR
VERSION:2.0
PRODID:IEEE vTools.Events//EN
CALSCALE:GREGORIAN
BEGIN:VTIMEZONE
TZID:US/Pacific
BEGIN:DAYLIGHT
DTSTART:20200308T030000
TZOFFSETFROM:-0800
TZOFFSETTO:-0700
RRULE:FREQ=YEARLY;BYDAY=2SU;BYMONTH=3
TZNAME:PDT
END:DAYLIGHT
BEGIN:STANDARD
DTSTART:20191103T010000
TZOFFSETFROM:-0700
TZOFFSETTO:-0800
RRULE:FREQ=YEARLY;BYDAY=1SU;BYMONTH=11
TZNAME:PST
END:STANDARD
END:VTIMEZONE
BEGIN:VEVENT
DTSTAMP:20191219T011407Z
UID:CCA7D3D3-63C5-46FE-8F0E-C3B120BCB1DC
DTSTART;TZID=US/Pacific:20191204T180000
DTEND;TZID=US/Pacific:20191204T220000
DESCRIPTION:Please come to enjoy our Holiday Banquet\, Delicious Food\, Goo
 d Wine\, Pleasant Companies\, Stimulating Keynote and Inspiring Discussion
 s…..\n\nKeynote: TBD\n\nThe event will be held at Mandarin Buffet and Gr
 ill. There are over 800 delectable dishes for your pleasure\,\n\nMongolian
  bar\, sushi\, crab\, steamers\, seafood\, dessert\, salad\, chocolate fou
 ntain\, ice cream and more....\n\nCo-sponsored by: IEEE Seattle section\, 
 YP\, &amp; WIE\n\nAgenda: \nDecember 4th\, 2019\n\n6 pm Reception\n\n6:30 pm D
 inner\n\n7:30 pm Keynote\n\nRoom: Banquet Room \, 14850 NE 24th St \, Redm
 ond\, Washington\, United States\, 98052
LOCATION:Room: Banquet Room \, 14850 NE 24th St \, Redmond\, Washington\, U
 nited States\, 98052
ORGANIZER:a.r.rehman@ieee.org
SEQUENCE:6
SUMMARY:2019 IEEE Seattle Holiday Banquet hosted by YP
URL;VALUE=URI:https://events.vtools.ieee.org/m/209739
X-ALT-DESC:Description: &lt;br /&gt;&lt;p&gt;&lt;span style=&quot;color: #0000ff\;&quot;&gt;&lt;strong&gt;Ple
 ase come to enjoy our Holiday Banquet\,&amp;nbsp\;&lt;/strong&gt;&lt;/span&gt;&lt;span style=
 &quot;color: #0000ff\;&quot;&gt;&lt;strong&gt;Delicious Food\, Good Wine\, Pleasant Companies
 \, Stimulating Keynote&amp;nbsp\;&lt;/strong&gt;&lt;/span&gt;&lt;span style=&quot;color: #0000ff\;
 &quot;&gt;&lt;strong&gt;and Inspiring Discussions&amp;hellip\;..&lt;/strong&gt;&lt;/span&gt;&lt;/p&gt;\n&lt;p&gt;&lt;st
 rong&gt;Keynote: &lt;/strong&gt;&lt;strong&gt;TBD&lt;/strong&gt;&lt;/p&gt;\n&lt;p&gt;&lt;span style=&quot;color: #f
 f6600\;&quot;&gt;The event will be held at Mandarin Buffet and Grill. There are ov
 er 800 delectable dishes for your pleasure\,&lt;/span&gt;&lt;/p&gt;\n&lt;p&gt;&lt;span style=&quot;c
 olor: #ff6600\;&quot;&gt;&amp;nbsp\; &amp;nbsp\;Mongolian bar\, sushi\, crab\, steamers\, 
 seafood\, dessert\, salad\, chocolate fountain\, ice cream and more....&lt;/s
 pan&gt;&lt;/p&gt;&lt;br /&gt;&lt;br /&gt;Agenda: &lt;br /&gt;&lt;p&gt;December 4th\, 2019&lt;/p&gt;\n&lt;p&gt;6 pm&amp;nbsp
 \; Reception&lt;/p&gt;\n&lt;p&gt;6:30 pm Dinner&lt;/p&gt;\n&lt;p&gt;7:30 pm Keynote&lt;/p&gt;
END:VEVENT
END:VCALENDAR

