BEGIN:VCALENDAR
VERSION:2.0
PRODID:IEEE vTools.Events//EN
CALSCALE:GREGORIAN
BEGIN:VTIMEZONE
TZID:America/New_York
BEGIN:DAYLIGHT
DTSTART:20200308T030000
TZOFFSETFROM:-0500
TZOFFSETTO:-0400
RRULE:FREQ=YEARLY;BYDAY=2SU;BYMONTH=3
TZNAME:EDT
END:DAYLIGHT
BEGIN:STANDARD
DTSTART:20201101T010000
TZOFFSETFROM:-0400
TZOFFSETTO:-0500
RRULE:FREQ=YEARLY;BYDAY=1SU;BYMONTH=11
TZNAME:EST
END:STANDARD
END:VTIMEZONE
BEGIN:VEVENT
DTSTAMP:20200404T052223Z
UID:BE138B86-6E2B-4283-AC59-6E9DA89729BC
DTSTART;TZID=America/New_York:20200411T100000
DTEND;TZID=America/New_York:20200411T160000
DESCRIPTION:Rambotics pits college students and teams against each other in
  robotic time trials. Teams compete on several of courses - line-following
  and maze/obstacle course\, and a new drag strip! Let the fastest robot wi
 n.\n\nRoom: Atrium\, Bldg: VCU East Engineering Hall\, 401 W. Main Street\
 , Richmond\, Virginia\, United States\, 23284
LOCATION:Room: Atrium\, Bldg: VCU East Engineering Hall\, 401 W. Main Stree
 t\, Richmond\, Virginia\, United States\, 23284
ORGANIZER:andy.fabian@ieee.org
SEQUENCE:3
SUMMARY:Rambotics 2020 Robotics Competition-CANCELLED
URL;VALUE=URI:https://events.vtools.ieee.org/m/209847
X-ALT-DESC:Description: &lt;br /&gt;&lt;p&gt;Rambotics pits college students and teams 
 against each other in robotic time trials.&amp;nbsp\; Teams compete on several
  of courses - line-following and maze/obstacle course\, and a new drag str
 ip!&amp;nbsp\; Let the fastest robot win.&lt;/p&gt;
END:VEVENT
END:VCALENDAR

