BEGIN:VCALENDAR
VERSION:2.0
PRODID:IEEE vTools.Events//EN
CALSCALE:GREGORIAN
BEGIN:VTIMEZONE
TZID:Australia/NSW
BEGIN:DAYLIGHT
DTSTART:20191006T030000
TZOFFSETFROM:+1000
TZOFFSETTO:+1100
RRULE:FREQ=YEARLY;BYDAY=1SU;BYMONTH=10
TZNAME:AEDT
END:DAYLIGHT
BEGIN:STANDARD
DTSTART:20200405T020000
TZOFFSETFROM:+1100
TZOFFSETTO:+1000
RRULE:FREQ=YEARLY;BYDAY=1SU;BYMONTH=4
TZNAME:AEST
END:STANDARD
END:VTIMEZONE
BEGIN:VEVENT
DTSTAMP:20191203T004250Z
UID:B20BFD70-579C-4A3B-A956-6EF38D37A007
DTSTART;TZID=Australia/NSW:20191119T110000
DTEND;TZID=Australia/NSW:20191119T130000
DESCRIPTION:The IEEE UOW Student Branch would like to invite you to the Ann
 ual General Meeting and End of Year Party 2019 .\n\n2019 has been an excel
 lent year for IEEE UOW Student Branch in many ways. It&#39;s time to celebrate
  all these achievements and to hand over the responsibilities to a new com
 mittee to achieve more in coming years.\n\nThe IEEEXtreeme certificates an
 d prizes will be awarded during the AGM.\n\nTherefore\, the Annual General
  Meeting and End of Year Party will held on Tuesday\, 19th of November fro
 m 11.00 am at 6-222. Lunch and drinks will be provided.\n\nPlease register
  before 12.00 pm Monday the 18th via the following link for the event for 
 catering purposes.\nhttps://docs.google.com/forms/d/e/1FAIpQLSd9tepUCAfdKt
 NzslwdOg4LIFuYXXe2YJqBKl-pXH3gjOK1cg/viewform?usp=sf_link\n\nBldg: TBA\, N
 orthfields Ave\, Wollongong\, New South Wales\, Australia\, 2522
LOCATION:Bldg: TBA\, Northfields Ave\, Wollongong\, New South Wales\, Austr
 alia\, 2522
ORGANIZER:pit289@uowmail.edu.au
SEQUENCE:4
SUMMARY:IEEE UOW Student Branch AGM 2019
URL;VALUE=URI:https://events.vtools.ieee.org/m/210414
X-ALT-DESC:Description: &lt;br /&gt;&lt;p&gt;The&amp;nbsp\;IEEE UOW Student Branch&amp;nbsp\;wo
 uld like to invite you to the Annual General Meeting and End of Year Party
  2019 .&lt;br /&gt;&lt;br /&gt;2019 has been an excellent year for IEEE UOW Student Br
 anch in many ways. It&#39;s time to celebrate all these achievements and to ha
 nd over the responsibilities to a new committee to achieve more in coming 
 years.&lt;/p&gt;\n&lt;p&gt;&amp;nbsp\;&lt;/p&gt;\n&lt;p&gt;The IEEEXtreeme certificates and prizes wil
 l be awarded during the AGM.&lt;br /&gt;&lt;br /&gt;Therefore\, the Annual General Mee
 ting and End of Year Party will held on Tuesday\, 19th of November from 11
 .00 am at 6-222. Lunch and drinks will be provided.&lt;br /&gt;&lt;br /&gt;Please regi
 ster before 12.00 pm Monday the 18th via the following link for the event 
 for catering purposes.&lt;/p&gt;\n&lt;div dir=&quot;ltr&quot;&gt;&lt;a id=&quot;LPlnk181883&quot; href=&quot;https
 ://docs.google.com/forms/d/e/1FAIpQLSd9tepUCAfdKtNzslwdOg4LIFuYXXe2YJqBKl-
 pXH3gjOK1cg/viewform?usp=sf_link&quot; target=&quot;_blank&quot; rel=&quot;noopener noreferrer
 &quot; data-auth=&quot;NotApplicable&quot;&gt;https://docs.google.com/forms/d/e/1FAIpQLSd9te
 pUCAfdKtNzslwdOg4LIFuYXXe2YJqBKl-pXH3gjOK1cg/viewform?usp=sf_link&lt;/a&gt;&lt;/div
 &gt;\n&lt;div dir=&quot;ltr&quot;&gt;&amp;nbsp\;&lt;/div&gt;\n&lt;div dir=&quot;ltr&quot;&gt;&lt;br /&gt;&lt;br /&gt;&lt;/div&gt;
END:VEVENT
END:VCALENDAR

