BEGIN:VCALENDAR
VERSION:2.0
PRODID:IEEE vTools.Events//EN
CALSCALE:GREGORIAN
BEGIN:VTIMEZONE
TZID:Europe/Prague
BEGIN:DAYLIGHT
DTSTART:20200329T030000
TZOFFSETFROM:+0100
TZOFFSETTO:+0200
RRULE:FREQ=YEARLY;BYDAY=-1SU;BYMONTH=3
TZNAME:CEST
END:DAYLIGHT
BEGIN:STANDARD
DTSTART:20191027T020000
TZOFFSETFROM:+0200
TZOFFSETTO:+0100
RRULE:FREQ=YEARLY;BYDAY=-1SU;BYMONTH=10
TZNAME:CET
END:STANDARD
END:VTIMEZONE
BEGIN:VEVENT
DTSTAMP:20200224T072616Z
UID:231D5A28-2DC2-4D88-AB69-A14914D1066A
DTSTART;TZID=Europe/Prague:20191206T130000
DTEND;TZID=Europe/Prague:20191206T190000
DESCRIPTION:The upcoming annual meeting of the IEEE Czechoslovakia Section 
 will continue with the traditional gathering of all members\, volunteers a
 nd section committee. Besides the reporting of section activities\, there 
 will be an opportunity to discuss all topics related to IEEE. The meeting 
 will start with the laboratory tour of the Regional Innovation Center of E
 lectrical Engineering a the reception is planned at the end of the meeting
 .\n\nAll the IEEE members are very welcomed (IEEE student member\, graduat
 e student member\, member\, higher grade members\, associate member) The r
 egistration is opened to December 2nd.\n\nAgenda: \n11:00: IEEE Czechoslov
 akia Section ExCom\n\n13:00: Laboratory Tour\n\n16:00: Welcome Speech\n\n1
 6:15: IEEE and Region 8 News\, František Mach (Section Chair)\n\n16:25: R
 eport of IEEE Czechoslovakia Section\, František Mach (Section Chair)\, J
 an Sistek (Section Treasurer)\n\n17:00: Dinner &amp; Discussion\n\n19:00: End 
 of the meeting\n\nBldg: Regional Innovation Centre for Electrical Engineer
 ing\, Univerzitní 26\, Pilsen\, Czech Republic\, Czech Republic\, 30100
LOCATION:Bldg: Regional Innovation Centre for Electrical Engineering\, Univ
 erzitní 26\, Pilsen\, Czech Republic\, Czech Republic\, 30100
ORGANIZER:fmach@rice.zcu.cz
SEQUENCE:7
SUMMARY:IEEE Czechoslovakia Section Annual Meeting 2019
URL;VALUE=URI:https://events.vtools.ieee.org/m/211330
X-ALT-DESC:Description: &lt;br /&gt;&lt;p&gt;The upcoming annual meeting of the IEEE Cz
 echoslovakia Section will continue with the traditional gathering of all m
 embers\, volunteers and section committee. Besides the reporting of sectio
 n activities\, there will be an opportunity to discuss all topics related 
 to IEEE. The meeting will start with the laboratory tour of the Regional I
 nnovation Center of Electrical Engineering a the reception is planned at t
 he end of the meeting.&lt;/p&gt;\n&lt;p&gt;All the IEEE members are very welcomed (IEE
 E student member\, graduate student member\, member\, higher grade members
 \, associate member) The registration is opened to December 2nd.&lt;/p&gt;&lt;br /&gt;
 &lt;br /&gt;Agenda: &lt;br /&gt;&lt;p&gt;11:00: IEEE Czechoslovakia Section ExCom&lt;/p&gt;\n&lt;p&gt;13
 :00: Laboratory Tour&lt;/p&gt;\n&lt;p&gt;16:00: Welcome Speech&lt;/p&gt;\n&lt;p&gt;16:15: IEEE and
  Region 8 News\, Franti&amp;scaron\;ek Mach (Section Chair)&lt;/p&gt;\n&lt;p&gt;16:25: Rep
 ort of IEEE Czechoslovakia Section\, Franti&amp;scaron\;ek Mach (Section Chair
 )\, Jan Sistek (Section Treasurer)&lt;/p&gt;\n&lt;p&gt;17:00: Dinner &amp;amp\; Discussion
 &lt;/p&gt;\n&lt;p&gt;19:00: End of the meeting&lt;/p&gt;
END:VEVENT
END:VCALENDAR

