BEGIN:VCALENDAR
VERSION:2.0
PRODID:IEEE vTools.Events//EN
CALSCALE:GREGORIAN
BEGIN:VTIMEZONE
TZID:PST8PDT
BEGIN:DAYLIGHT
DTSTART:20200308T030000
TZOFFSETFROM:-0800
TZOFFSETTO:-0700
RRULE:FREQ=YEARLY;BYDAY=2SU;BYMONTH=3
TZNAME:PDT
END:DAYLIGHT
BEGIN:STANDARD
DTSTART:20191103T010000
TZOFFSETFROM:-0700
TZOFFSETTO:-0800
RRULE:FREQ=YEARLY;BYDAY=1SU;BYMONTH=11
TZNAME:PST
END:STANDARD
END:VTIMEZONE
BEGIN:VEVENT
DTSTAMP:20191224T152144Z
UID:51D829E7-63C0-4C07-BF03-56DB606B1DA4
DTSTART;TZID=PST8PDT:20200105T170000
DTEND;TZID=PST8PDT:20200105T200000
DESCRIPTION:The P2023 Entity based project face-to-face kick-off meeting is
  being held during the CES sponsored IEEE International Conference on Cons
 umer Electronics (ICCE 2020) at the Tuscany Suites &amp; Casino in Las Vegas\,
  NV.\n\nTo confirm if your company is a corporate member\, please view our
  corporate membership index here:\n\nhttps://standards.ieee.org/about/corp
 chan/mbrs1.html\n\nPlease click on the link below to reserve a hotel room 
 at the Tuscany Suites &amp; Casino\, Las Vegas\, NV. There is a special rate f
 or attendees while supplies last.\n\nhttp://www.icce.org/icce-2019-interna
 tional-conference-on-consumer-electronics/icce-2019-registration-2/icce-20
 19-venue-2-2/\n\nMeeting Room: Firenze\n\nTimezone: PST/Las Vegas\n\nRoom:
  Firenze\, Bldg: Tuscany Suites and Casino\, 255 E. Flamingo Road\, Las Ve
 gas\, Nevada\, United States\, 89169
LOCATION:Room: Firenze\, Bldg: Tuscany Suites and Casino\, 255 E. Flamingo 
 Road\, Las Vegas\, Nevada\, United States\, 89169
ORGANIZER:v.lalitte@ieee.org
SEQUENCE:10
SUMMARY:P2023 Face to Face Kick-off Mtg
URL;VALUE=URI:https://events.vtools.ieee.org/m/211619
X-ALT-DESC:Description: &lt;br /&gt;&lt;p&gt;&amp;nbsp\;&lt;/p&gt;\n&lt;div&gt;\n&lt;p&gt;The P2023 Entity ba
 sed project face-to-face kick-off meeting is being held during the CES spo
 nsored IEEE International Conference on Consumer Electronics (ICCE 2020) a
 t the Tuscany Suites &amp;amp\; Casino in Las Vegas\, NV.&lt;/p&gt;\n&lt;/div&gt;\n&lt;div&gt;\n
 &lt;p&gt;&amp;nbsp\;&lt;/p&gt;\n&lt;/div&gt;\n&lt;div&gt;\n&lt;p&gt;To confirm if your company is a corporat
 e member\, please view our corporate membership index here:&amp;nbsp\;&lt;/p&gt;\n&lt;/
 div&gt;\n&lt;div&gt;\n&lt;p&gt;&lt;a title=&quot;Corporate Membership Index&quot; href=&quot;https://standa
 rds.ieee.org/about/corpchan/mbrs1.html&quot;&gt;https://standards.ieee.org/about/c
 orpchan/mbrs1.html&lt;/a&gt;&lt;/p&gt;\n&lt;/div&gt;\n&lt;div&gt;\n&lt;p&gt;&amp;nbsp\;&lt;/p&gt;\n&lt;/div&gt;\n&lt;div&gt;\n
 &lt;p&gt;Please click on the link below to reserve a hotel room at the Tuscany S
 uites &amp;amp\; Casino\, Las Vegas\, NV. There is a special rate for attendee
 s while supplies last.&lt;/p&gt;\n&lt;/div&gt;\n&lt;div&gt;\n&lt;p&gt;&lt;a title=&quot;Hotel Reservation&quot;
  href=&quot;http://www.icce.org/icce-2019-international-conference-on-consumer-
 electronics/icce-2019-registration-2/icce-2019-venue-2-2/&quot;&gt;http://www.icce
 .org/icce-2019-international-conference-on-consumer-electronics/icce-2019-
 registration-2/icce-2019-venue-2-2/&lt;/a&gt;&lt;/p&gt;\n&lt;/div&gt;\n&lt;div&gt;\n&lt;p&gt;&amp;nbsp\;&lt;/p&gt;
 \n&lt;/div&gt;\n&lt;div&gt;\n&lt;p&gt;Meeting Room: Firenze&lt;/p&gt;\n&lt;p&gt;Timezone: PST/Las Vegas&lt;
 /p&gt;\n&lt;/div&gt;
END:VEVENT
END:VCALENDAR

