BEGIN:VCALENDAR
VERSION:2.0
PRODID:IEEE vTools.Events//EN
CALSCALE:GREGORIAN
BEGIN:VTIMEZONE
TZID:Asia/Kuala_Lumpur
BEGIN:DAYLIGHT
DTSTART:20380119T111407
TZOFFSETFROM:+0800
TZOFFSETTO:+0800
RRULE:FREQ=YEARLY;BYDAY=3TU;BYMONTH=1
TZNAME:+08
END:DAYLIGHT
BEGIN:STANDARD
DTSTART:19820101T000000
TZOFFSETFROM:+0730
TZOFFSETTO:+0800
RRULE:FREQ=YEARLY;BYDAY=1FR;BYMONTH=1
TZNAME:+08
END:STANDARD
END:VTIMEZONE
BEGIN:VEVENT
DTSTAMP:20191121T191246Z
UID:FFFB46E4-0A0B-4420-9B9F-8C18B4EBA993
DTSTART;TZID=Asia/Kuala_Lumpur:20190119T120000
DTEND;TZID=Asia/Kuala_Lumpur:20190119T124500
DESCRIPTION:1st Excomm Meeting\n\nDorsett Putrajaya\, Putrajaya\, Wilayah P
 ersekutuan\, Malaysia
LOCATION:Dorsett Putrajaya\, Putrajaya\, Wilayah Persekutuan\, Malaysia
ORGANIZER:amranmr@upm.edu.my
SEQUENCE:0
SUMMARY:1st Excomm Meeting
URL;VALUE=URI:https://events.vtools.ieee.org/m/211623
X-ALT-DESC:Description: &lt;br /&gt;&lt;p&gt;1st Excomm Meeting&lt;/p&gt;
END:VEVENT
END:VCALENDAR

