BEGIN:VCALENDAR
VERSION:2.0
PRODID:IEEE vTools.Events//EN
CALSCALE:GREGORIAN
BEGIN:VTIMEZONE
TZID:US/Central
BEGIN:DAYLIGHT
DTSTART:20200308T030000
TZOFFSETFROM:-0600
TZOFFSETTO:-0500
RRULE:FREQ=YEARLY;BYDAY=2SU;BYMONTH=3
TZNAME:CDT
END:DAYLIGHT
BEGIN:STANDARD
DTSTART:20191103T010000
TZOFFSETFROM:-0500
TZOFFSETTO:-0600
RRULE:FREQ=YEARLY;BYDAY=1SU;BYMONTH=11
TZNAME:CST
END:STANDARD
END:VTIMEZONE
BEGIN:VEVENT
DTSTAMP:20200928T133640Z
UID:0928D8A3-797A-4CF9-A43B-0609CB133FB8
DTSTART;TZID=US/Central:20200122T173000
DTEND;TZID=US/Central:20200122T200000
DESCRIPTION:Topic: Tour of Advanced Control Panels\, Inc. –\n\nThe IEEE C
 alumet Section will be participating in a tour of local company that does 
 design\, building and Installation of Quality Instrumentation and Flow Con
 trol Systems!\n\nTheir main office is in Portage IN\, but they have expand
 ed their production with offices in Columbus\, OH and Frankfort\, KY.\n\nC
 o-sponsored by: Toni Joseski\n\n1845 Willowcreek Rd\, Portage\, Indiana\, 
 United States
LOCATION:1845 Willowcreek Rd\, Portage\, Indiana\, United States
ORGANIZER:tjoseski@nisource.com
SEQUENCE:4
SUMMARY:Topic: Tour of ACP – Advanced Control Panels\, Inc. Portage IN
URL;VALUE=URI:https://events.vtools.ieee.org/m/214908
X-ALT-DESC:Description: &lt;br /&gt;&lt;p&gt;&amp;nbsp\;&lt;strong&gt;Topic: Tour of Advanced Con
 trol Panels\, Inc. &amp;ndash\; &lt;/strong&gt;&lt;/p&gt;\n&lt;p&gt;&lt;strong&gt;&amp;nbsp\;&lt;/strong&gt;The 
 IEEE Calumet Section will be participating in a tour of local company that
  does design\, building and Installation of Quality Instrumentation and Fl
 ow Control Systems!&lt;/p&gt;\n&lt;p&gt;Their main office is in Portage IN\, but they 
 have expanded their production with offices in Columbus\, OH and Frankfort
 \, KY.&lt;/p&gt;
END:VEVENT
END:VCALENDAR

