BEGIN:VCALENDAR
VERSION:2.0
PRODID:IEEE vTools.Events//EN
CALSCALE:GREGORIAN
BEGIN:VTIMEZONE
TZID:America/Chicago
BEGIN:DAYLIGHT
DTSTART:20200308T030000
TZOFFSETFROM:-0600
TZOFFSETTO:-0500
RRULE:FREQ=YEARLY;BYDAY=2SU;BYMONTH=3
TZNAME:CDT
END:DAYLIGHT
BEGIN:STANDARD
DTSTART:20191103T010000
TZOFFSETFROM:-0500
TZOFFSETTO:-0600
RRULE:FREQ=YEARLY;BYDAY=1SU;BYMONTH=11
TZNAME:CST
END:STANDARD
END:VTIMEZONE
BEGIN:VEVENT
DTSTAMP:20200124T214907Z
UID:49E2455C-5828-486A-8358-F2F3F917B940
DTSTART;TZID=America/Chicago:20200121T173000
DTEND;TZID=America/Chicago:20200121T190000
DESCRIPTION:A Variable Frequency Drive (VFD) can provide advantages when pr
 operly installed and configured. However\, to many\, they are a mysterious
  black box. This talk will help remove the mystery. Topics will include:\n
 \n- How to use the available VFD control system settings to maximize energ
 y savings\n- When and when not to replace your motor with a VFD retrofit\n
 - Simple rules for a successful VFD installation\n\nSpeaker(s): Jeff\, \n\
 nRoom: 2535\, Bldg: Engineering Hall\, 1415 Engineering Drive\, Madison\, 
 Wisconsin\, United States\, 53706
LOCATION:Room: 2535\, Bldg: Engineering Hall\, 1415 Engineering Drive\, Mad
 ison\, Wisconsin\, United States\, 53706
ORGANIZER:michael.stemper@gmail.com
SEQUENCE:5
SUMMARY:Opening the black box of Variable Frequency Drives
URL;VALUE=URI:https://events.vtools.ieee.org/m/215895
X-ALT-DESC:Description: &lt;br /&gt;&lt;p&gt;A Variable Frequency Drive (VFD) can provi
 de advantages when properly installed and configured. However\, to many\, 
 they are a mysterious black box. This talk will help remove the mystery. T
 opics will include:&lt;/p&gt;\n&lt;p&gt;- How to use the available VFD control system 
 settings to maximize energy savings&lt;br /&gt;- When and when not to replace yo
 ur motor with a VFD retrofit&lt;br /&gt;- Simple rules for a successful VFD inst
 allation&lt;/p&gt;
END:VEVENT
END:VCALENDAR

