BEGIN:VCALENDAR
VERSION:2.0
PRODID:IEEE vTools.Events//EN
CALSCALE:GREGORIAN
BEGIN:VTIMEZONE
TZID:America/Denver
BEGIN:DAYLIGHT
DTSTART:20190310T030000
TZOFFSETFROM:-0700
TZOFFSETTO:-0600
RRULE:FREQ=YEARLY;BYDAY=2SU;BYMONTH=3
TZNAME:MDT
END:DAYLIGHT
BEGIN:STANDARD
DTSTART:20191103T010000
TZOFFSETFROM:-0600
TZOFFSETTO:-0700
RRULE:FREQ=YEARLY;BYDAY=1SU;BYMONTH=11
TZNAME:MST
END:STANDARD
END:VTIMEZONE
BEGIN:VEVENT
DTSTAMP:20191229T233907Z
UID:5F099C39-4BFD-4794-B98E-166366BD0B34
DTSTART;TZID=America/Denver:20191025T110000
DTEND;TZID=America/Denver:20191025T121500
DESCRIPTION:Magnetic nanoparticles have emerged as exciting materials with 
 applications ranging from data storage and catalysis to biomedical imaging
  and biomedicine. For each unique application\, the efficacy of the partic
 les is highly dependent on the quality of the particles themselves. Precis
 e control of particle synthesis is needed to engineer monodispersed partic
 les with uniform shape and magnetic properties. I will discuss the relatio
 nship between synthetic pathways for nanoparticle formation and their fina
 l size\, shape and magnetic properties. I will also describe how advanced 
 characterization techniques (atomically resolved STEM\, polarized neutron 
 scattering\, magnetometry and simulation) can be used to understand nanopa
 rticle formation pathways. Finally\, I will discuss biomedical application
 s of magnetic nanoparticles where the nanoscale composition of particles i
 s reflected in MRI contrast generation.\n\nCo-sponsored by: UCCS\n\nSpeake
 r(s): Samuel Oberdick \, \n\nRoom: A204\, Bldg: Osborne\, 1420 Austin Bluf
 fs Pkwy\, Colorado Springs\, Colorado\, United States\, 80918
LOCATION:Room: A204\, Bldg: Osborne\, 1420 Austin Bluffs Pkwy\, Colorado Sp
 rings\, Colorado\, United States\, 80918
ORGANIZER:zcelinsk@uccs.edu
SEQUENCE:0
SUMMARY:Magnetic Nanoparticles Form Follows Function
URL;VALUE=URI:https://events.vtools.ieee.org/m/216266
X-ALT-DESC:Description: &lt;br /&gt;&lt;p&gt;Magnetic nanoparticles have emerged as exc
 iting materials with applications ranging from data storage and catalysis 
 to biomedical imaging and biomedicine. For each unique application\, the e
 fficacy of the particles is highly dependent on the quality of the particl
 es themselves. Precise control of particle synthesis is needed to engineer
  monodispersed particles with uniform shape and magnetic properties. I wil
 l discuss the relationship between synthetic pathways for nanoparticle for
 mation and their final size\, shape and magnetic properties. I will also d
 escribe how advanced characterization techniques (atomically resolved STEM
 \, polarized neutron scattering\, magnetometry and simulation) can be used
  to understand nanoparticle formation pathways. Finally\, I will discuss b
 iomedical applications of magnetic nanoparticles where the nanoscale compo
 sition of particles is reflected in MRI contrast generation.&lt;/p&gt;
END:VEVENT
END:VCALENDAR

