BEGIN:VCALENDAR
VERSION:2.0
PRODID:IEEE vTools.Events//EN
CALSCALE:GREGORIAN
BEGIN:VTIMEZONE
TZID:PST8PDT
BEGIN:DAYLIGHT
DTSTART:20200308T030000
TZOFFSETFROM:-0800
TZOFFSETTO:-0700
RRULE:FREQ=YEARLY;BYDAY=2SU;BYMONTH=3
TZNAME:PDT
END:DAYLIGHT
BEGIN:STANDARD
DTSTART:20191103T010000
TZOFFSETFROM:-0700
TZOFFSETTO:-0800
RRULE:FREQ=YEARLY;BYDAY=1SU;BYMONTH=11
TZNAME:PST
END:STANDARD
END:VTIMEZONE
BEGIN:VEVENT
DTSTAMP:20200129T190346Z
UID:9BB502A5-D6D7-4C79-BFFC-2C5193F15537
DTSTART;TZID=PST8PDT:20200130T080000
DTEND;TZID=PST8PDT:20200201T170000
DESCRIPTION:IEEE SA P2020 Automotive Image Quality Working Group Face to Fa
 ce Meeting including subgroup technical workshops and official face-to-fac
 e meeting. The meeting is kindly hosted by On Semiconductor.\n\nThe non-at
 tending participants&#39; registration is for participants who will not attend
  in person but will participate using WebEx. The email address that you us
 e during registration will be used to provide you with a Webex invite prio
 r to the commencement of the event.\n\nON Semiconductor\, 3001 Stender Way
 \, Santa Clara\, California\, United States\, 95054
LOCATION:ON Semiconductor\, 3001 Stender Way\, Santa Clara\, California\, U
 nited States\, 95054
ORGANIZER:patrick.denny@valeo.com
SEQUENCE:2
SUMMARY:IEEE SA P2020 Automotive Image Quality Working Group Face to Face M
 eeting
URL;VALUE=URI:https://events.vtools.ieee.org/m/217680
X-ALT-DESC:Description: &lt;br /&gt;&lt;p&gt;IEEE SA P2020 Automotive Image Quality Wor
 king Group Face to Face Meeting including subgroup technical workshops and
  official face-to-face meeting. The meeting is kindly hosted by On Semicon
 ductor.&lt;/p&gt;\n&lt;p&gt;The non-attending participants&#39;&amp;nbsp\;registration&amp;nbsp\;i
 s for participants who will not attend in person but will participate usin
 g WebEx. The email address that you use during registration will be used t
 o provide you with a Webex invite prior to the commencement of the event.&lt;
 /p&gt;\n&lt;div class=&quot;gmail_default&quot;&gt;\n&lt;div class=&quot;gmail_default&quot;&gt;&amp;nbsp\;&lt;/div&gt;
 \n&lt;/div&gt;
END:VEVENT
END:VCALENDAR

