BEGIN:VCALENDAR
VERSION:2.0
PRODID:IEEE vTools.Events//EN
CALSCALE:GREGORIAN
BEGIN:VTIMEZONE
TZID:America/New_York
BEGIN:DAYLIGHT
DTSTART:20190310T030000
TZOFFSETFROM:-0500
TZOFFSETTO:-0400
RRULE:FREQ=YEARLY;BYDAY=2SU;BYMONTH=3
TZNAME:EDT
END:DAYLIGHT
BEGIN:STANDARD
DTSTART:20191103T010000
TZOFFSETFROM:-0400
TZOFFSETTO:-0500
RRULE:FREQ=YEARLY;BYDAY=1SU;BYMONTH=11
TZNAME:EST
END:STANDARD
END:VTIMEZONE
BEGIN:VEVENT
DTSTAMP:20200316T210217Z
UID:4A9CCCA2-749F-43E4-A4EC-F338573DFBC8
DTSTART;TZID=America/New_York:20191003T113000
DTEND;TZID=America/New_York:20191003T120000
DESCRIPTION:Metamaterial\n\nCo-sponsored by: AP/MTT Chapter\n\nSpeaker(s): 
 Dan Schwarz\, Ziang Gao  \n\nAgenda: \nREGISTRAION IS FREE AND COMPLIMENTA
 RY LUNCH SERVED FOR IEEE MEMBERS AND NON-MEMBERS\n\nHanover Manor\, 16 Eag
 le Rock Ave\, E. Hanover\, New Jersey\, United States\, 07936.
LOCATION:Hanover Manor\, 16 Eagle Rock Ave\, E. Hanover\, New Jersey\, Unit
 ed States\, 07936.
ORGANIZER:akpoddar@ieee.org
SEQUENCE:2
SUMMARY:Designing a Closed Loop Circuit for Power Electronics 
URL;VALUE=URI:https://events.vtools.ieee.org/m/219152
X-ALT-DESC:Description: &lt;br /&gt;&lt;p&gt;Metamaterial&lt;/p&gt;\n&lt;p&gt;&amp;nbsp\;&lt;/p&gt;&lt;br /&gt;&lt;br 
 /&gt;Agenda: &lt;br /&gt;&lt;p&gt;&lt;span style=&quot;display: inline !important\; float: none\;
  background-color: #ffffff\; color: #000000\; cursor: text\; font-family: 
 Verdana\,Arial\,Helvetica\,sans-serif\; font-size: 14px\; font-style: norm
 al\; font-variant: normal\; font-weight: 400\; letter-spacing: normal\; or
 phans: 2\; text-align: left\; text-decoration: none\; text-indent: 0px\; t
 ext-transform: none\; -webkit-text-stroke-width: 0px\; white-space: normal
 \; word-spacing: 0px\;&quot;&gt;&amp;nbsp\;REGISTRAION IS FREE AND COMPLIMENTARY LUNCH
  SERVED FOR IEEE MEMBERS AND NON-MEMBERS&lt;/span&gt;&lt;/p&gt;
END:VEVENT
END:VCALENDAR

