BEGIN:VCALENDAR
VERSION:2.0
PRODID:IEEE vTools.Events//EN
CALSCALE:GREGORIAN
BEGIN:VTIMEZONE
TZID:Australia/Sydney
BEGIN:DAYLIGHT
DTSTART:20201004T030000
TZOFFSETFROM:+1000
TZOFFSETTO:+1100
RRULE:FREQ=YEARLY;BYDAY=1SU;BYMONTH=10
TZNAME:AEDT
END:DAYLIGHT
BEGIN:STANDARD
DTSTART:20200405T020000
TZOFFSETFROM:+1100
TZOFFSETTO:+1000
RRULE:FREQ=YEARLY;BYDAY=1SU;BYMONTH=4
TZNAME:AEST
END:STANDARD
END:VTIMEZONE
BEGIN:VEVENT
DTSTAMP:20200123T035133Z
UID:A762ABE1-5DE2-4480-96F1-2ABBFCDD9416
DTSTART;TZID=Australia/Sydney:20200519T083000
DTEND;TZID=Australia/Sydney:20200522T170000
DESCRIPTION:MAKING YOUR WORLD\nCOMPATIBLE\nSAVE WITH EARLY BIRD REGISTRATIO
 N - ENDS 17 MARCH\nLeading industry exhibitors and experts from the EMC co
 mmunity will unite in\nSydney this May to explore the challenges facing th
 e electromagnetic environment.\nAPEMC will offer a rich and diverse scient
 ific program and will serve as an exchange\nplatform for both academia and
  industry.\nAPEMC is the largest event of its type in the Asia Pacific reg
 ion. Register early to\navoid missing out.\nAPEMC2020.ORG\n\nCo-sponsored 
 by: Institute of Engineers\, Australia\n\nSpeaker(s): Dr. Robert Scully\, 
 Dr. William Young\n\nAgenda: \nAdvance Program is available at https://ape
 mc2020.org/program/advance-program/\n\n HILTON SYDNEY \, 488 GEORGE STREET
 \, Sydney\, New South Wales\, Australia\, 2000
LOCATION: HILTON SYDNEY \, 488 GEORGE STREET\, Sydney\, New South Wales\, A
 ustralia\, 2000
ORGANIZER:apemc2020@engineersaustralia.org.au
SEQUENCE:2
SUMMARY:2020 ASIA PACIFIC EMC SYMPOSIUM
URL;VALUE=URI:https://events.vtools.ieee.org/m/219328
X-ALT-DESC:Description: &lt;br /&gt;&lt;p&gt;&lt;span class=&quot;fontstyle0&quot;&gt;MAKING YOUR WORLD
 &lt;br /&gt;COMPATIBLE&lt;br /&gt;&lt;/span&gt;&lt;span class=&quot;fontstyle2&quot;&gt;SAVE WITH EARLY BIRD
  REGISTRATION - ENDS 17 MARCH&lt;br /&gt;&lt;/span&gt;&lt;span class=&quot;fontstyle3&quot;&gt;Leading
  industry exhibitors and experts from the EMC community will unite in&lt;br /
 &gt;Sydney this May to explore the challenges facing the electromagnetic envi
 ronment.&lt;br /&gt;APEMC will offer a rich and diverse scientific program and w
 ill serve as an exchange&lt;br /&gt;platform for both academia and industry.&lt;br 
 /&gt;APEMC is the largest event of its type in the Asia Pacific region. Regis
 ter early to&lt;br /&gt;avoid missing out.&lt;br /&gt;&lt;/span&gt;&lt;span class=&quot;fontstyle2&quot;&gt;
 APEMC2020.ORG&lt;/span&gt; &lt;/p&gt;&lt;br /&gt;&lt;br /&gt;Agenda: &lt;br /&gt;&lt;p&gt;Advance Program is a
 vailable at&amp;nbsp\;&lt;a href=&quot;https://apemc2020.org/program/advance-program/&quot;
 &gt;https://apemc2020.org/program/advance-program/&lt;/a&gt;&lt;/p&gt;
END:VEVENT
END:VCALENDAR

