BEGIN:VCALENDAR
VERSION:2.0
PRODID:IEEE vTools.Events//EN
CALSCALE:GREGORIAN
BEGIN:VTIMEZONE
TZID:America/New_York
BEGIN:DAYLIGHT
DTSTART:20200308T030000
TZOFFSETFROM:-0500
TZOFFSETTO:-0400
RRULE:FREQ=YEARLY;BYDAY=2SU;BYMONTH=3
TZNAME:EDT
END:DAYLIGHT
BEGIN:STANDARD
DTSTART:20191103T010000
TZOFFSETFROM:-0400
TZOFFSETTO:-0500
RRULE:FREQ=YEARLY;BYDAY=1SU;BYMONTH=11
TZNAME:EST
END:STANDARD
END:VTIMEZONE
BEGIN:VEVENT
DTSTAMP:20200406T031037Z
UID:C42ED0A7-1275-42B2-ACBF-F3F98AD43525
DTSTART;TZID=America/New_York:20200303T115500
DTEND;TZID=America/New_York:20200303T130000
DESCRIPTION:The monthly Rochester IEEE Executive Committee meeting brings t
 ogether all of the leaders of the Section\, Chapters\, and Groups.\n\nExCo
 m members: Please send your updates on past and upcoming events to [Paul L
 ee](mailto: ppklee@ieee.org) to be included on the agenda prior to the mee
 ting.\n\nWe review plans for upcoming Rochester meetings within our Sectio
 n\, Chapters\, and groups at this meeting. If you are looking to become mo
 re engaged in IEEE in the Rochester Section\, please plan on attending an 
 Excom meeting! These meetings are open to the general public and serve as 
 a great platform for networking with fellow engineers over lunch.\n\nWe ev
 en pick up part of the tab for lunch!!!! A full buffet lunch for just $5 f
 or all attendees (members and students)!\n\nCo-sponsored by: IEEE Rocheste
 r Section Chair\n\nAgenda: \nA. Section Officer Reports\n\n- Section Chair
  Report: [Eric Brown](mailto:eric.t.brown@ieee.org)\n- Section Vice-Chair 
 Report: [Cristian Linte](mailto:calbme@rit.edu)\n- Section Treasurer Repor
 t: [Harish Gupta](mailto:harish_gupta1@hotmail.com)\n- Section Secretary R
 eport: [Paul Lee](mailto:ppklee@ieee.org)\n\nB. Chapter Society and Group 
 Reports\n\n- Aerospace and Electronic Systems Society and Communications S
 ociety (AES10/COMM19): [Cristiano Tapparello](mailto:cristiano.tapparello@
 rochester.edu)\n- Computer Society and Computational Intelligence Society 
 (C16/CIS11): [Bo Yuan](mailto:Bo.yuan@rit.edu)\n- Electron Devices and Cir
 cuits and Systems: [Sean Rommel](mailto:slremc@rit.edu)\n- Engineering in 
 Medicine and Biology Society (EMB18): [Cristian Linte](mailto:christian.li
 nte@ieee.org)\n- Rochester/Binghamton/Buffalo/Ithaca/Syracuse Geoscience a
 nd Remote Sensing Society (GRS29): [Emmett Ientilucci](mailto:emmett@cis.r
 it.edu)\n- Life Members Group: [Mark Schrader](mailto:m.schrader@ieee.org)
 \n- Microwave Theory and Techniques Society / Antennas and Propagation Soc
 iety (MTT17/AP03): [Jayanti Venkataraman](mailto:jnveee@rit.edu)\n- Photon
 ics Society (PHO36): [Bruce Smith and](mailto:bwsemc@rit.edu)[Parsian K. M
 ohseni](mailto:pkmohseni@rit.edu)\n- Power and Energy Society / Industry A
 pplications Society (PE31/IA34): [Jean Kendrick](mailto:jeankendrick@ieee.
 org)\n- Signal Processing Society (SP01): [Ray Ptucha](mailto:rwpeec@rit.e
 du)\n- Technology Management Council (TM14): [Paul Lee](mailto:ppklee@ieee
 .org)\n- Young Professionals: [Eric Brown](mailto:eric.t.brown@gmail.com)\
 n\nC. Student Chapter Reports\n\n- Rochester Institute Of Technology: (New
  appointment needed)\n- University of Rochester: [Tom Howard](mailto:thowa
 rd@ece.rochester.edu)\n\nD. Committee Reports\n\n- Membership Report: [Bil
 l Fowlkes](mailto:wmyfowlkes@ieee.org%20)\n- Awards Report: [Jean Kendrick
 ](mailto:jeankendrick@ieee.org)\n- Electronic Communications Coordinator: 
 [Greg Gdowski](mailto:greg.gdowski@gmail.com)\n- Newsletter Report: [Howar
 d Bussey](mailto:howard@tixlers.com)\n- PACE Report: [Alex Loui](mailto:a.
 loui@ieee.org) and [Bruce Rubin](mailto:bruceieeerubin@yahoo.com)\n\nE. Li
 aison Reports\n\n- R1 Western Area Chair: [Joseph Ott](mailto:joseph.s.ott
 @gmail.com)\n- Rochester Engineering Society (RES) Report: [Greg Gdowski](
 mailto:greg.gdowski@gmail.com)\n- Rochester Council of Scientific Societie
 s (RCSS) Report: [William A. Brewer](mailto:wabrewer@ieee.org)\n\nF. Old B
 usiness\n\nG. New Business\n\nH. Open Discussion\n\nI. Adjournment\n\nBldg
 : China Buffet\, 3333 W. Henrietta Rd.\, Rochester\, New York\, United Sta
 tes\, 14623
LOCATION:Bldg: China Buffet\, 3333 W. Henrietta Rd.\, Rochester\, New York\
 , United States\, 14623
ORGANIZER:eric.t.brown@ieee.org
SEQUENCE:1
SUMMARY:Rochester Section EXCOM meeting - March 2020
URL;VALUE=URI:https://events.vtools.ieee.org/m/220439
X-ALT-DESC:Description: &lt;br /&gt;&lt;p&gt;&lt;span style=&quot;font-size: 10pt\;&quot;&gt;&lt;em&gt;&lt;stron
 g&gt;The monthly Rochester IEEE Executive Committee meeting brings together a
 ll of the leaders of the Section\, Chapters\, and Groups.&amp;nbsp\;&amp;nbsp\;&lt;/s
 trong&gt;&lt;/em&gt;&lt;/span&gt;&lt;/p&gt;\n&lt;p&gt;&lt;span style=&quot;color: #ff0000\; font-size: 14pt\;
 &quot;&gt;&lt;strong&gt;&lt;span style=&quot;text-decoration: underline\;&quot;&gt;ExCom members&lt;/span&gt;:
  &lt;/strong&gt;Please send your updates on past and upcoming events to &lt;a href=
 &quot;mailto: ppklee@ieee.org&quot; target=&quot;_blank&quot; rel=&quot;noopener&quot;&gt;Paul Lee&lt;/a&gt; to b
 e included on the agenda prior to the meeting.&lt;/span&gt;&lt;/p&gt;\n&lt;p&gt;We review pl
 ans for upcoming Rochester meetings within our&amp;nbsp\;Section\, Chapters\, 
 and groups at this meeting. &amp;nbsp\;If you are looking to become more engag
 ed in IEEE in the Rochester Section\, please plan on attending an Excom me
 eting! &amp;nbsp\;These meetings are open to the general public and serve as a
  great platform for networking with fellow engineers over lunch.&lt;/p&gt;\n&lt;p&gt;W
 e even pick up part of the tab for lunch!!!! &amp;nbsp\; A full buffet lunch f
 or just $5 for all attendees (members and students)!&amp;nbsp\;&lt;/p&gt;&lt;br /&gt;&lt;br /
 &gt;Agenda: &lt;br /&gt;&lt;p&gt;A. Section Officer Reports&lt;/p&gt;\n&lt;ul&gt;\n&lt;li&gt;Section Chair 
 Report:&amp;nbsp\;&lt;a href=&quot;mailto:eric.t.brown@ieee.org&quot;&gt;Eric Brown&lt;/a&gt;&lt;/li&gt;\n
 &lt;li&gt;Section Vice-Chair Report: &amp;nbsp\;&lt;a href=&quot;mailto:calbme@rit.edu&quot;&gt;Cris
 tian Linte&lt;/a&gt;&lt;/li&gt;\n&lt;li&gt;Section Treasurer Report:&amp;nbsp\;&lt;a href=&quot;mailto:h
 arish_gupta1@hotmail.com&quot;&gt;Harish Gupta&lt;/a&gt;&lt;/li&gt;\n&lt;li&gt;Section Secretary Rep
 ort:&amp;nbsp\;&lt;a href=&quot;mailto:ppklee@ieee.org&quot;&gt;Paul Lee&lt;/a&gt;&lt;/li&gt;\n&lt;/ul&gt;\n&lt;p&gt;B
 . Chapter Society and Group Reports&lt;/p&gt;\n&lt;ul&gt;\n&lt;li&gt;Aerospace and Electroni
 c Systems Society and Communications Society (AES10/COMM19):&amp;nbsp\;&lt;a href
 =&quot;mailto:cristiano.tapparello@rochester.edu&quot;&gt;Cristiano Tapparello&lt;/a&gt;&lt;/li&gt;
 \n&lt;li&gt;Computer Society and Computational Intelligence Society (C16/CIS11):
 &amp;nbsp\;&lt;a href=&quot;mailto:Bo.yuan@rit.edu&quot;&gt;Bo Yuan&lt;/a&gt;&lt;/li&gt;\n&lt;li&gt;Electron Dev
 ices and Circuits and Systems:&amp;nbsp\;&lt;a href=&quot;mailto:slremc@rit.edu&quot;&gt;Sean 
 Rommel&lt;/a&gt;&lt;/li&gt;\n&lt;li&gt;Engineering in Medicine and Biology Society (EMB18):&amp;
 nbsp\;&lt;a href=&quot;mailto:christian.linte@ieee.org&quot;&gt;Cristian Linte&lt;/a&gt;&lt;/li&gt;\n&lt;
 li&gt;Rochester/Binghamton/Buffalo/Ithaca/Syracuse Geoscience and Remote Sens
 ing Society (GRS29):&amp;nbsp\;&lt;a href=&quot;mailto:emmett@cis.rit.edu&quot;&gt;Emmett Ient
 ilucci&lt;/a&gt;&amp;nbsp\;&amp;nbsp\;&amp;nbsp\;&amp;nbsp\;&amp;nbsp\;&amp;nbsp\;&amp;nbsp\;&amp;nbsp\;&amp;nbsp\;&amp;
 nbsp\;&amp;nbsp\;&amp;nbsp\;&amp;nbsp\;&amp;nbsp\;&amp;nbsp\;&amp;nbsp\;&amp;nbsp\;&lt;/li&gt;\n&lt;li&gt;Life Mem
 bers Group:&amp;nbsp\;&lt;a href=&quot;mailto:m.schrader@ieee.org&quot;&gt;Mark Schrader&lt;/a&gt;&lt;/
 li&gt;\n&lt;li&gt;Microwave Theory and Techniques Society / Antennas and Propagatio
 n Society (MTT17/AP03):&amp;nbsp\;&lt;a href=&quot;mailto:jnveee@rit.edu&quot; target=&quot;_bla
 nk&quot; rel=&quot;noopener&quot;&gt;Jayanti Venkataraman&lt;/a&gt;&lt;/li&gt;\n&lt;li&gt;Photonics Society (P
 HO36):&amp;nbsp\;&lt;a href=&quot;mailto:bwsemc@rit.edu&quot;&gt;Bruce Smith and&amp;nbsp\;&lt;/a&gt;&lt;a 
 href=&quot;mailto:pkmohseni@rit.edu&quot; target=&quot;_blank&quot; rel=&quot;noopener&quot;&gt;Parsian K. 
 Mohseni&lt;/a&gt;&lt;/li&gt;\n&lt;li&gt;Power and Energy Society / Industry Applications Soc
 iety (PE31/IA34):&amp;nbsp\;&lt;a href=&quot;mailto:jeankendrick@ieee.org&quot;&gt;Jean Kendri
 ck&lt;/a&gt;&lt;/li&gt;\n&lt;li&gt;Signal Processing Society (SP01):&amp;nbsp\;&lt;a href=&quot;mailto:r
 wpeec@rit.edu&quot;&gt;Ray Ptucha&lt;/a&gt;&lt;/li&gt;\n&lt;li&gt;Technology Management Council (TM1
 4):&amp;nbsp\;&lt;a href=&quot;mailto:ppklee@ieee.org&quot;&gt;Paul Lee&lt;/a&gt;&lt;/li&gt;\n&lt;li&gt;Young Pr
 ofessionals: &lt;a href=&quot;mailto:eric.t.brown@gmail.com&quot;&gt;Eric Brown&lt;/a&gt;&lt;/li&gt;\n
 &lt;/ul&gt;\n&lt;p&gt;C. Student Chapter Reports&lt;/p&gt;\n&lt;ul&gt;\n&lt;li&gt;Rochester Institute Of
  Technology:&amp;nbsp\;(New appointment needed)&lt;/li&gt;\n&lt;li&gt;University of Roches
 ter:&amp;nbsp\;&lt;a href=&quot;mailto:thoward@ece.rochester.edu&quot;&gt;Tom Howard&lt;/a&gt;&lt;/li&gt;\
 n&lt;/ul&gt;\n&lt;p&gt;D. Committee Reports&amp;nbsp\;&lt;/p&gt;\n&lt;ul&gt;\n&lt;li&gt;Membership Report: &lt;
 a href=&quot;mailto:wmyfowlkes@ieee.org%20&quot;&gt;Bill Fowlkes&lt;/a&gt;&lt;/li&gt;\n&lt;li&gt;Awards R
 eport:&amp;nbsp\;&lt;a href=&quot;mailto:jeankendrick@ieee.org&quot;&gt;Jean Kendrick&lt;/a&gt;&lt;/li&gt;
 \n&lt;li&gt;Electronic Communications Coordinator:&amp;nbsp\;&lt;a href=&quot;mailto:greg.gd
 owski@gmail.com&quot;&gt;Greg Gdowski&lt;/a&gt;&lt;/li&gt;\n&lt;li&gt;Newsletter Report:&amp;nbsp\;&lt;a hr
 ef=&quot;mailto:howard@tixlers.com&quot;&gt;Howard Bussey&lt;/a&gt;&lt;/li&gt;\n&lt;li&gt;PACE Report:&amp;nb
 sp\;&lt;a href=&quot;mailto:a.loui@ieee.org&quot;&gt;Alex Loui&lt;/a&gt;&amp;nbsp\;and &lt;a href=&quot;mail
 to:bruceieeerubin@yahoo.com&quot; target=&quot;_blank&quot; rel=&quot;noopener&quot;&gt;Bruce Rubin&lt;/a
 &gt;&lt;/li&gt;\n&lt;/ul&gt;\n&lt;p&gt;E. Liaison Reports&lt;/p&gt;\n&lt;ul&gt;\n&lt;li&gt;R1 Western Area Chair:
  &lt;a href=&quot;mailto:joseph.s.ott@gmail.com&quot;&gt;Joseph Ott&lt;/a&gt;&lt;/li&gt;\n&lt;li&gt;Rocheste
 r Engineering Society (RES) Report:&amp;nbsp\;&lt;a href=&quot;mailto:greg.gdowski@gma
 il.com&quot;&gt;Greg Gdowski&lt;/a&gt;&lt;/li&gt;\n&lt;li&gt;Rochester Council of Scientific Societi
 es (RCSS) Report:&amp;nbsp\;&lt;a href=&quot;mailto:wabrewer@ieee.org&quot;&gt;William A. Brew
 er&lt;/a&gt;&lt;/li&gt;\n&lt;/ul&gt;\n&lt;p&gt;F. Old Business&lt;/p&gt;\n&lt;p&gt;G. New Business&lt;/p&gt;\n&lt;p&gt;H. 
 Open Discussion&lt;/p&gt;\n&lt;p&gt;I.&amp;nbsp\;Adjournment&lt;/p&gt;
END:VEVENT
END:VCALENDAR

