BEGIN:VCALENDAR
VERSION:2.0
PRODID:IEEE vTools.Events//EN
CALSCALE:GREGORIAN
BEGIN:VTIMEZONE
TZID:US/Eastern
BEGIN:DAYLIGHT
DTSTART:20200308T030000
TZOFFSETFROM:-0500
TZOFFSETTO:-0400
RRULE:FREQ=YEARLY;BYDAY=2SU;BYMONTH=3
TZNAME:EDT
END:DAYLIGHT
BEGIN:STANDARD
DTSTART:20201101T010000
TZOFFSETFROM:-0400
TZOFFSETTO:-0500
RRULE:FREQ=YEARLY;BYDAY=1SU;BYMONTH=11
TZNAME:EST
END:STANDARD
END:VTIMEZONE
BEGIN:VEVENT
DTSTAMP:20201207T005448Z
UID:0F3516E3-5DA8-4541-A527-080A5507AAA1
DTSTART;TZID=US/Eastern:20200916T180000
DTEND;TZID=US/Eastern:20200916T203000
DESCRIPTION:IEEE ENCS Executive Committee will meet in special called sessi
 on to receive and act on the report of our Nominations &amp; Elections Committ
 ee. All section officers\, and the chairs of the chapters\, affinities\, c
 ommittees and subsection are expected to attend. Other interested members 
 are welcome.\n\nIEEE ENCS Administrative Committee will meet to review sta
 tus and plan for section activities. All section officers\, section commit
 tee members\, and other key leaders are requested to attend. Other interes
 ted members are welcome.\n\nAdvance registration is required.\n\nMeeting S
 chedule\n\n6:00 PM Gathering and Networking (bring your own dinner)\n\n6:3
 0 PM Agenda for ExCom followed immediately by AdCom Agenda\n\n8:30 PM Adjo
 urn\n\nAgenda: \nIEEE Eastern North Carolina Section\nExecutive and Admini
 strative Committees\nTentative Agenda to be distributed\n\n--- further det
 ails to follow ---\n\nRaleigh\, North Carolina\, United States\, Virtual: 
 https://events.vtools.ieee.org/m/223620
LOCATION:Raleigh\, North Carolina\, United States\, Virtual: https://events
 .vtools.ieee.org/m/223620
ORGANIZER:paul@thegoodsongroup.net
SEQUENCE:7
SUMMARY:IEEE ENCS ExCom and AdCom Meetings (via WebEx)
URL;VALUE=URI:https://events.vtools.ieee.org/m/223620
X-ALT-DESC:Description: &lt;br /&gt;&lt;p&gt;&lt;strong&gt;IEEE ENCS Executive Committee&lt;/str
 ong&gt; will meet in special called session to receive and act on the report 
 of our Nominations &amp;amp\; Elections Committee. All section officers\, and 
 the chairs of the chapters\, affinities\, committees and subsection are ex
 pected to attend. Other interested members are welcome.&lt;/p&gt;\n&lt;p&gt;&lt;strong&gt;IE
 EE ENCS Administrative Committee&lt;/strong&gt; will meet to review status and p
 lan for section activities. All section officers\, section committee membe
 rs\, and other key leaders are requested to attend. Other interested membe
 rs are welcome.&lt;/p&gt;\n&lt;p&gt;&lt;strong&gt;Advance registration is required.&lt;/strong&gt;
 &lt;/p&gt;\n&lt;p&gt;Meeting Schedule&lt;/p&gt;\n&lt;p&gt;6:00 PM&amp;nbsp\; &amp;nbsp\;Gathering and Netw
 orking (bring your own dinner)&lt;/p&gt;\n&lt;p&gt;6:30 PM&amp;nbsp\; &amp;nbsp\;Agenda for Ex
 Com followed immediately by AdCom Agenda&lt;/p&gt;\n&lt;p&gt;8:30 PM&amp;nbsp\; &amp;nbsp\;Adj
 ourn&lt;/p&gt;&lt;br /&gt;&lt;br /&gt;Agenda: &lt;br /&gt;&lt;p&gt;IEEE Eastern North Carolina Section&lt;b
 r /&gt;Executive and Administrative Committees&amp;nbsp\;&lt;br /&gt;Tentative Agenda t
 o be distributed&amp;nbsp\;&lt;/p&gt;\n&lt;p&gt;&amp;nbsp\;&lt;/p&gt;\n&lt;p&gt;--- further details to fol
 low ---&lt;/p&gt;
END:VEVENT
END:VCALENDAR

