BEGIN:VCALENDAR
VERSION:2.0
PRODID:IEEE vTools.Events//EN
CALSCALE:GREGORIAN
BEGIN:VTIMEZONE
TZID:US/Eastern
BEGIN:DAYLIGHT
DTSTART:20190310T030000
TZOFFSETFROM:-0500
TZOFFSETTO:-0400
RRULE:FREQ=YEARLY;BYDAY=2SU;BYMONTH=3
TZNAME:EDT
END:DAYLIGHT
BEGIN:STANDARD
DTSTART:20191103T010000
TZOFFSETFROM:-0400
TZOFFSETTO:-0500
RRULE:FREQ=YEARLY;BYDAY=1SU;BYMONTH=11
TZNAME:EST
END:STANDARD
END:VTIMEZONE
BEGIN:VEVENT
DTSTAMP:20200226T032536Z
UID:703E7081-0AFA-468A-80AC-94A3A7E42A4E
DTSTART;TZID=US/Eastern:20190705T120000
DTEND;TZID=US/Eastern:20190705T130000
DESCRIPTION:Meeting du comité exécutif du Chapitre\n\nQuebec City\, Quebe
 c\, Canada
LOCATION:Quebec City\, Quebec\, Canada
ORGANIZER:benoit.gosselin@gel.ulaval.ca
SEQUENCE:1
SUMMARY:ExCOM (CH07167) Quebec Section Jt. Chapter\, EMB18/CAS04
URL;VALUE=URI:https://events.vtools.ieee.org/m/224801
X-ALT-DESC:Description: &lt;br /&gt;&lt;p&gt;Meeting du comit&amp;eacute\; ex&amp;eacute\;cutif
  du Chapitre&lt;/p&gt;
END:VEVENT
END:VCALENDAR

