BEGIN:VCALENDAR
VERSION:2.0
PRODID:IEEE vTools.Events//EN
CALSCALE:GREGORIAN
BEGIN:VTIMEZONE
TZID:Japan
BEGIN:STANDARD
DTSTART:19510909T000000
TZOFFSETFROM:+1000
TZOFFSETTO:+0900
TZNAME:JST
END:STANDARD
END:VTIMEZONE
BEGIN:VEVENT
DTSTAMP:20210308T165045Z
UID:CDA51E7F-2DD0-42AB-B75D-9FF512B6F84A
DTSTART;TZID=Japan:20200530T093000
DTEND;TZID=Japan:20200530T160000
DESCRIPTION:Sustainable Energy and Intelligent Engineering Society-SEIES (P
 ES &amp; FRID Fukuoka Joint Chapter) will hold a joint technical and manageria
 l orientation program that enables participants to practically learn and p
 ractice planning an international conference. This event establishes a bra
 instorming session along with a pre-defined agenda. The scope of this even
 t is to finalize the concept of SEIES&#39;s upcoming conference\, which will b
 e held by the end of 2020 in Tokyo.\nUpcoming conference &quot;The 1st Internat
 ional Conference on Sustainable Energy and Intelligent Engineering (SEIE 2
 020)&quot; proposal will be finalized through various expert discussions and di
 alogue that will explore the most viable options. Attendees will learn and
  enhance their knowledge and skill of an event planning from initiation to
  closure all in one package. As a result\, the conference proposal will be
  finalized to be submitted to IEEE for review. Therefore\, this would be a
  good opportunity for students and early-career to attend the event.\nThe 
 SEIE 2020 will be organized by several academic institutions in close coll
 aboration with several national and international organizations.\n\nCo-spo
 nsored by: Dr. Danish M.\n\nSpeaker(s): Prof. Tomonobu Senjyu\, Asst. Prof
 . Danish Mir Sayed Shah\n\nAgenda: \nTentative agenda:\n\n- Finalizing the
  proposed conference concept\n- Conference resourcing\n- Stakeholder engag
 ement\n- IEEE Membership and promotion mechanism\n- Innovations and facili
 ties\n- Forming organizing committee\n- Discussing the conference manageme
 nt plans\n\nUniversity of the Ryukyus\, 1 Senbaru\, Nishihara\, Okinawa\, 
 Japan\, 903-0213
LOCATION:University of the Ryukyus\, 1 Senbaru\, Nishihara\, Okinawa\, Japa
 n\, 903-0213
ORGANIZER:mdanish@ieee.org
SEQUENCE:4
SUMMARY:A Technical Orientation Program on Design and Planning a Successful
  Academic Event
URL;VALUE=URI:https://events.vtools.ieee.org/m/224939
X-ALT-DESC:Description: &lt;br /&gt;&lt;p&gt;Sustainable Energy and Intelligent Enginee
 ring Society-SEIES (PES &amp;amp\; FRID Fukuoka Joint Chapter) will hold a joi
 nt technical and managerial orientation program that enables participants 
 to practically learn and practice planning an international conference. Th
 is event establishes a brainstorming session along with a pre-defined agen
 da. The scope of this event is to finalize the concept of SEIES&#39;s upcoming
  conference\, which will be held by the end of 2020 in Tokyo. &lt;br /&gt;Upcomi
 ng conference &quot;The 1st International Conference on Sustainable Energy and 
 Intelligent Engineering (SEIE 2020)&quot; proposal will be finalized through va
 rious expert discussions and dialogue that will explore the most viable op
 tions. Attendees will learn and enhance their knowledge and skill of an ev
 ent planning from initiation to closure all in one package. As a result\, 
 the conference proposal will be finalized to be submitted to IEEE for revi
 ew. Therefore\, this would be a good opportunity for students and early-ca
 reer to attend the event. &lt;br /&gt;The SEIE 2020 will be organized by several
  academic institutions in close collaboration with several national and in
 ternational organizations.&lt;/p&gt;&lt;br /&gt;&lt;br /&gt;Agenda: &lt;br /&gt;&lt;p&gt;&lt;strong&gt;Tentati
 ve agenda:&lt;/strong&gt;&lt;/p&gt;\n&lt;ol&gt;\n&lt;li&gt;Finalizing the proposed conference conc
 ept&lt;/li&gt;\n&lt;li&gt;Conference resourcing&lt;/li&gt;\n&lt;li&gt;Stakeholder engagement&lt;/li&gt;\
 n&lt;li&gt;IEEE Membership and promotion mechanism&lt;/li&gt;\n&lt;li&gt;Innovations and fac
 ilities&lt;/li&gt;\n&lt;li&gt;Forming organizing committee&lt;/li&gt;\n&lt;li&gt;Discussing the co
 nference management plans&lt;/li&gt;\n&lt;/ol&gt;
END:VEVENT
END:VCALENDAR

