BEGIN:VCALENDAR
VERSION:2.0
PRODID:IEEE vTools.Events//EN
CALSCALE:GREGORIAN
BEGIN:VTIMEZONE
TZID:America/Montreal
BEGIN:DAYLIGHT
DTSTART:20200308T030000
TZOFFSETFROM:-0500
TZOFFSETTO:-0400
RRULE:FREQ=YEARLY;BYDAY=2SU;BYMONTH=3
TZNAME:EDT
END:DAYLIGHT
BEGIN:STANDARD
DTSTART:20201101T010000
TZOFFSETFROM:-0400
TZOFFSETTO:-0500
RRULE:FREQ=YEARLY;BYDAY=1SU;BYMONTH=11
TZNAME:EST
END:STANDARD
END:VTIMEZONE
BEGIN:VEVENT
DTSTAMP:20200423T143640Z
UID:1E6322BB-D576-4D0D-8D05-9816E88BC4C9
DTSTART;TZID=America/Montreal:20200422T120000
DTEND;TZID=America/Montreal:20200422T133000
DESCRIPTION:Artificial Intelligence (AI) is constantly in the news with sto
 ries of promise and peril. Political leaders have declared it a national p
 riority\, the global high tech industry is racing AI apps to markets and p
 olicy and governance implications of AI are in their infancy. We will expl
 ore where this is all heading.\n\nWe will begin with some definitions and 
 a bit of history behind the rise of AI. The talk will then place AI in the
  context of being a potentially disruptive technology on society. This wil
 l lead to a discussion about ethics and moral issues regarding the develop
 ment and use of aspects of AI as a dual-use technology. Time permitting\, 
 the role of AI in defence and security will be used as an example for appr
 eciating the complexity and ethical issues brought on by AI. We will then 
 turn to the role of the engineer in this new world being enabled by AI.\n\
 nFinally\, we will review potential governance and policy issues and optio
 ns to address the rapid unchecked development and application of AI within
  society at large\; and\, ultimately end with a precautionary note.\n\nCo-
 sponsored by: Vitesse Re-Skilling Canada\, IEEE Ottawa PHO Chapter\, ComSo
 c Chapter\, CS Chapter\, TEMS Chapter\, and SP Chapter \n\nSpeaker(s): Pet
 er MacKinnon\, \n\nAgenda: \nnoon - 13:00 Presentation\n\n13:00-13:30 Q&amp;A\
 n\nPlease note\, this is an online webinar\, All registered attendees will
  receive an email notice on how to sign in to the webinar\, Kanata\, Ontar
 io\, Canada
LOCATION:Please note\, this is an online webinar\, All registered attendees
  will receive an email notice on how to sign in to the webinar\, Kanata\, 
 Ontario\, Canada
ORGANIZER:kexing.liu@ieee.org
SEQUENCE:12
SUMMARY:IEEE Ottawa Webinar Series on AI and Machine Learning - Sponsored b
 y IEEE Ottawa PHO Chapter\, CS Chapter\, ComSoc Chapter\, TEMS Chapter\, a
 nd SP Chapter\, jointly with Vitesse- Reskilling
URL;VALUE=URI:https://events.vtools.ieee.org/m/226058
X-ALT-DESC:Description: &lt;br /&gt;&lt;p&gt;Artificial Intelligence (AI) is constantly
  in the news with stories of promise and peril.&amp;nbsp\; Political leaders h
 ave declared it a national priority\, the global high tech industry is rac
 ing AI apps to markets and policy and governance implications of AI are in
  their infancy.&amp;nbsp\; We will explore where this is all heading.&lt;/p&gt;\n&lt;p&gt;
 We will begin with some definitions and a bit of history behind the rise o
 f AI.&amp;nbsp\; The talk will then place AI in the context of being a potenti
 ally disruptive technology on society. This will lead to a discussion abou
 t ethics and moral issues regarding the development and use of aspects of 
 AI as a dual-use technology.&amp;nbsp\; Time permitting\, the role of AI in de
 fence and security will be used as an example for appreciating the complex
 ity and ethical issues brought on by AI. We will then turn to the role of 
 the engineer in this new world being enabled by AI.&lt;/p&gt;\n&lt;p&gt;Finally\, we w
 ill review potential governance and policy issues and options to address t
 he rapid unchecked development and application of AI within society at lar
 ge\; and\, ultimately end with a precautionary note.&lt;/p&gt;&lt;br /&gt;&lt;br /&gt;Agenda
 : &lt;br /&gt;&lt;p&gt;noon - 13:00 Presentation&lt;/p&gt;\n&lt;p&gt;13:00-13:30 Q&amp;amp\;A&lt;/p&gt;
END:VEVENT
END:VCALENDAR

