BEGIN:VCALENDAR
VERSION:2.0
PRODID:IEEE vTools.Events//EN
CALSCALE:GREGORIAN
BEGIN:VTIMEZONE
TZID:Canada/Eastern
BEGIN:DAYLIGHT
DTSTART:20210314T030000
TZOFFSETFROM:-0500
TZOFFSETTO:-0400
RRULE:FREQ=YEARLY;BYDAY=2SU;BYMONTH=3
TZNAME:EDT
END:DAYLIGHT
BEGIN:STANDARD
DTSTART:20201101T010000
TZOFFSETFROM:-0400
TZOFFSETTO:-0500
RRULE:FREQ=YEARLY;BYDAY=1SU;BYMONTH=11
TZNAME:EST
END:STANDARD
END:VTIMEZONE
BEGIN:VEVENT
DTSTAMP:20220317T003832Z
UID:07769F2A-6A52-476B-99C0-F6D9F1A6503C
DTSTART;TZID=Canada/Eastern:20201123T000000
DTEND;TZID=Canada/Eastern:20201123T140000
DESCRIPTION:All members social event\n\n-----------------------------------
 ----------------------------\n\nMembers Social Event. All members &amp; Guests
  of our Section were invited. Finger foods and soft drinks were provided. 
 It was also an opportunity to start the Senior Membership process.\n\nPete
 rborough\, Ontario\, Canada
LOCATION:Peterborough\, Ontario\, Canada
ORGANIZER:helder.pinheiro.ca@ieee.org
SEQUENCE:1
SUMMARY:Members Social Event
URL;VALUE=URI:https://events.vtools.ieee.org/m/226479
X-ALT-DESC:Description: &lt;br /&gt;&lt;div id=&quot;list_meeting_header&quot;&gt;\n&lt;p&gt;All member
 s social event&lt;/p&gt;\n&lt;/div&gt;\n&lt;hr class=&quot;hr-solid&quot; /&gt;\n&lt;p&gt;Members Social Eve
 nt. All members &amp;amp\; Guests of our Section were invited.&amp;nbsp\; Finger f
 oods and soft drinks were provided. It was also an opportunity to start th
 e Senior Membership process.&lt;/p&gt;
END:VEVENT
END:VCALENDAR

