BEGIN:VCALENDAR
VERSION:2.0
PRODID:IEEE vTools.Events//EN
CALSCALE:GREGORIAN
BEGIN:VTIMEZONE
TZID:Hongkong
BEGIN:STANDARD
DTSTART:19791021T023000
TZOFFSETFROM:+0900
TZOFFSETTO:+0800
TZNAME:HKT
END:STANDARD
END:VTIMEZONE
BEGIN:VEVENT
DTSTAMP:20210219T015039Z
UID:EBBB06A8-9B08-4F63-9052-A18F4B2C614C
DTSTART;TZID=Hongkong:20200821T180000
DTEND;TZID=Hongkong:20200824T180000
DESCRIPTION:The goal of the conference is to bring together leading enginee
 rs\, researchers and academia from the world to discuss novel theories\, t
 echnologies and applications in the areas of signal processing\, communica
 tions and computing. The conference will feature prominent plenary speaker
 s as well as technical sessions.\n\nMacau is on China&#39;s southern coast wes
 tern side of the Pearl River and 60 km west of Hong Kong. .The jurisdictio
 n is under of the Macau\, like Hong Kong\, is China Special Administration
  Region\, an innovative implementation of the ‘One Country\, Two Systems
 ’ policy. Macau is the world&#39;s 83rd-largest economy\, with a nominal GDP
  of over US$53.billion\, major from tourism and the gaming industry seven 
 times larger than that of Las Vegas.\n\nCo-sponsored by: IEEE Xian Section
 \, IEEE Macau Section\n\nAgenda: \n21 Aug 2020 1400 Registration\n\n21 Aug
  2020 1800 Cocktail Reception\n\n22 Aug 2020 0900 Opening and Keynote Pres
 entation\n\n22 Aug 2020 1400-1800 Paper Presentation Sessions\n\n23 Aug 20
 20 0900-1800 Paper Presentation Sessions\n\n22 Aug 2020 1800 Conference Ba
 nquet\n\nUniversity of Macau\, Taipa\, Macau\, Guangdong\, China
LOCATION:University of Macau\, Taipa\, Macau\, Guangdong\, China
ORGANIZER:ywliu@ieee.org
SEQUENCE:1
SUMMARY:2020 IEEE International Conference on Signal Processing\, Communica
 tions and Computing (ICSPCC 2020)
URL;VALUE=URI:https://events.vtools.ieee.org/m/227427
X-ALT-DESC:Description: &lt;br /&gt;&lt;p style=&quot;font-weight: 400\;&quot;&gt;The goal of the
  conference is to bring together leading engineers\, researchers and acade
 mia from the world to discuss novel theories\, technologies and applicatio
 ns in the areas of signal processing\, communications and computing. The c
 onference will feature prominent plenary speakers as well as technical ses
 sions.&lt;/p&gt;\n&lt;p style=&quot;font-weight: 400\;&quot;&gt;&amp;nbsp\;&lt;/p&gt;\n&lt;p style=&quot;font-weig
 ht: 400\;&quot;&gt;Macau is on China&#39;s southern coast western side of the Pearl Ri
 ver and 60 km west of Hong Kong. .The jurisdiction is under of the Macau\,
  like Hong Kong\, is China Special Administration Region\, an innovative i
 mplementation of the &amp;lsquo\;One Country\, Two Systems&amp;rsquo\; policy.&amp;nbs
 p\;&amp;nbsp\;Macau is the world&#39;s 83rd-largest economy\, with a nominal GDP o
 f over&amp;nbsp\; US$53.billion\, major from tourism and the gaming industry s
 even times larger than that of Las Vegas.&lt;/p&gt;\n&lt;p style=&quot;font-weight: 400\
 ;&quot;&gt;&amp;nbsp\;&lt;/p&gt;&lt;br /&gt;&lt;br /&gt;Agenda: &lt;br /&gt;&lt;p&gt;21 Aug 2020 1400&amp;nbsp\; Registr
 ation&lt;/p&gt;\n&lt;p&gt;21 Aug 2020 1800&amp;nbsp\; Cocktail Reception&lt;/p&gt;\n&lt;p&gt;22 Aug 20
 20 0900 Opening and Keynote Presentation&lt;/p&gt;\n&lt;p&gt;22 Aug 2020 1400-1800 Pap
 er Presentation Sessions&lt;/p&gt;\n&lt;p&gt;23 Aug 2020 0900-1800 Paper Presentation 
 Sessions&lt;/p&gt;\n&lt;p&gt;22 Aug 2020 1800 Conference Banquet&lt;/p&gt;
END:VEVENT
END:VCALENDAR

