BEGIN:VCALENDAR
VERSION:2.0
PRODID:IEEE vTools.Events//EN
CALSCALE:GREGORIAN
BEGIN:VTIMEZONE
TZID:America/Guayaquil
BEGIN:DAYLIGHT
DTSTART:20380118T221407
TZOFFSETFROM:-0500
TZOFFSETTO:-0500
RRULE:FREQ=YEARLY;BYDAY=3MO;BYMONTH=1
TZNAME:-05
END:DAYLIGHT
BEGIN:STANDARD
DTSTART:19930204T230000
TZOFFSETFROM:-0400
TZOFFSETTO:-0500
RRULE:FREQ=YEARLY;BYDAY=1TH;BYMONTH=2
TZNAME:-05
END:STANDARD
END:VTIMEZONE
BEGIN:VEVENT
DTSTAMP:20200404T054955Z
UID:B5F65D05-9DDE-4650-A8D0-00BA40751DF3
DTSTART;TZID=America/Guayaquil:20200326T170000
DTEND;TZID=America/Guayaquil:20200326T180000
DESCRIPTION:El Capítulo Profesional IEEE Computer Society hace la jornada 
 de webinars denominado CS HomeOffice Week\, con la finalidad de brindar la
  actualidad de la tecnología\, motivándonos a no parar de aprender a pes
 ar de las circunstancias.\n\nTema: Ingeniería de la Usabilidad en el Desa
 rrollo de Software\n\nhttps://ieeemeetings.webex.com/ieeemeetings/onstage/
 g.php?MTID=edbdfae33e24c9cb5db98ffb25903c25d\n\nSpeaker(s): Ing. Alex Guev
 ara\, \n\nAgenda: \n- ¿Qué es la Usabilidad?\n- Ingeniería de la Usabil
 idad una perspectiva de Ingeniería de Software\n- Leyes y principio de la
  Experiencia de Usuario\n- Diseño Centrado en el Usuario en el desarrollo
  de software\n- Herramientas de valor\n- ¿Cómo evaluar y para qué evalu
 ar?\n\nGuayaquil\, Guayas\, Ecuador
LOCATION:Guayaquil\, Guayas\, Ecuador
ORGANIZER:galo.valverde@ieee.org
SEQUENCE:8
SUMMARY:[WEBINAR] Ingeniería de la Usabilidad y UX en el Desarrollo de Sof
 tware
URL;VALUE=URI:https://events.vtools.ieee.org/m/227570
X-ALT-DESC:Description: &lt;br /&gt;&lt;p&gt;El Cap&amp;iacute\;tulo Profesional IEEE Compu
 ter Society hace la jornada de webinars denominado CS HomeOffice Week\, co
 n la finalidad de brindar la actualidad de la tecnolog&amp;iacute\;a\, motiv&amp;a
 acute\;ndonos a no parar de aprender a pesar de las circunstancias.&lt;/p&gt;\n&lt;
 p&gt;Tema: Ingenier&amp;iacute\;a de la Usabilidad en el Desarrollo de Software&lt;/
 p&gt;\n&lt;p&gt;https://ieeemeetings.webex.com/ieeemeetings/onstage/g.php?MTID=edbd
 fae33e24c9cb5db98ffb25903c25d&lt;/p&gt;&lt;br /&gt;&lt;br /&gt;Agenda: &lt;br /&gt;&lt;p&gt;- &amp;iquest\;Q
 u&amp;eacute\; es la Usabilidad?&lt;br /&gt;- Ingenier&amp;iacute\;a de la Usabilidad un
 a perspectiva de Ingenier&amp;iacute\;a de Software&lt;br /&gt;- Leyes y principio d
 e la Experiencia de Usuario&lt;br /&gt;- Dise&amp;ntilde\;o Centrado en el Usuario e
 n el desarrollo de software&lt;br /&gt;- Herramientas de valor&lt;br /&gt;- &amp;iquest\;C
 &amp;oacute\;mo evaluar y para qu&amp;eacute\; evaluar?&lt;/p&gt;
END:VEVENT
END:VCALENDAR

