BEGIN:VCALENDAR
VERSION:2.0
PRODID:IEEE vTools.Events//EN
CALSCALE:GREGORIAN
BEGIN:VTIMEZONE
TZID:Asia/Calcutta
BEGIN:STANDARD
DTSTART:19451014T230000
TZOFFSETFROM:+0630
TZOFFSETTO:+0530
TZNAME:IST
END:STANDARD
END:VTIMEZONE
BEGIN:VEVENT
DTSTAMP:20200321T165212Z
UID:BFD7D7DA-DDF1-4211-9959-98B5E2FD14F7
DTSTART;TZID=Asia/Calcutta:20200216T090000
DTEND;TZID=Asia/Calcutta:20200217T170000
DESCRIPTION:ISRAST-2020 was successfully organized by the Department of Ele
 ctrical Engineering\, REC Ambedkar Nagar in association with IEEE Rajkiya 
 Engineering College\, Ambedkar Nagar Student Branch\, IEEE Chapters &amp; Affi
 nity Group during Feb 16-17\, 2020. This event was sponsored by TEQIP-III.
  • Dr. Brij N. Singh delivered a lecture on “SiC Dual Inverter”. Dr.
  Brij N Singh is a Senior Staff Engineer in John Deere Inc.\, USA and lead
 ing the US Department of Energy - PowerAmerica (DOE-PowerAmerica) funded p
 roject to develop a 200 kW SiC inverter for heavy-duty vehicle application
 s. Brij has earned BE degree in Electrical Engineering from MMMUT Gorakhpu
 r in 1989\, ME degree BE degree in Electrical Engineering from IIT Roorkee
  in 1991\, and Ph.D. degree in Electrical Engineering from the IIT Delhi i
 n 1996. In 1996\, Brij joined the École de Technologie Supérieure\, Univ
 ersité du Québec\, Montreal\, QC\, Canada\, as a Post-Doctoral Fellow. I
 n 1999\, Brij joined Concordia University\, Montreal\, QC\, Canada as a Re
 search Fellow. In 2000\, Brij joined the Department of Electrical Engineer
 ing and Computer Science\, Tulane University\, New Orleans\, Louisiana\, a
 s an Assistant Professor. In 2007\, Brij joined John Deere in Fargo\, Nort
 h Dakota as a Power Electronics Staff Engineer\, where he is currently a S
 enior Staff Engineer - Power Electronics and Advanced Technology. Brij is 
 also an Adjunct Professor in the Dept. of Electrical and Computer Engineer
 ing in North Dakota State University\, Fargo\, USA. In Tulane\, Brij recei
 ved numerous teaching awards for outstanding instructions in electrical en
 gineering. In John Deere\, Brij received numerous awards for product and t
 echnology innovations and team collaboration activities. Brij has publishe
 d over 90 research papers in various Journals including IEEE Transactions 
 and IET Journals. Brij has 26 awarded US patents\, one trade secret\, and 
 numerous pending patents. Brij’s scholarly work and publications have be
 en cited by his peers over 5000 times. Brij is a senior member of the IEEE
  • Dr. Babak Parkhideh delivered a lecture on “PV Integration”. Dr. 
 Babak Parkhideh is an Associate Professor at the University of North Carol
 ina-Charlotte where he is the founding director of the Photovoltaic Integr
 ation Laboratory since 2012. He is also developing the Power Electronics h
 ands-on training program at the US Naval Sea Systems Command (NAVSEA)\, Wa
 shington\, DC. Initiated from his research laboratory and support from the
  National Science Foundation\, he commercializes ultrafast sensing solutio
 ns for post-silicon power electronics at Telli Technologies Inc. where he 
 serves as the founder and president of the company. He completed his PhD a
 t North Carolina State University\, Raleigh\, NC\, Master’s at RWTH-Aach
 en University\, Germany\, and bachelor’s (with honor and distinction) at
  Tehran University all in Electrical Engineering. Dr. Parkhideh has publis
 hed over 90 papers in journals and conference proceedings and holds four i
 ssued and nine pending patents in the broad area of power electronics. Dr.
  Parkhideh is Senior Member of IEEE. • Ms. Marta Quintana Lapota along w
 ith Ms. Luisa Patino Parra (From VALWAY COMPANY\, SPAIN) delivered lecture
 s on “Design Thinking &amp; Entrepreneurship. workshop”\n\nCo-sponsored by
 : STB11386\, SBC11386\,TEQIP-III\n\nR. No.:SC-EED\, REC AMBEDKAR NAGAR\, A
 mbedkar Nagar\, Uttar Pradesh\, India\, 224122
LOCATION:R. No.:SC-EED\, REC AMBEDKAR NAGAR\, Ambedkar Nagar\, Uttar Prades
 h\, India\, 224122
ORGANIZER:mahusain87@gmail.com
SEQUENCE:0
SUMMARY:Two days International Seminar on Recent Advances in Science &amp; Tech
 nology (ISRAST-2020) 
URL;VALUE=URI:https://events.vtools.ieee.org/m/227604
X-ALT-DESC:Description: &lt;br /&gt;&lt;p&gt;ISRAST-2020 was successfully organized by 
 the Department of Electrical Engineering\, REC Ambedkar Nagar in associati
 on with IEEE Rajkiya Engineering College\, Ambedkar Nagar Student Branch\,
  IEEE Chapters &amp;amp\; Affinity Group during Feb 16-17\, 2020. This event w
 as sponsored by TEQIP-III. &amp;bull\; Dr. Brij N. Singh delivered a lecture o
 n &amp;ldquo\;SiC Dual Inverter&amp;rdquo\;. Dr. Brij N Singh is a Senior Staff En
 gineer in John Deere Inc.\, USA and leading the US Department of Energy - 
 PowerAmerica (DOE-PowerAmerica) funded project to develop a 200 kW SiC inv
 erter for heavy-duty vehicle applications. Brij has earned BE degree in El
 ectrical Engineering from MMMUT Gorakhpur in 1989\, ME degree BE degree in
  Electrical Engineering from IIT Roorkee in 1991\, and Ph.D. degree in Ele
 ctrical Engineering from the IIT Delhi in 1996. In 1996\, Brij joined the 
 &amp;Eacute\;cole de Technologie Sup&amp;eacute\;rieure\, Universit&amp;eacute\; du Qu
 &amp;eacute\;bec\, Montreal\, QC\, Canada\, as a Post-Doctoral Fellow. In 1999
 \, Brij joined Concordia University\, Montreal\, QC\, Canada as a Research
  Fellow. In 2000\, Brij joined the Department of Electrical Engineering an
 d Computer Science\, Tulane University\, New Orleans\, Louisiana\, as an A
 ssistant Professor. In 2007\, Brij joined John Deere in Fargo\, North Dako
 ta as a Power Electronics Staff Engineer\, where he is currently a Senior 
 Staff Engineer - Power Electronics and Advanced Technology. Brij is also a
 n Adjunct Professor in the Dept. of Electrical and Computer Engineering in
  North Dakota State University\, Fargo\, USA. In Tulane\, Brij received nu
 merous teaching awards for outstanding instructions in electrical engineer
 ing. In John Deere\, Brij received numerous awards for product and technol
 ogy innovations and team collaboration activities. Brij has published over
  90 research papers in various Journals including IEEE Transactions and IE
 T Journals. Brij has 26 awarded US patents\, one trade secret\, and numero
 us pending patents. Brij&amp;rsquo\;s scholarly work and publications have bee
 n cited by his peers over 5000 times. Brij is a senior member of the IEEE 
 &amp;bull\; Dr. Babak Parkhideh delivered a lecture on &amp;ldquo\;PV Integration&amp;
 rdquo\;. Dr. Babak Parkhideh is an Associate Professor at the University o
 f North Carolina-Charlotte where he is the founding director of the Photov
 oltaic Integration Laboratory since 2012. He is also developing the Power 
 Electronics hands-on training program at the US Naval Sea Systems Command 
 (NAVSEA)\, Washington\, DC. Initiated from his research laboratory and sup
 port from the National Science Foundation\, he commercializes ultrafast se
 nsing solutions for post-silicon power electronics at Telli Technologies I
 nc. where he serves as the founder and president of the company. He comple
 ted his PhD at North Carolina State University\, Raleigh\, NC\, Master&amp;rsq
 uo\;s at RWTH-Aachen University\, Germany\, and bachelor&amp;rsquo\;s (with ho
 nor and distinction) at Tehran University all in Electrical Engineering. D
 r. Parkhideh has published over 90 papers in journals and conference proce
 edings and holds four issued and nine pending patents in the broad area of
  power electronics. Dr. Parkhideh is Senior Member of IEEE. &amp;bull\; Ms. Ma
 rta Quintana Lapota along with Ms. Luisa Patino Parra (From VALWAY COMPANY
 \, SPAIN) delivered lectures on &amp;ldquo\;Design Thinking &amp;amp\; Entrepreneu
 rship. workshop&amp;rdquo\;&lt;/p&gt;
END:VEVENT
END:VCALENDAR

