BEGIN:VCALENDAR
VERSION:2.0
PRODID:IEEE vTools.Events//EN
CALSCALE:GREGORIAN
BEGIN:VTIMEZONE
TZID:Europe/Madrid
BEGIN:DAYLIGHT
DTSTART:20200329T030000
TZOFFSETFROM:+0100
TZOFFSETTO:+0200
RRULE:FREQ=YEARLY;BYDAY=-1SU;BYMONTH=3
TZNAME:CEST
END:DAYLIGHT
BEGIN:STANDARD
DTSTART:20191027T020000
TZOFFSETFROM:+0200
TZOFFSETTO:+0100
RRULE:FREQ=YEARLY;BYDAY=-1SU;BYMONTH=10
TZNAME:CET
END:STANDARD
END:VTIMEZONE
BEGIN:VEVENT
DTSTAMP:20200326T193150Z
UID:3DBC797A-B69F-47E8-B67A-6C29342453DE
DTSTART;TZID=Europe/Madrid:20200326T190000
DTEND;TZID=Europe/Madrid:20200326T200000
DESCRIPTION:Hola\,\n\nEl próximo jueves a las 19:00 Pedro Plaza\, a travé
 s de Webex presentará la sesión Introducción a los laboratorios de bols
 illo\, UNED POLAR. Este evento es organizado desde la UNED\, liderado por 
 su Vicerrectorado de Estudiantes y Emprendimiento\, en combinación con la
  Rama de Estudiantes del IEEE de la UNED\, se desarrollará una nueva acti
 vidad con la participación de los estudiantes que pertenecen a la Rama\, 
 en colaboración con otros Vicerrectorados de la UNED (Investigación e In
 ternacionalización\, Centros Asociados)\, el Centro Asociado de Madrid en
  su sede de Las Tablas\, las Escuelas de Ingenieros Industriales\, Inform
 áticos y la Facultad de Ciencias (Matemáticas\, Físicas\, Químicas y M
 edio Ambiente)\, el Capítulo Español de la Sociedad de Educación del IE
 EE y Plaza Robótica. A través de esta sesión se introducen los laborato
 rios de bolsillos y el grupo de trabajo UNED POLAR. Se presentan los proto
 tipos en los que se está trabajando\, las tecnologías empleadas y las l
 íneas de trabajo futuras.\n\nHemos preparado una encuesta de inicio\, por
  favor complete la encuesta que encontrarás en el siguiente enlace (sólo
  le llevará unos minutos):\n\nhttps://forms.gle/PJUazadvsRMb8t2H8\n\nOs e
 speramos.\n\nReciba un cordial saludo\,\n\nLa Rama de Estudiantes del IEEE
  en la UNED.\n\nCo-sponsored by: Plaza Robotica\n\nSpeaker(s): Pedro Plaza
 \, \n\nAgenda: \n- IEEE\n- Ventajas IEEE\n- Rama de Estudiantes del IEEE e
 n la UNED\n- Laboratorios de bolsillo\n- UNED POLAR\n- Tecnologías\n- Lab
 oratorio de luz\n- Laboratorios medioambientales\n- Reto\n\nTorrejón de A
 rdoz\, Madrid\, Spain
LOCATION:Torrejón de Ardoz\, Madrid\, Spain
ORGANIZER:pplaza@ieec.uned.es
SEQUENCE:2
SUMMARY:Introducción a los laboratorios de bolsillo\, UNED POLAR
URL;VALUE=URI:https://events.vtools.ieee.org/m/227678
X-ALT-DESC:Description: &lt;br /&gt;&lt;p&gt;Hola\,&lt;/p&gt;\n&lt;p&gt;El pr&amp;oacute\;ximo jueves a
  las 19:00 Pedro Plaza\, a trav&amp;eacute\;s de Webex presentar&amp;aacute\; la s
 esi&amp;oacute\;n Introducci&amp;oacute\;n a los laboratorios de bolsillo\, UNED P
 OLAR. Este evento es organizado desde la UNED\, liderado por su Vicerrecto
 rado de Estudiantes y Emprendimiento\, en combinaci&amp;oacute\;n con la Rama 
 de Estudiantes del IEEE de la UNED\, se desarrollar&amp;aacute\; una nueva act
 ividad con la participaci&amp;oacute\;n de los estudiantes que pertenecen a la
  Rama\, en colaboraci&amp;oacute\;n con otros Vicerrectorados de la UNED (Inve
 stigaci&amp;oacute\;n e Internacionalizaci&amp;oacute\;n\, Centros Asociados)\, el
  Centro Asociado de Madrid en su sede de Las Tablas\, las Escuelas de Inge
 nieros Industriales\, Inform&amp;aacute\;ticos y la Facultad de Ciencias (Mate
 m&amp;aacute\;ticas\, F&amp;iacute\;sicas\, Qu&amp;iacute\;micas y Medio Ambiente)\, e
 l Cap&amp;iacute\;tulo Espa&amp;ntilde\;ol de la Sociedad de Educaci&amp;oacute\;n del
  IEEE y Plaza Rob&amp;oacute\;tica. A trav&amp;eacute\;s de esta sesi&amp;oacute\;n se
  introducen los laboratorios de bolsillos y el grupo de trabajo UNED POLAR
 . Se presentan los prototipos en los que se est&amp;aacute\; trabajando\, las 
 tecnolog&amp;iacute\;as empleadas y las l&amp;iacute\;neas de trabajo futuras.&lt;/p&gt;
 \n&lt;p&gt;Hemos preparado una encuesta de inicio\, por favor complete la encues
 ta que encontrar&amp;aacute\;s en el siguiente enlace (s&amp;oacute\;lo le llevar&amp;
 aacute\; unos minutos):&lt;/p&gt;\n&lt;p&gt;&lt;a href=&quot;https://forms.gle/PJUazadvsRMb8t2
 H8&quot;&gt;https://forms.gle/PJUazadvsRMb8t2H8&lt;/a&gt; &amp;nbsp\;&amp;nbsp\;&amp;nbsp\;&amp;nbsp\;&lt;/
 p&gt;\n&lt;p&gt;Os esperamos.&lt;/p&gt;\n&lt;p&gt;Reciba un cordial saludo\,&lt;/p&gt;\n&lt;p&gt;La Rama de
  Estudiantes del IEEE en la UNED.&lt;/p&gt;&lt;br /&gt;&lt;br /&gt;Agenda: &lt;br /&gt;&lt;ul&gt;\n&lt;li&gt;I
 EEE&lt;/li&gt;\n&lt;li&gt;Ventajas IEEE&lt;/li&gt;\n&lt;li&gt;Rama de Estudiantes del IEEE en la U
 NED&lt;/li&gt;\n&lt;li&gt;Laboratorios de bolsillo&lt;/li&gt;\n&lt;li&gt;UNED POLAR&lt;/li&gt;\n&lt;li&gt;Tecn
 olog&amp;iacute\;as&lt;/li&gt;\n&lt;li&gt;Laboratorio de luz&lt;/li&gt;\n&lt;li&gt;Laboratorios medioa
 mbientales&lt;/li&gt;\n&lt;li&gt;Reto&lt;/li&gt;\n&lt;/ul&gt;
END:VEVENT
END:VCALENDAR

