BEGIN:VCALENDAR
VERSION:2.0
PRODID:IEEE vTools.Events//EN
CALSCALE:GREGORIAN
BEGIN:VTIMEZONE
TZID:Europe/Madrid
BEGIN:DAYLIGHT
DTSTART:20200329T030000
TZOFFSETFROM:+0100
TZOFFSETTO:+0200
RRULE:FREQ=YEARLY;BYDAY=-1SU;BYMONTH=3
TZNAME:CEST
END:DAYLIGHT
BEGIN:STANDARD
DTSTART:20201025T020000
TZOFFSETFROM:+0200
TZOFFSETTO:+0100
RRULE:FREQ=YEARLY;BYDAY=-1SU;BYMONTH=10
TZNAME:CET
END:STANDARD
END:VTIMEZONE
BEGIN:VEVENT
DTSTAMP:20200409T181510Z
UID:25C177D7-7338-4758-993C-EDF764305E9B
DTSTART;TZID=Europe/Madrid:20200409T190000
DTEND;TZID=Europe/Madrid:20200409T200000
DESCRIPTION:Hola\,\n\nEl próximo jueves 9 de abril de 2020 a las 19:00\, s
 e va a desarrollar la sesión Introducción a Arduino. Este evento es orga
 nizado desde la UNED\, liderado por su Vicerrectorado de Estudiantes y Emp
 rendimiento\, en combinación con la Rama de Estudiantes del IEEE de la UN
 ED\, se desarrollará una nueva actividad con la participación de los est
 udiantes que pertenecen a la Rama\, en colaboración con otros Vicerrector
 ados de la UNED (Investigación e Internacionalización\, Centros Asociado
 s)\, el Centro Asociado de Madrid en su sede de Las Tablas\, las Escuelas 
 de Ingenieros Industriales\, Informáticos y la Facultad de Ciencias (Mate
 máticas\, Físicas\, Químicas y Medio Ambiente)\, la Sociedad de Educaci
 ón del IEEE\, la Sección España del IEEE\, el Capítulo Español de la 
 Sociedad de Educación del IEEE\, Ramas Hispania del IEEE\, Young Professi
 onals España del IEEE\, la Rama de Estudiantes del IEEE en la Universidad
  de Vigo\, y Plaza Robótica. A través de esta sesión se introduce la pl
 ataforma Raspberry Pi. También se muestra los tipos de aplicaciones que s
 e pueden desarrollar con esta plataforma. Además\, podrás ver varios eje
 mplos realizados con Raspberry Pi. Por último se proponen una serie de re
 tos para poner a prueba los conocimientos adquiridos.\n\nOs esperamos.\n\n
 Reciba un cordial saludo\,\n\nLa Rama de Estudiantes del IEEE en la UNED.\
 n\nCo-sponsored by: Plaza Robotica\n\nSpeaker(s): Manuel Castro\, Pedro Pl
 aza\n\nAgenda: \n- IEEE\n- Ramas de Estudiantes del IEEE en la UNED\n- Int
 roducción Raspberry Pi\n- Hardware de Raspberry Pi\n- Software de Raspber
 ry Pi\n- Simulación de Raspberry Pi\n- Ejemplos de aplicaciones\n- Aplica
 ciones educativas\n- Retos\n\nMadrid\, Madrid\, Spain
LOCATION:Madrid\, Madrid\, Spain
ORGANIZER:pplaza@ieec.uned.es
SEQUENCE:1
SUMMARY:Introducción a Raspberry Pi
URL;VALUE=URI:https://events.vtools.ieee.org/m/228094
X-ALT-DESC:Description: &lt;br /&gt;&lt;p&gt;Hola\,&lt;/p&gt;\n&lt;p&gt;El pr&amp;oacute\;ximo jueves 9
  de abril de 2020 a las 19:00\, se va a desarrollar la sesi&amp;oacute\;n Intr
 oducci&amp;oacute\;n a Arduino. Este evento es organizado desde la UNED\, lide
 rado por su Vicerrectorado de Estudiantes y Emprendimiento\, en combinaci&amp;
 oacute\;n con la Rama de Estudiantes del IEEE de la UNED\, se desarrollar&amp;
 aacute\; una nueva actividad con la participaci&amp;oacute\;n de los estudiant
 es que pertenecen a la Rama\, en colaboraci&amp;oacute\;n con otros Vicerrecto
 rados de la UNED (Investigaci&amp;oacute\;n e Internacionalizaci&amp;oacute\;n\, C
 entros Asociados)\, el Centro Asociado de Madrid en su sede de Las Tablas\
 , las Escuelas de Ingenieros Industriales\, Inform&amp;aacute\;ticos y la Facu
 ltad de Ciencias (Matem&amp;aacute\;ticas\, F&amp;iacute\;sicas\, Qu&amp;iacute\;micas
  y Medio Ambiente)\, la Sociedad de Educaci&amp;oacute\;n del IEEE\, la Secci&amp;
 oacute\;n Espa&amp;ntilde\;a del IEEE\, el Cap&amp;iacute\;tulo Espa&amp;ntilde\;ol de
  la Sociedad de Educaci&amp;oacute\;n del IEEE\, Ramas Hispania del IEEE\,&amp;nbs
 p\;Young Professionals Espa&amp;ntilde\;a del IEEE\, la Rama de Estudiantes de
 l IEEE en la Universidad de Vigo\, &amp;nbsp\;y Plaza Rob&amp;oacute\;tica. A trav
 &amp;eacute\;s de esta sesi&amp;oacute\;n se introduce la plataforma Raspberry Pi.
  Tambi&amp;eacute\;n se muestra los tipos de aplicaciones que se pueden desarr
 ollar con esta plataforma. Adem&amp;aacute\;s\, podr&amp;aacute\;s ver varios ejem
 plos realizados con Raspberry Pi. Por &amp;uacute\;ltimo se proponen una serie
  de retos para poner a prueba los conocimientos adquiridos.&lt;/p&gt;\n&lt;p&gt;Os esp
 eramos.&lt;/p&gt;\n&lt;p&gt;Reciba un cordial saludo\,&lt;/p&gt;\n&lt;p&gt;La Rama de Estudiantes 
 del IEEE en la UNED.&lt;/p&gt;&lt;br /&gt;&lt;br /&gt;Agenda: &lt;br /&gt;&lt;ul&gt;\n&lt;li&gt;IEEE&lt;/li&gt;\n&lt;li
 &gt;Ramas de Estudiantes del IEEE en la UNED&lt;/li&gt;\n&lt;li&gt;Introducci&amp;oacute\;n R
 aspberry Pi&lt;/li&gt;\n&lt;li&gt;Hardware de Raspberry Pi&lt;/li&gt;\n&lt;li&gt;Software de Raspb
 erry Pi&lt;/li&gt;\n&lt;li&gt;Simulaci&amp;oacute\;n de Raspberry Pi&lt;/li&gt;\n&lt;li&gt;Ejemplos de
  aplicaciones&lt;/li&gt;\n&lt;li&gt;Aplicaciones educativas&lt;/li&gt;\n&lt;li&gt;Retos&lt;/li&gt;\n&lt;/ul
 &gt;
END:VEVENT
END:VCALENDAR

