BEGIN:VCALENDAR
VERSION:2.0
PRODID:IEEE vTools.Events//EN
CALSCALE:GREGORIAN
BEGIN:VTIMEZONE
TZID:Europe/Zurich
BEGIN:DAYLIGHT
DTSTART:20190331T030000
TZOFFSETFROM:+0100
TZOFFSETTO:+0200
RRULE:FREQ=YEARLY;BYDAY=-1SU;BYMONTH=3
TZNAME:CEST
END:DAYLIGHT
BEGIN:STANDARD
DTSTART:20191027T020000
TZOFFSETFROM:+0200
TZOFFSETTO:+0100
RRULE:FREQ=YEARLY;BYDAY=-1SU;BYMONTH=10
TZNAME:CET
END:STANDARD
END:VTIMEZONE
BEGIN:VEVENT
DTSTAMP:20200331T185021Z
UID:81F262E5-5536-4DE2-8001-2A65555DF1D8
DTSTART;TZID=Europe/Zurich:20191004T000000
DTEND;TZID=Europe/Zurich:20191004T124500
DESCRIPTION:Diamond-Like Carbon Thin Films\n\nCo-sponsored by: Bern Univers
 ity of Applied Sciences - Department of Engineering and Information Techno
 logy\n\nSpeaker(s): Caroline Hain\, \n\nRoom: Aula\, Bldg: HG\, Quellgasse
  21\, Biel\, Switzerland\, Switzerland\, 2501
LOCATION:Room: Aula\, Bldg: HG\, Quellgasse 21\, Biel\, Switzerland\, Switz
 erland\, 2501
ORGANIZER:thomas.niederhauser@bfh.ch
SEQUENCE:2
SUMMARY:Diamond-Like Carbon Thin Films
URL;VALUE=URI:https://events.vtools.ieee.org/m/228242
X-ALT-DESC:Description: &lt;br /&gt;&lt;p&gt;Diamond-Like Carbon Thin Films&lt;/p&gt;
END:VEVENT
END:VCALENDAR

