BEGIN:VCALENDAR
VERSION:2.0
PRODID:IEEE vTools.Events//EN
CALSCALE:GREGORIAN
BEGIN:VTIMEZONE
TZID:Europe/Madrid
BEGIN:DAYLIGHT
DTSTART:20200329T030000
TZOFFSETFROM:+0100
TZOFFSETTO:+0200
RRULE:FREQ=YEARLY;BYDAY=-1SU;BYMONTH=3
TZNAME:CEST
END:DAYLIGHT
BEGIN:STANDARD
DTSTART:20201025T020000
TZOFFSETFROM:+0200
TZOFFSETTO:+0100
RRULE:FREQ=YEARLY;BYDAY=-1SU;BYMONTH=10
TZNAME:CET
END:STANDARD
END:VTIMEZONE
BEGIN:VEVENT
DTSTAMP:20200421T151856Z
UID:3766C4D6-B85A-46D8-B355-6BF8C47BEF22
DTSTART;TZID=Europe/Madrid:20200421T103000
DTEND;TZID=Europe/Madrid:20200421T123000
DESCRIPTION:Estimados miembros de la Sección de IEEE España:\n\nEl próxi
 mo martes 21 de abril de 2020 a las 10:30am\, se celebrará un webinar sob
 re gestión de redes con Wireshark. La situación actual derivada del COVI
 D-19\, como muchos sabréis\, posiblemente va a impulsar los sectores tecn
 ológicos de la Ciberseguridad\, Geolocalización\, Blockchain\, entre otr
 os. También implicará la demanda de habilidades en garantizar el correct
 o funcionamiento de protocolos de comunicaciones sobre los que funcionan a
 plicaciones de los sectores anteriores. Durante la sesión\, se abordará 
 el uso de filtros adecuados para el correcto funcionamiento y gestión de 
 redes. Este evento es organizado desde la sección española del IEEE\, en
  combinación con el Capítulo Español de la Sociedad de Educación de IE
 EE España.\n\nOs esperamos.\n\nUn cordial saludo\n\nOscar M Bonastre\nPre
 sidente IEEE España\nPresidente Capítulo Español de la Sociedad de Educ
 ación de IEEE España\nEmail: ombonastre@ieee.org\nhttps://ieeespain.org/
 \nhttps://ieeer8.org/people/oscar/\n\nSpeaker(s): Oscar M Bonastre\, Ramó
 n Martínez Palomares\n\nMadrid\, Madrid\, Spain
LOCATION:Madrid\, Madrid\, Spain
ORGANIZER:ombonastre@ieee.org
SEQUENCE:5
SUMMARY:Webinar: Gestión de redes utilizando Wireshark
URL;VALUE=URI:https://events.vtools.ieee.org/m/228779
X-ALT-DESC:Description: &lt;br /&gt;&lt;div&gt;Estimados miembros de la Secci&amp;oacute\;n
  de IEEE Espa&amp;ntilde\;a:&lt;/div&gt;\n&lt;div&gt;&lt;br /&gt;El pr&amp;oacute\;ximo martes 21 de
  abril de 2020 a las 10:30am\, se celebrar&amp;aacute\; un webinar sobre gesti
 &amp;oacute\;n de redes con Wireshark. La situaci&amp;oacute\;n actual derivada de
 l COVID-19\, como muchos sabr&amp;eacute\;is\, posiblemente va a impulsar los 
 sectores tecnol&amp;oacute\;gicos de la Ciberseguridad\, Geolocalizaci&amp;oacute\
 ;n\, Blockchain\, entre otros. Tambi&amp;eacute\;n implicar&amp;aacute\; la demand
 a de habilidades en garantizar el correcto funcionamiento de protocolos de
  comunicaciones sobre los que funcionan aplicaciones de los sectores anter
 iores. Durante la sesi&amp;oacute\;n\, se abordar&amp;aacute\; el uso de filtros a
 decuados para el correcto funcionamiento y gesti&amp;oacute\;n de redes. Este 
 evento es organizado desde la secci&amp;oacute\;n espa&amp;ntilde\;ola del IEEE\, 
 en combinaci&amp;oacute\;n con el Cap&amp;iacute\;tulo Espa&amp;ntilde\;ol de la Socie
 dad de Educaci&amp;oacute\;n de IEEE Espa&amp;ntilde\;a.&lt;br /&gt;&lt;br /&gt;&lt;/div&gt;\n&lt;div&gt;O
 s esperamos.&lt;br /&gt;&lt;br /&gt;&lt;/div&gt;\n&lt;div&gt;Un cordial saludo&lt;br /&gt;&lt;br /&gt;&lt;/div&gt;\n
 &lt;div&gt;Oscar M Bonastre&lt;br /&gt;Presidente IEEE Espa&amp;ntilde\;a&lt;br /&gt;Presidente 
 Cap&amp;iacute\;tulo Espa&amp;ntilde\;ol de la Sociedad de Educaci&amp;oacute\;n de IE
 EE Espa&amp;ntilde\;a&lt;br /&gt;Email:&amp;nbsp\;&lt;a href=&quot;mailto:ombonastre@ieee.org&quot; t
 arget=&quot;_blank&quot; rel=&quot;noopener&quot;&gt;ombonastre@ieee.org&lt;/a&gt;&lt;br /&gt;&lt;a href=&quot;https:
 //ieeespain.org/&quot; target=&quot;_blank&quot; rel=&quot;noopener&quot; data-saferedirecturl=&quot;htt
 ps://www.google.com/url?q=https://ieeespain.org/&amp;amp\;source=gmail&amp;amp\;us
 t=1586628591444000&amp;amp\;usg=AFQjCNET55MMkA5bL4-lk3dx3JTz0bKfGg&quot;&gt;https://ie
 eespain.org/&lt;/a&gt;&lt;/div&gt;\n&lt;div&gt;&lt;a href=&quot;https://ieeer8.org/people/oscar/&quot;&gt;ht
 tps://ieeer8.org/people/oscar/&lt;/a&gt;&lt;/div&gt;
END:VEVENT
END:VCALENDAR

