BEGIN:VCALENDAR
VERSION:2.0
PRODID:IEEE vTools.Events//EN
CALSCALE:GREGORIAN
BEGIN:VTIMEZONE
TZID:US/Michigan
BEGIN:DAYLIGHT
DTSTART:20200308T030000
TZOFFSETFROM:-0500
TZOFFSETTO:-0400
RRULE:FREQ=YEARLY;BYDAY=2SU;BYMONTH=3
TZNAME:EDT
END:DAYLIGHT
BEGIN:STANDARD
DTSTART:20201101T010000
TZOFFSETFROM:-0400
TZOFFSETTO:-0500
RRULE:FREQ=YEARLY;BYDAY=1SU;BYMONTH=11
TZNAME:EST
END:STANDARD
END:VTIMEZONE
BEGIN:VEVENT
DTSTAMP:20200622T175231Z
UID:A3DFF16E-FD86-46CC-9786-F98870C229EE
DTSTART;TZID=US/Michigan:20200618T173000
DTEND;TZID=US/Michigan:20200618T193000
DESCRIPTION:Southeastern Michigan IEEE EMC Chapter technical meeting.\n\nNo
 te: This event is limited to the first 100 registrants.\n\nEvent slides: [
 https://cloud.rs-us.net/index.php/s/DDFKgyAzPuKnFs2](https://urldefense.pr
 oofpoint.com/v2/url?u=https-3A__cloud.rs-2Dus.net_index.php_s_DDFKgyAzPuKn
 Fs2&amp;d=DwMFaQ&amp;c=sGY7YMyCFG96uMCwuh_FWA&amp;r=YE6Az5zraOA3l3bzp4ixTF80UiLKzRGQuw
 eEKdXX86c&amp;m=qTF9DoyfRs3wQ_6JIOAYlHwTa3fNTHUBh0O5vYhJgK4&amp;s=RAiTbHN_7dfEKHOw
 _vU4dkgS9Os06TwikF58auLbx9Y&amp;e=)\n\nThis is an online meeting. Link: [https
 ://global.gotomeeting.com/join/346956405](https://urldefense.proofpoint.co
 m/v2/url?u=https-3A__global.gotomeeting.com_join_346956405&amp;d=DwMFaQ&amp;c=sGY7
 YMyCFG96uMCwuh_FWA&amp;r=YE6Az5zraOA3l3bzp4ixTF80UiLKzRGQuweEKdXX86c&amp;m=daCk05g
 5Hx-H9ElhLyGsNj_DnAH34eZ3tScwp8kxGQc&amp;s=1ZwT5gNyBX2JD3lEWx-UJFp1nNcwGl-9xaM
 HHkYXCg8&amp;e=)\n\n[][]\n\nSpeaker(s): James Lewis \, Matt Maxwell\n\nAgenda:
  \n5:30 Networking\n\n6:00 Presentation\n\nOn Line Meeting\, Novi\, Michig
 an\, United States
LOCATION:On Line Meeting\, Novi\, Michigan\, United States
ORGANIZER:scott@emcsociety.org
SEQUENCE:8
SUMMARY:Pre-Compliance EMI Debugging
URL;VALUE=URI:https://events.vtools.ieee.org/m/228971
X-ALT-DESC:Description: &lt;br /&gt;&lt;p&gt;Southeastern Michigan IEEE EMC Chapter tec
 hnical meeting.&lt;/p&gt;\n&lt;p&gt;Note:&amp;nbsp\; This event is limited to the first 10
 0 registrants.&lt;/p&gt;\n&lt;p&gt;Event slides:&amp;nbsp\;&amp;nbsp\;&lt;a href=&quot;https://urldefe
 nse.proofpoint.com/v2/url?u=https-3A__cloud.rs-2Dus.net_index.php_s_DDFKgy
 AzPuKnFs2&amp;amp\;d=DwMFaQ&amp;amp\;c=sGY7YMyCFG96uMCwuh_FWA&amp;amp\;r=YE6Az5zraOA3l
 3bzp4ixTF80UiLKzRGQuweEKdXX86c&amp;amp\;m=qTF9DoyfRs3wQ_6JIOAYlHwTa3fNTHUBh0O5
 vYhJgK4&amp;amp\;s=RAiTbHN_7dfEKHOw_vU4dkgS9Os06TwikF58auLbx9Y&amp;amp\;e=&quot; target
 =&quot;_blank&quot; rel=&quot;noopener noreferrer&quot; data-auth=&quot;NotApplicable&quot;&gt;https://clou
 d.rs-us.net/index.php/s/DDFKgyAzPuKnFs2&lt;/a&gt;&lt;/p&gt;\n&lt;p&gt;&lt;span style=&quot;font-size
 : 24pt\; color: #0000ff\;&quot;&gt;This is an online meeting.&amp;nbsp\; Link:&amp;nbsp\;&lt;
 a href=&quot;https://urldefense.proofpoint.com/v2/url?u=https-3A__global.gotome
 eting.com_join_346956405&amp;amp\;d=DwMFaQ&amp;amp\;c=sGY7YMyCFG96uMCwuh_FWA&amp;amp\;
 r=YE6Az5zraOA3l3bzp4ixTF80UiLKzRGQuweEKdXX86c&amp;amp\;m=daCk05g5Hx-H9ElhLyGsN
 j_DnAH34eZ3tScwp8kxGQc&amp;amp\;s=1ZwT5gNyBX2JD3lEWx-UJFp1nNcwGl-9xaMHHkYXCg8&amp;
 amp\;e=&quot; target=&quot;_blank&quot; rel=&quot;noopener noreferrer&quot; data-auth=&quot;NotApplicabl
 e&quot;&gt;https://global.gotomeeting.com/join/346956405&lt;/a&gt;&lt;/span&gt;&lt;/p&gt;\n&lt;p&gt;&amp;nbsp\
 ;&lt;/p&gt;\n&lt;p&gt;&amp;nbsp\;&lt;img src=&quot;https://www.emcsociety.org/wp/wp-content/upload
 s/2020/04/ALTERNATIVE_RS_Logo_Logotype_claim_RGB_blue.jpg&quot; width=&quot;483&quot; hei
 ght=&quot;125&quot; /&gt;&lt;/p&gt;\n&lt;p&gt;&lt;img src=&quot;http://www.emcsociety.org/big_iee.jpg&quot; alt=
 &quot;&quot; /&gt;&lt;img src=&quot;http://www.emcsociety.org/emcsociety.jpg&quot; alt=&quot;&quot; /&gt;&lt;/p&gt;&lt;br 
 /&gt;&lt;br /&gt;Agenda: &lt;br /&gt;&lt;p&gt;5:30 Networking&amp;nbsp\;&lt;/p&gt;\n&lt;p&gt;6:00 Presentation&lt;
 /p&gt;
END:VEVENT
END:VCALENDAR

