BEGIN:VCALENDAR
VERSION:2.0
PRODID:IEEE vTools.Events//EN
CALSCALE:GREGORIAN
BEGIN:VTIMEZONE
TZID:Europe/Madrid
BEGIN:DAYLIGHT
DTSTART:20200329T030000
TZOFFSETFROM:+0100
TZOFFSETTO:+0200
RRULE:FREQ=YEARLY;BYDAY=-1SU;BYMONTH=3
TZNAME:CEST
END:DAYLIGHT
BEGIN:STANDARD
DTSTART:20201025T020000
TZOFFSETFROM:+0200
TZOFFSETTO:+0100
RRULE:FREQ=YEARLY;BYDAY=-1SU;BYMONTH=10
TZNAME:CET
END:STANDARD
END:VTIMEZONE
BEGIN:VEVENT
DTSTAMP:20200423T184522Z
UID:DDB890C4-41C9-446C-877A-F458806EE60F
DTSTART;TZID=Europe/Madrid:20200423T190000
DTEND;TZID=Europe/Madrid:20200423T200000
DESCRIPTION:Hola\,\n\nEn primer lugar\, esperamos que vosotros y vuestros f
 amiliares sigáis bien en lo que llevamos de cuarentena.\n\nEl próximo ju
 eves 23 de abril de 2020 a las 19:00\, se va a desarrollar la sesión VISI
 R: escapada virtual a un laboratorio real.\n\nVISIR es un laboratorio remo
 to para la construcción de circuitos eléctricos y electrónicos y la rea
 lización de mediciones a través de un banco de trabajo simulado. El proy
 ecto VISIR fue fundado en 2006 por el Departamento de Procesamiento de Se
 ñal (ASB) del BTH junto con las compañías National Instruments y AXIOM 
 EduTech y financiado por el BTH y la agencia sueca gubernamental de sistem
 as de innovación VINNOVA.\n\nVISIR propone una arquitectura hardware y so
 ftware de laboratorio remoto orientado al desarrollo de experimentos de el
 ectrónica analógica básica. La gran diferencia de este laboratorio remo
 to respecto a otros de la misma temática\, es la posibilidad de reconfigu
 ración remota de los experimentos a realizar. Es decir\, el usuario puede
  elegir que circuito quiere estudiar\, construirlo remotamente gracias a u
 na matriz de conmutación y analizar su comportamiento mediante los instru
 mentos contenidos en un PXI (osciloscopio\, generador de funciones\, DMM y
  fuente de alimentación)\, controlados también remotamente por el usuari
 o. Dentro del proyecto VISIR actualmente está DIEEC-UNED como miembro act
 ivo en la comunidad VISIR al compartir sus recursos de laboratorio y exper
 imentos con el resto de la comunidad para mejorar las habilidades de exper
 imentación en los campos de la ingeniería eléctrica y electrónica.\n\n
 Este evento es organizado desde la UNED\, liderado por su Vicerrectorado d
 e Estudiantes y Emprendimiento\, en combinación con la Rama de Estudiante
 s del IEEE de la UNED\, se desarrollará una nueva actividad con la partic
 ipación de los estudiantes que pertenecen a la Rama\, en colaboración co
 n otros Vicerrectorados de la UNED (Investigación e Internacionalización
 \, Centros Asociados)\, el Centro Asociado de Madrid en su sede de Las Tab
 las\, las Escuelas de Ingenieros Industriales\, Informáticos y la Faculta
 d de Ciencias (Matemáticas\, Físicas\, Químicas y Medio Ambiente)\, el 
 Proyecto de Innovación Docente (PID) para Grupos de Innovación Docente (
 GID) de la UNED\, GID2016-17 &quot;Laboratorios de STEM y robótica educativa p
 ara la mejora de la experiencia del estudiante – STEM‐SEC&quot;\, el Capít
 ulo Español de la Sociedad de Educación del IEEE y Plaza Robótica.\n\nO
 s esperamos.\n\nReciba un cordial saludo\,\n\nLa Rama de Estudiantes del I
 EEE en la UNED.\n\nCo-sponsored by: Plaza Robotica\n\nSpeaker(s): Félix G
 arcía-Loro\, \n\nAgenda: \n- IEEE\n- Rama de Estudiantes del IEEE en la U
 NED\n- VISIR\n- Arquitectura hardware y software\n- Comunidad VISIR\n- Ret
 o\n\nCiudad Real\, Castilla-La Mancha\, Spain
LOCATION:Ciudad Real\, Castilla-La Mancha\, Spain
ORGANIZER:pplaza@ieec.uned.es
SEQUENCE:2
SUMMARY:VISIR: escapada virtual a un laboratorio real
URL;VALUE=URI:https://events.vtools.ieee.org/m/229146
X-ALT-DESC:Description: &lt;br /&gt;&lt;p&gt;Hola\,&lt;/p&gt;\n&lt;p&gt;En primer lugar\, esperamos
  que vosotros y vuestros familiares sig&amp;aacute\;is bien en lo que llevamos
  de cuarentena.&lt;/p&gt;\n&lt;p&gt;El pr&amp;oacute\;ximo jueves 23 de abril de 2020 a la
 s 19:00\, se va a desarrollar la sesi&amp;oacute\;n VISIR: escapada virtual a 
 un laboratorio real.&lt;/p&gt;\n&lt;p&gt;VISIR es un laboratorio remoto para la constr
 ucci&amp;oacute\;n de circuitos el&amp;eacute\;ctricos y electr&amp;oacute\;nicos y la
  realizaci&amp;oacute\;n de mediciones a trav&amp;eacute\;s de un banco de trabajo
  simulado. El proyecto VISIR fue fundado en 2006 por el Departamento de Pr
 ocesamiento de Se&amp;ntilde\;al (ASB) del BTH junto con las compa&amp;ntilde\;&amp;ia
 cute\;as National Instruments y AXIOM EduTech y financiado por el BTH y la
  agencia sueca gubernamental de sistemas de innovaci&amp;oacute\;n VINNOVA.&lt;/p
 &gt;\n&lt;p&gt;VISIR propone una arquitectura hardware y software de laboratorio re
 moto orientado al desarrollo de experimentos de electr&amp;oacute\;nica anal&amp;o
 acute\;gica b&amp;aacute\;sica. La gran diferencia de este laboratorio remoto 
 respecto a otros de la misma tem&amp;aacute\;tica\, es la posibilidad de recon
 figuraci&amp;oacute\;n remota de los experimentos a realizar. Es decir\, el us
 uario puede elegir que circuito quiere estudiar\, construirlo remotamente 
 gracias a una matriz de conmutaci&amp;oacute\;n y analizar su comportamiento m
 ediante los instrumentos contenidos en un PXI (osciloscopio\, generador de
  funciones\, DMM y fuente de alimentaci&amp;oacute\;n)\, controlados tambi&amp;eac
 ute\;n remotamente por el usuario. Dentro del proyecto VISIR actualmente e
 st&amp;aacute\; DIEEC-UNED como miembro activo en la comunidad VISIR al compar
 tir sus recursos de laboratorio y experimentos con el resto de la comunida
 d para mejorar las habilidades de experimentaci&amp;oacute\;n en los campos de
  la ingenier&amp;iacute\;a el&amp;eacute\;ctrica y electr&amp;oacute\;nica.&lt;/p&gt;\n&lt;p&gt;Es
 te evento es organizado desde la UNED\, liderado por su Vicerrectorado de 
 Estudiantes y Emprendimiento\, en combinaci&amp;oacute\;n con la Rama de Estud
 iantes del IEEE de la UNED\, se desarrollar&amp;aacute\; una nueva actividad c
 on la participaci&amp;oacute\;n de los estudiantes que pertenecen a la Rama\, 
 en colaboraci&amp;oacute\;n con otros Vicerrectorados de la UNED (Investigaci&amp;
 oacute\;n e Internacionalizaci&amp;oacute\;n\, Centros Asociados)\, el Centro 
 Asociado de Madrid en su sede de Las Tablas\, las Escuelas de Ingenieros I
 ndustriales\, Inform&amp;aacute\;ticos y la Facultad de Ciencias (Matem&amp;aacute
 \;ticas\, F&amp;iacute\;sicas\, Qu&amp;iacute\;micas y Medio Ambiente)\, el Proyec
 to de Innovaci&amp;oacute\;n Docente (PID) para Grupos de Innovaci&amp;oacute\;n D
 ocente (GID) de la UNED\, GID2016-17 &quot;Laboratorios de STEM y rob&amp;oacute\;t
 ica educativa para la mejora de la experiencia del estudiante &amp;ndash\; STE
 M‐SEC&quot;\, el Cap&amp;iacute\;tulo Espa&amp;ntilde\;ol de la Sociedad de Educaci&amp;o
 acute\;n del IEEE y Plaza Rob&amp;oacute\;tica.&lt;/p&gt;\n&lt;p&gt;Os esperamos.&lt;/p&gt;\n&lt;p&gt;
 Reciba un cordial saludo\,&lt;/p&gt;\n&lt;p&gt;La Rama de Estudiantes del IEEE en la U
 NED.&lt;/p&gt;&lt;br /&gt;&lt;br /&gt;Agenda: &lt;br /&gt;&lt;ul&gt;\n&lt;li&gt;IEEE&lt;/li&gt;\n&lt;li&gt;Rama de Estudia
 ntes del IEEE en la UNED&lt;/li&gt;\n&lt;li&gt;VISIR&lt;/li&gt;\n&lt;li&gt;Arquitectura hardware y
  software&lt;/li&gt;\n&lt;li&gt;Comunidad VISIR&lt;/li&gt;\n&lt;li&gt;Reto&lt;/li&gt;\n&lt;/ul&gt;
END:VEVENT
END:VCALENDAR

