BEGIN:VCALENDAR
VERSION:2.0
PRODID:IEEE vTools.Events//EN
CALSCALE:GREGORIAN
BEGIN:VTIMEZONE
TZID:Asia/Kolkata
BEGIN:STANDARD
DTSTART:19451014T230000
TZOFFSETFROM:+0630
TZOFFSETTO:+0530
TZNAME:IST
END:STANDARD
END:VTIMEZONE
BEGIN:VEVENT
DTSTAMP:20200508T102759Z
UID:689A0FD7-1075-41E0-8E01-9162EE01AA02
DTSTART;TZID=Asia/Kolkata:20200503T110000
DTEND;TZID=Asia/Kolkata:20200503T130000
DESCRIPTION:Being competitive and again taking personal responsibility for 
 your career. IEEE&#39;s benefits include venues and tools for members to netwo
 rk\, build valuable professional connections\, and hone leadership skills.
  These are essential for managing your career.\n\nSpeaker(s): Prof. Ashees
 h Kumar\, Dr. Satish Kumar Singh\n\nAgenda: \nIEEE membership is about you
  being competitive and again taking personal responsibility for your caree
 r. IEEE&#39;s benefits include venues and tools for members to network\, build
  valuable professional connections\, and hone leadership skills. These are
  essential for managing your career.\n\nLUCKNOW\, Uttar Pradesh\, India
LOCATION:LUCKNOW\, Uttar Pradesh\, India
ORGANIZER:rafik8329@ieee.org
SEQUENCE:12
SUMMARY:Webinar on ​IEEE Student Member Development Program ​
URL;VALUE=URI:https://events.vtools.ieee.org/m/229545
X-ALT-DESC:Description: &lt;br /&gt;&lt;p&gt;&amp;nbsp\;Being competitive and again taking 
 personal responsibility for your career.&amp;nbsp\;&lt;strong&gt;IEEE&#39;s benefits&lt;/st
 rong&gt;&amp;nbsp\;include venues and tools for members to network\, build valuab
 le professional connections\, and hone leadership skills. These are essent
 ial for managing your career.&lt;/p&gt;&lt;br /&gt;&lt;br /&gt;Agenda: &lt;br /&gt;&lt;p&gt;&lt;em&gt;&lt;strong&gt;
 IEEE&lt;/strong&gt;&amp;nbsp\;membership is about you being competitive and again ta
 king personal responsibility for your career.&amp;nbsp\;&lt;strong&gt;IEEE&#39;s benefit
 s&lt;/strong&gt;&amp;nbsp\;include venues and tools for members to network\, build v
 aluable professional connections\, and hone leadership skills. These are e
 ssential for managing your career.&lt;/em&gt;&lt;/p&gt;
END:VEVENT
END:VCALENDAR

