BEGIN:VCALENDAR
VERSION:2.0
PRODID:IEEE vTools.Events//EN
CALSCALE:GREGORIAN
BEGIN:VTIMEZONE
TZID:Canada/Mountain
BEGIN:DAYLIGHT
DTSTART:20200308T030000
TZOFFSETFROM:-0700
TZOFFSETTO:-0600
RRULE:FREQ=YEARLY;BYDAY=2SU;BYMONTH=3
TZNAME:MDT
END:DAYLIGHT
BEGIN:STANDARD
DTSTART:20201101T010000
TZOFFSETFROM:-0600
TZOFFSETTO:-0700
RRULE:FREQ=YEARLY;BYDAY=1SU;BYMONTH=11
TZNAME:MST
END:STANDARD
END:VTIMEZONE
BEGIN:VEVENT
DTSTAMP:20200616T193728Z
UID:1549D28C-A669-44F2-BAC4-60C1EDE22AFB
DTSTART;TZID=Canada/Mountain:20200610T120000
DTEND;TZID=Canada/Mountain:20200610T130000
DESCRIPTION:The manufacturing of Transformer is integrated to global supply
  chain. With the improvement of technology\, the design and manufacturing 
 of transformer can be more aggressive such as reduce clearance and use of 
 pure mineral oil during FAT to ensure the passing of tests during FAT. Cle
 an room and environmental condition can be compromised during the manufact
 uring process which can have impact in the life expectancy of transformer.
  This presentation will walk through the quality assurance of transformer 
 during the manufacturing of transformer.\n--------------------------------
 -------------------------------\n\nAdvance registration only\, prior to no
 on on June 9.\n\nA link to the WebEx registration will be sent to the emai
 l address you provided during this vTools registration\, on the afternoon 
 on June 9\, by &quot;IEEE Southern Alberta&quot;. Please double check the spelling o
 f your email address when registering.\n\nYou will need to complete the We
 bEx event registration prior to joining the webinar.\n\nCo-sponsored by: T
 ransformer Consulting Services Inc.\n\nSpeaker(s): Ronnie Minhaz\, PEng.\,
  \n\nAgenda: \n- 11.45am: WebEx opens\n- 12.00pm: Presentation begins\n- 1
 2.45pm: Questions &amp; Answers\n- 1.00pm: Presentation concludes\n\nCalgary\,
  Alberta\, Canada
LOCATION:Calgary\, Alberta\, Canada
ORGANIZER:shan.pandher@ieee.org
SEQUENCE:3
SUMMARY:Webinar: Quality Assurance of Transformer
URL;VALUE=URI:https://events.vtools.ieee.org/m/230550
X-ALT-DESC:Description: &lt;br /&gt;&lt;p&gt;The manufacturing of Transformer is integr
 ated to global supply chain. With the improvement of technology\, the desi
 gn and manufacturing of transformer can be more aggressive such as reduce 
 clearance and use of pure mineral oil during FAT to ensure the passing of 
 tests during FAT. Clean room and environmental condition can be compromise
 d during the manufacturing process which can have impact in the life expec
 tancy of transformer. This presentation will walk through the quality assu
 rance of transformer during the manufacturing of transformer.&lt;/p&gt;\n&lt;hr /&gt;\
 n&lt;p&gt;Advance registration only\, prior to noon on June 9.&lt;/p&gt;\n&lt;p&gt;&lt;em&gt;&lt;stro
 ng&gt;A link to the WebEx registration will be sent to the email address you 
 provided during this vTools registration\, on the afternoon on June 9\, by
  &quot;IEEE Southern Alberta&quot;.&amp;nbsp\; Please double check the spelling of your 
 email address when registering.&lt;/strong&gt;&lt;/em&gt;&lt;/p&gt;\n&lt;p&gt;&lt;em&gt;&lt;strong&gt;You will
  need to complete the WebEx event registration prior to joining the webina
 r.&lt;/strong&gt;&lt;/em&gt;&lt;/p&gt;&lt;br /&gt;&lt;br /&gt;Agenda: &lt;br /&gt;&lt;ul&gt;\n&lt;li&gt;11.45am: WebEx ope
 ns&lt;/li&gt;\n&lt;li&gt;12.00pm: Presentation begins&lt;/li&gt;\n&lt;li&gt;12.45pm: Questions &amp;am
 p\; Answers&lt;/li&gt;\n&lt;li&gt;1.00pm: Presentation concludes&lt;/li&gt;\n&lt;/ul&gt;
END:VEVENT
END:VCALENDAR

