BEGIN:VCALENDAR
VERSION:2.0
PRODID:IEEE vTools.Events//EN
CALSCALE:GREGORIAN
BEGIN:VTIMEZONE
TZID:America/Montreal
BEGIN:DAYLIGHT
DTSTART:20200308T030000
TZOFFSETFROM:-0500
TZOFFSETTO:-0400
RRULE:FREQ=YEARLY;BYDAY=2SU;BYMONTH=3
TZNAME:EDT
END:DAYLIGHT
BEGIN:STANDARD
DTSTART:20201101T010000
TZOFFSETFROM:-0400
TZOFFSETTO:-0500
RRULE:FREQ=YEARLY;BYDAY=1SU;BYMONTH=11
TZNAME:EST
END:STANDARD
END:VTIMEZONE
BEGIN:VEVENT
DTSTAMP:20200601T234300Z
UID:AFA9CED2-F527-4E35-8E42-0AD9DD923D9A
DTSTART;TZID=America/Montreal:20200514T120000
DTEND;TZID=America/Montreal:20200514T130000
DESCRIPTION:The ongoing super-linear growth of world’s population coupled
  with the worldwide access to internet and the general public’s tendency
  to use more bandwidth-intensive applications fuel the urgency to enhance 
 wireless infrastructures so as to meet these demands. Consequently\, the w
 ireless R&amp;D is headed towards the inception of &quot;Beyond-5G&quot; (e.g.\, 6G) tec
 hnology. This webinar provides a comprehensive overview of challenges and 
 opportunities in designing beyond-5G transceiver architectures capable of 
 achieving high data rates above and beyond 20 Gbps.\n\nPresented by Payam 
 Heydari\, University of California\, Irvine\n\nCo-sponsored by:  IEEE Soli
 d-State Circuits Society\n\nSpeaker(s): DR. Payam Heydari\, \n\nMontreal\,
  Quebec\, Canada\, H5A 1K6
LOCATION:Montreal\, Quebec\, Canada\, H5A 1K6
ORGANIZER:djerafi@emt.inrs.ca
SEQUENCE:1
SUMMARY:Transceiver Architectures for Beyond-5G: Challenges and R&amp;D Opportu
 nities
URL;VALUE=URI:https://events.vtools.ieee.org/m/230606
X-ALT-DESC:Description: &lt;br /&gt;&lt;p style=&quot;font-weight: 400\;&quot;&gt;The ongoing sup
 er-linear growth of world&amp;rsquo\;s population coupled with the worldwide a
 ccess to internet and the general public&amp;rsquo\;s tendency to use more ban
 dwidth-intensive applications fuel the urgency to enhance wireless infrast
 ructures so as to meet these demands. Consequently\, the wireless R&amp;amp\;D
  is headed towards the inception of &quot;Beyond-5G&quot; (e.g.\, 6G) technology. Th
 is webinar provides a comprehensive overview of challenges and opportuniti
 es in designing beyond-5G transceiver architectures capable of achieving h
 igh data rates above and beyond 20 Gbps.&lt;/p&gt;\n&lt;p style=&quot;font-weight: 400\;
 &quot;&gt;Presented by Payam Heydari\, University of California\, Irvine&lt;/p&gt;
END:VEVENT
END:VCALENDAR

