BEGIN:VCALENDAR
VERSION:2.0
PRODID:IEEE vTools.Events//EN
CALSCALE:GREGORIAN
BEGIN:VTIMEZONE
TZID:America/Argentina/Buenos_Aires
BEGIN:DAYLIGHT
DTSTART:20380119T001407
TZOFFSETFROM:-0300
TZOFFSETTO:-0300
RRULE:FREQ=YEARLY;BYDAY=3TU;BYMONTH=1
TZNAME:-03
END:DAYLIGHT
BEGIN:STANDARD
DTSTART:20090314T230000
TZOFFSETFROM:-0200
TZOFFSETTO:-0300
RRULE:FREQ=YEARLY;BYDAY=2SA;BYMONTH=3
TZNAME:-03
END:STANDARD
END:VTIMEZONE
BEGIN:VEVENT
DTSTAMP:20200531T014118Z
UID:094811BE-80EB-4DB8-A4FE-59636F6F8657
DTSTART;TZID=America/Argentina/Buenos_Aires:20200516T150000
DTEND;TZID=America/Argentina/Buenos_Aires:20200516T160000
DESCRIPTION:IGNITE (Interactive Group for New Initiatives and Training for 
 Excellence)\n\nEvent organized by IEEE Argentina Section that gathers stud
 ents and professionals from technical careers with the objective of train 
 volunteers that can perform leadership roles in IEEE.\n\nPlease register t
 o provide a link for the meeting.\nFor more information about the event\, 
 visit [our website](https://site.ieee.org/argentina-sac/sac-team/ignite-20
 20/).\n\nAgenda: \n- IEEE\n\n- IEEE Member and Geographic Activities\n\n- 
 IEEE Región 9\n\n- IEEE Sección Argentina\n\n- Actividades estudiantiles
  IEEE en Argentina\n\nCABA\, Buenos Aires\, Argentina
LOCATION:CABA\, Buenos Aires\, Argentina
ORGANIZER:sac@ieee.org.ar
SEQUENCE:7
SUMMARY:IGNITE 2020.1
URL;VALUE=URI:https://events.vtools.ieee.org/m/230803
X-ALT-DESC:Description: &lt;br /&gt;&lt;p id=&quot;m_5999860585289680763m_-42394048818821
 23790gmail-docs-internal-guid-8f3c03d4-7fff-36a4-c292-d8b4edce69c6&quot; dir=&quot;l
 tr&quot; style=&quot;line-height: 1.2\; margin-top: 0pt\; margin-bottom: 0pt\;&quot;&gt;&lt;spa
 n style=&quot;font-size: 10pt\; font-family: verdana\, geneva\, sans-serif\;&quot;&gt;&lt;
 strong&gt;&lt;span style=&quot;color: #000000\; background-color: transparent\; font-
 variant: normal\; text-decoration: none\; vertical-align: baseline\; white
 -space: pre-wrap\;&quot;&gt;IGNITE &lt;/span&gt;&lt;/strong&gt;&lt;em&gt;&lt;strong&gt;&lt;span style=&quot;color:
  #000000\; background-color: transparent\; font-variant: normal\; text-dec
 oration: none\; vertical-align: baseline\; white-space: pre-wrap\;&quot;&gt;(Inter
 active Group for New Initiatives and Training for Excellence)&lt;/span&gt;&lt;/stro
 ng&gt;&lt;/em&gt;&lt;/span&gt;&lt;/p&gt;\n&lt;p dir=&quot;ltr&quot; style=&quot;line-height: 1.2\; margin-top: 0p
 t\; margin-bottom: 0pt\;&quot;&gt;&lt;span style=&quot;font-size: 10pt\; font-family: verd
 ana\, geneva\, sans-serif\;&quot;&gt;&lt;span style=&quot;color: #000000\; background-colo
 r: transparent\; font-variant: normal\; text-decoration: none\; vertical-a
 lign: baseline\; white-space: pre-wrap\;&quot;&gt;Event organized by IEEE Argentin
 a Section that gathers students and professionals from technical careers w
 ith the objective of train volunteers that can perform leadership roles in
  IEEE. &lt;/span&gt;&lt;/span&gt;&lt;/p&gt;\n&lt;p dir=&quot;ltr&quot; style=&quot;line-height: 1.2\; margin-t
 op: 0pt\; margin-bottom: 0pt\;&quot;&gt;&lt;span style=&quot;font-size: 10pt\; font-family
 : verdana\, geneva\, sans-serif\;&quot;&gt;&lt;span style=&quot;color: #000000\; backgroun
 d-color: transparent\; font-variant: normal\; text-decoration: none\; vert
 ical-align: baseline\; white-space: pre-wrap\;&quot;&gt;Please register to provide
  a link for the meeting.&lt;br /&gt;For more information about the event\, visit
  &lt;a href=&quot;https://site.ieee.org/argentina-sac/sac-team/ignite-2020/&quot;&gt;our w
 ebsite&lt;/a&gt;.&lt;br /&gt;&lt;/span&gt;&lt;/span&gt;&lt;/p&gt;&lt;br /&gt;&lt;br /&gt;Agenda: &lt;br /&gt;&lt;p&gt;&amp;nbsp\;&lt;/p
 &gt;\n&lt;ul&gt;\n&lt;li&gt;&lt;strong&gt;IEEE&lt;/strong&gt;&lt;/li&gt;\n&lt;/ul&gt;\n&lt;ul&gt;\n&lt;li&gt;IEEE Member and 
 Geographic Activities&lt;/li&gt;\n&lt;/ul&gt;\n&lt;ul&gt;\n&lt;li&gt;IEEE Regi&amp;oacute\;n 9&lt;/li&gt;\n&lt;
 /ul&gt;\n&lt;ul&gt;\n&lt;li&gt;IEEE Secci&amp;oacute\;n Argentina&lt;/li&gt;\n&lt;/ul&gt;\n&lt;ul&gt;\n&lt;li&gt;Acti
 vidades estudiantiles IEEE en Argentina&lt;/li&gt;\n&lt;/ul&gt;\n&lt;p&gt;&amp;nbsp\;&lt;/p&gt;\n&lt;p&gt;&amp;n
 bsp\;&lt;/p&gt;
END:VEVENT
END:VCALENDAR

