BEGIN:VCALENDAR
VERSION:2.0
PRODID:IEEE vTools.Events//EN
CALSCALE:GREGORIAN
BEGIN:VTIMEZONE
TZID:Asia/Kolkata
BEGIN:STANDARD
DTSTART:19451014T230000
TZOFFSETFROM:+0630
TZOFFSETTO:+0530
TZNAME:IST
END:STANDARD
END:VTIMEZONE
BEGIN:VEVENT
DTSTAMP:20200604T053236Z
UID:0BDD8191-0A5A-498A-97CA-06A629600B33
DTSTART;TZID=Asia/Kolkata:20200520T150000
DTEND;TZID=Asia/Kolkata:20200520T170000
DESCRIPTION:Optimal operation of Islanded microgrids is necessary inorder t
 o reduce Generation cost\, total emissions and voltage deviations. Certain
  uncertainities in load and generation in microgrid environment must be co
 nsidered. Impact of wind site correlations on the optimal operation of the
  system could also be another uncertainity. The probabilistic multi-object
 ive problem is solved using the multi-objective version of ant lion optimi
 zation algorithm in finding the optimal droop parameters of generators in 
 islanded microgrid.\n\nCo-sponsored by: STB-11430 \; JNTUK UNIVERSITY COLL
 EGE OF ENGINEERING NARASARAOPET\n\nSpeaker(s): Mr. J. Jithendranath \, (Ph
 .D).\, \n\nDepartment of EEE\, University College of Engineering JNTUK Nar
 asaraopet\, Guntur\, Andhra Pradesh\, India\, 522601
LOCATION:Department of EEE\, University College of Engineering JNTUK Narasa
 raopet\, Guntur\, Andhra Pradesh\, India\, 522601
ORGANIZER:swarnasrik@rvrjc.ac.in
SEQUENCE:3
SUMMARY:A Webinar on &quot;Stochastic Considerations in operation of Islanded Mi
 crogrids-Optimization Perspective&quot;
URL;VALUE=URI:https://events.vtools.ieee.org/m/230871
X-ALT-DESC:Description: &lt;br /&gt;&lt;p&gt;Optimal operation of Islanded microgrids i
 s necessary inorder to reduce Generation cost\, total emissions and voltag
 e deviations. Certain uncertainities in load and generation in microgrid e
 nvironment must be considered. Impact of wind site correlations on the opt
 imal operation of the system could also be another uncertainity.&amp;nbsp\;The
  probabilistic multi-objective problem is solved using the multi-objective
  version of ant lion optimization algorithm in finding the optimal droop p
 arameters of generators in islanded microgrid.&lt;/p&gt;
END:VEVENT
END:VCALENDAR

