BEGIN:VCALENDAR
VERSION:2.0
PRODID:IEEE vTools.Events//EN
CALSCALE:GREGORIAN
BEGIN:VEVENT
DTSTAMP:20200627T024307Z
UID:A240665E-7674-4913-9460-B7631D5211CE
DTSTART;TZID=Etc/GMT+5:20200626T103000
DTEND;TZID=Etc/GMT+5:20200626T123000
DESCRIPTION:Debido a la situación que enfrentamos en el país\, dicha visi
 ta ha tenido que tomar otro rumbo\, encontrando las alternativas necesaria
 s para acercar a nuestra comunidad académica y el conocimiento científic
 o. El evento propondrá conocimiento de las funciones tanto de la parte el
 éctrica y mecánica de la Central.\n\nGuayaquil\, Guayas\, Ecuador
LOCATION:Guayaquil\, Guayas\, Ecuador
ORGANIZER:ae.crespo@ieee.org
SEQUENCE:1
SUMMARY:Visita Técnica Virtual: Central Hidroeléctrica Minas San Francisc
 o CELEC SUR
URL;VALUE=URI:https://events.vtools.ieee.org/m/233118
X-ALT-DESC:Description: &lt;br /&gt;&lt;p&gt;Debido a la situaci&amp;oacute\;n que enfrenta
 mos en el pa&amp;iacute\;s\, dicha visita ha tenido que tomar otro rumbo\, enc
 ontrando las alternativas necesarias para acercar a nuestra comunidad acad
 &amp;eacute\;mica y el conocimiento cient&amp;iacute\;fico. El evento propondr&amp;aac
 ute\; conocimiento de las funciones tanto de la parte el&amp;eacute\;ctrica y 
 mec&amp;aacute\;nica de la Central.&lt;/p&gt;
END:VEVENT
END:VCALENDAR

