BEGIN:VCALENDAR
VERSION:2.0
PRODID:IEEE vTools.Events//EN
CALSCALE:GREGORIAN
BEGIN:VTIMEZONE
TZID:America/New_York
BEGIN:DAYLIGHT
DTSTART:20200308T030000
TZOFFSETFROM:-0500
TZOFFSETTO:-0400
RRULE:FREQ=YEARLY;BYDAY=2SU;BYMONTH=3
TZNAME:EDT
END:DAYLIGHT
BEGIN:STANDARD
DTSTART:20201101T010000
TZOFFSETFROM:-0400
TZOFFSETTO:-0500
RRULE:FREQ=YEARLY;BYDAY=1SU;BYMONTH=11
TZNAME:EST
END:STANDARD
END:VTIMEZONE
BEGIN:VEVENT
DTSTAMP:20200615T010055Z
UID:68B32411-6F87-4CFD-ADE9-20BC55079341
DTSTART;TZID=America/New_York:20200611T190000
DTEND;TZID=America/New_York:20200611T203000
DESCRIPTION:June Meeting of the IEEE Photonics Society Boston Chapter [www.
 bostonphotonics.org](http://www.bostonphotonics.org/)\n\nSpeaker(s): Profe
 ssor Aydogan Ozcan\, \n\nAgenda: \nIMPORTANT NOTE: Registration is require
 d for this meeting.\n\nPlease use the following link to register.\n\nhttps
 ://us02web.zoom.us/webinar/register/WN_BDZPjw6vQG6NQeJjmroY4w\n\nAfter reg
 istering\, you will receive a confirmation email containing information ab
 out joining the webinar. This webinar will take place on Zoom and will be 
 started 15 minutes early (at 6:45 EDT) to allow for technical troubleshoot
 ing.\n\nAll are welcome. For more information visit the IEEE Boston Photon
 ics Society website at [www.bostonphotonics.org](http://www.bostonphotonic
 s.org/).\n\nOnline (ZOOM)\, Lexington\, Massachusetts\, United States\, 02
 420
LOCATION:Online (ZOOM)\, Lexington\, Massachusetts\, United States\, 02420
ORGANIZER:cheryl.sorace-agaskar@ll.mit.edu
SEQUENCE:0
SUMMARY:IEEE Photonics Society Boston Chapter June Meeting
URL;VALUE=URI:https://events.vtools.ieee.org/m/233246
X-ALT-DESC:Description: &lt;br /&gt;&lt;p&gt;June Meeting of the IEEE Photonics Society
  Boston Chapter&amp;nbsp\;&lt;a href=&quot;http://www.bostonphotonics.org/&quot;&gt;www.boston
 photonics.org&lt;/a&gt;&amp;nbsp\;&lt;/p&gt;&lt;br /&gt;&lt;br /&gt;Agenda: &lt;br /&gt;&lt;p style=&quot;color: #00
 0000\; font-family: Verdana\,Arial\,Helvetica\,sans-serif\; font-size: 14p
 x\; font-style: normal\; font-variant: normal\; font-weight: 400\; letter-
 spacing: normal\; orphans: 2\; text-align: left\; text-decoration: none\; 
 text-indent: 0px\; text-transform: none\; -webkit-text-stroke-width: 0px\;
  white-space: normal\; word-spacing: 0px\;&quot;&gt;&lt;strong&gt;IMPORTANT NOTE&lt;/strong
 &gt;: Registration is required for this meeting.&amp;nbsp\;&lt;/p&gt;\n&lt;p style=&quot;color:
  #000000\; font-family: Verdana\,Arial\,Helvetica\,sans-serif\; font-size:
  14px\; font-style: normal\; font-variant: normal\; font-weight: 400\; let
 ter-spacing: normal\; orphans: 2\; text-align: left\; text-decoration: non
 e\; text-indent: 0px\; text-transform: none\; -webkit-text-stroke-width: 0
 px\; white-space: normal\; word-spacing: 0px\;&quot;&gt;Please use the following l
 ink to register.&lt;/p&gt;\n&lt;p style=&quot;color: #000000\; font-family: Verdana\,Ari
 al\,Helvetica\,sans-serif\; font-size: 14px\; font-style: normal\; font-va
 riant: normal\; font-weight: 400\; letter-spacing: normal\; orphans: 2\; t
 ext-align: left\; text-decoration: none\; text-indent: 0px\; text-transfor
 m: none\; -webkit-text-stroke-width: 0px\; white-space: normal\; word-spac
 ing: 0px\;&quot;&gt;&lt;a href=&quot;https://us02web.zoom.us/webinar/register/WN_BDZPjw6vQ
 G6NQeJjmroY4w&quot; target=&quot;_blank&quot; rel=&quot;noopener&quot; data-saferedirecturl=&quot;https:
 //www.google.com/url?q=https://us02web.zoom.us/webinar/register/WN_BDZPjw6
 vQG6NQeJjmroY4w&amp;amp\;source=gmail&amp;amp\;ust=1592257230962000&amp;amp\;usg=AFQjC
 NFMeUJFUeYXA89hkR8gMrE3RZdbiA&quot;&gt;https://us02web.zoom.us/&lt;wbr /&gt;webinar/regi
 ster/WN_&lt;wbr /&gt;BDZPjw6vQG6NQeJjmroY4w&lt;/a&gt;&lt;/p&gt;\n&lt;p style=&quot;color: #000000\; 
 font-family: Verdana\,Arial\,Helvetica\,sans-serif\; font-size: 14px\; fon
 t-style: normal\; font-variant: normal\; font-weight: 400\; letter-spacing
 : normal\; orphans: 2\; text-align: left\; text-decoration: none\; text-in
 dent: 0px\; text-transform: none\; -webkit-text-stroke-width: 0px\; white-
 space: normal\; word-spacing: 0px\;&quot;&gt;After registering\, you will receive 
 a confirmation email containing information about joining the webinar. Thi
 s webinar will take place on Zoom and will be started 15 minutes early (at
  6:45 EDT) to allow for technical troubleshooting.&amp;nbsp\;&lt;/p&gt;\n&lt;p style=&quot;c
 olor: #000000\; font-family: Verdana\,Arial\,Helvetica\,sans-serif\; font-
 size: 14px\; font-style: normal\; font-variant: normal\; font-weight: 400\
 ; letter-spacing: normal\; orphans: 2\; text-align: left\; text-decoration
 : none\; text-indent: 0px\; text-transform: none\; -webkit-text-stroke-wid
 th: 0px\; white-space: normal\; word-spacing: 0px\;&quot;&gt;&lt;span style=&quot;backgrou
 nd-color: #ffffff\; color: #000000\; cursor: text\; display: inline\; floa
 t: none\; font-family: Verdana\,Arial\,Helvetica\,sans-serif\; font-size: 
 14px\; font-style: normal\; font-variant: normal\; font-weight: 400\; lett
 er-spacing: normal\; orphans: 2\; text-align: left\; text-decoration: none
 \; text-indent: 0px\; text-transform: none\; -webkit-text-stroke-width: 0p
 x\; white-space: normal\; word-spacing: 0px\;&quot;&gt;All are welcome. For more i
 nformation visit the&amp;nbsp\;IEEE&amp;nbsp\;Boston Photonics Society website at&amp;
 nbsp\;&lt;/span&gt;&lt;a style=&quot;color: #0066cc\; font-family: Verdana\,Arial\,Helve
 tica\,sans-serif\; font-size: 14px\; font-style: normal\; font-variant: no
 rmal\; font-weight: 400\; letter-spacing: normal\; orphans: 2\; text-align
 : left\; text-decoration: underline\; text-indent: 0px\; text-transform: n
 one\; -webkit-text-stroke-width: 0px\; white-space: normal\; word-spacing:
  0px\;&quot; href=&quot;http://www.bostonphotonics.org/&quot;&gt;www.bostonphotonics.org&lt;/a&gt;
 &lt;span style=&quot;background-color: #ffffff\; color: #000000\; cursor: text\; d
 isplay: inline\; float: none\; font-family: Verdana\,Arial\,Helvetica\,san
 s-serif\; font-size: 14px\; font-style: normal\; font-variant: normal\; fo
 nt-weight: 400\; letter-spacing: normal\; orphans: 2\; text-align: left\; 
 text-decoration: none\; text-indent: 0px\; text-transform: none\; -webkit-
 text-stroke-width: 0px\; white-space: normal\; word-spacing: 0px\;&quot;&gt;.&lt;/spa
 n&gt;&lt;/p&gt;\n&lt;p&gt;&amp;nbsp\;&lt;/p&gt;
END:VEVENT
END:VCALENDAR

