BEGIN:VCALENDAR
VERSION:2.0
PRODID:IEEE vTools.Events//EN
CALSCALE:GREGORIAN
BEGIN:VEVENT
DTSTAMP:20200630T150743Z
UID:63290B18-2D38-4937-9502-8A3798A392D6
DTSTART;TZID=Etc/GMT-5:20200628T100000
DTEND;TZID=Etc/GMT-5:20200628T163000
DESCRIPTION:La Rama IEEE UCSG y su Grupo de Afinidad WIE\, les extiende una
  cordial invitación a ser partícipes del CURSO DE ARDUINO \, con duraci
 ón de 10 horas.\n\nAgenda: \nSesión 1: Conociendo Arduino: Panorama gene
 ral\n\nProgramando Arduino: Activar / Desactivar pines digitales\n\nSesió
 n 2:  Programando Arduino: Modulación de Ancho de Pulso\n\nSesión 3 : Pr
 ogramando Arduino: Muestreo de Información\n\nSesión 4 : Fin del Curso: 
 Proyecto Integrador sobre los Temas Vistos\n\nGuayaquil\, Guayas\, Ecuador
LOCATION:Guayaquil\, Guayas\, Ecuador
ORGANIZER:ae.crespo@ieee.org
SEQUENCE:1
SUMMARY:Curso de Arduino
URL;VALUE=URI:https://events.vtools.ieee.org/m/233470
X-ALT-DESC:Description: &lt;br /&gt;&lt;p&gt;&amp;nbsp\;&lt;/p&gt;\n&lt;p&gt;&lt;span style=&quot;vertical-alig
 n: inherit\;&quot;&gt;La Rama IEEE UCSG y su Grupo de Afinidad WIE\, les extiende 
 una cordial invitaci&amp;oacute\;n a ser part&amp;iacute\;cipes del &lt;/span&gt;&lt;strong
 &gt;&lt;span style=&quot;vertical-align: inherit\;&quot;&gt;CURSO DE ARDUINO&lt;/span&gt;&lt;/strong&gt;&lt;
 span style=&quot;vertical-align: inherit\;&quot;&gt; \, con duraci&amp;oacute\;n de 10 hora
 s.&lt;/span&gt;&lt;/p&gt;&lt;br /&gt;&lt;br /&gt;Agenda: &lt;br /&gt;&lt;p&gt;&lt;em&gt;&lt;span style=&quot;vertical-align:
  inherit\;&quot;&gt;Sesi&amp;oacute\;n 1:&lt;/span&gt;&lt;/em&gt;&lt;span style=&quot;vertical-align: inhe
 rit\;&quot;&gt; Conociendo Arduino: Panorama general&lt;/span&gt;&lt;/p&gt;\n&lt;p&gt;&lt;span style=&quot;v
 ertical-align: inherit\;&quot;&gt;&amp;nbsp\; &amp;nbsp\; &amp;nbsp\; &amp;nbsp\; &amp;nbsp\; &amp;nbsp\; 
 &amp;nbsp\; &amp;nbsp\; Programando Arduino: Activar / Desactivar pines digitales&lt;
 /span&gt;&lt;/p&gt;\n&lt;p&gt;&lt;em&gt;&lt;span style=&quot;vertical-align: inherit\;&quot;&gt;Sesi&amp;oacute\;n 
 2:&amp;nbsp\;&lt;/span&gt;&lt;/em&gt;&lt;span style=&quot;vertical-align: inherit\;&quot;&gt; Programando 
 Arduino: Modulaci&amp;oacute\;n de Ancho de Pulso&lt;/span&gt;&lt;/p&gt;\n&lt;p&gt;&lt;em&gt;&lt;span sty
 le=&quot;vertical-align: inherit\;&quot;&gt;Sesi&amp;oacute\;n 3&lt;/span&gt;&lt;/em&gt;&lt;span style=&quot;ve
 rtical-align: inherit\;&quot;&gt; : Programando Arduino: Muestreo de Informaci&amp;oac
 ute\;n&lt;/span&gt;&lt;/p&gt;\n&lt;p&gt;&lt;em&gt;&lt;span style=&quot;vertical-align: inherit\;&quot;&gt;Sesi&amp;oac
 ute\;n 4&lt;/span&gt;&lt;/em&gt;&lt;span style=&quot;vertical-align: inherit\;&quot;&gt; : Fin del Cur
 so: Proyecto Integrador sobre los Temas Vistos&lt;/span&gt;&lt;/p&gt;
END:VEVENT
END:VCALENDAR

