BEGIN:VCALENDAR
VERSION:2.0
PRODID:IEEE vTools.Events//EN
CALSCALE:GREGORIAN
BEGIN:VTIMEZONE
TZID:Asia/Calcutta
BEGIN:STANDARD
DTSTART:19451014T230000
TZOFFSETFROM:+0630
TZOFFSETTO:+0530
TZNAME:IST
END:STANDARD
END:VTIMEZONE
BEGIN:VEVENT
DTSTAMP:20200621T161714Z
UID:DCDADC10-C62B-4641-81A4-3A0ACCF6270B
DTSTART;TZID=Asia/Calcutta:20200621T140000
DTEND;TZID=Asia/Calcutta:20200621T163000
DESCRIPTION:- There was a guest speaker invited at the start of the 2-hour 
 session. Mr Krishna Prasad an Alumni of VNR VJIET\, CSE [1999-2003]. The s
 ession was named as a &quot;Recharge Talk&quot; and discussed the importance of tool
 s such as observation\, awareness and understanding the importance of prob
 lem-solving.\n- The speaker started the discussion with a simple but inter
 active discussion on the various applications of Machine Learning such as 
 Voice assistants\, face recognition\, stock trading\, medical diagnosis et
 c.\n- Machine Learning frameworks i.e. Training and Testing were discussed
  with the help of relevant examples.\n- Categories of Machine Learning suc
 h as Supervised learning\, Unsupervised learning\, Semi-Supervised learnin
 g and Reinforced Learning were discussed elaborately.\n\nSpeaker(s): Mr P 
 Anudeep\, \n\nAgenda: \nThe lecture was aimed at introducing the audience 
 to the Uses and applications of Machine Learning in everyday life. To diff
 erentiate between the concepts of traditional programming and machine lear
 ning along with a basic introduction to ML framework\, key elements and ca
 tegories of ML.\n\nHyderabad\, Andhra Pradesh\, India
LOCATION:Hyderabad\, Andhra Pradesh\, India
ORGANIZER:chakrids.112@gmail.com
SEQUENCE:1
SUMMARY:Guest Lecture on Introduction to Machine Learning 
URL;VALUE=URI:https://events.vtools.ieee.org/m/233719
X-ALT-DESC:Description: &lt;br /&gt;&lt;ul&gt;\n&lt;li&gt;There was a guest speaker invited a
 t the start of the 2-hour session. Mr Krishna Prasad an Alumni of VNR VJIE
 T\, CSE [1999-2003]. The session was named as a &quot;Recharge Talk&quot; and discus
 sed the importance of tools such as observation\, awareness and understand
 ing the importance of problem-solving.&lt;/li&gt;\n&lt;li&gt;The speaker started the d
 iscussion with a simple but interactive discussion on the various applicat
 ions of Machine Learning such as Voice assistants\, face recognition\, sto
 ck trading\, medical diagnosis etc.&lt;/li&gt;\n&lt;li&gt;Machine Learning frameworks 
 i.e. Training and Testing were discussed with the help of relevant example
 s.&lt;/li&gt;\n&lt;li&gt;Categories of Machine Learning such as Supervised learning\, 
 Unsupervised learning\, Semi-Supervised learning and Reinforced Learning w
 ere discussed elaborately.&lt;/li&gt;\n&lt;/ul&gt;&lt;br /&gt;&lt;br /&gt;Agenda: &lt;br /&gt;&lt;p&gt;The lec
 ture was aimed at introducing the audience to the Uses and applications of
  Machine Learning in everyday life. To differentiate between the concepts 
 of traditional programming and machine learning along with a basic introdu
 ction to ML framework\, key elements and categories of ML.&lt;/p&gt;
END:VEVENT
END:VCALENDAR

