BEGIN:VCALENDAR
VERSION:2.0
PRODID:IEEE vTools.Events//EN
CALSCALE:GREGORIAN
BEGIN:VEVENT
DTSTAMP:20200905T204625Z
UID:EDAFEBE5-C389-4D66-A6FE-D21AC16C7E9A
DTSTART;TZID=US/Pacific-New:20200826T020000
DTEND;TZID=US/Pacific-New:20200826T024000
DESCRIPTION:Chris helps leaders and sales people gain trust\, respect\, adm
 iration and loyalty from those they lead and sell to. Member of the Motiva
 tional Speakers Hall of Fame One of Inc Magazine’s Top 100 Leadership Sp
 eakers. He was named one of the Top 50 Speakers in the World.\n\nYou do no
 t want to miss our August Tech Talk. Chris Widener\, America&#39;s Number one 
 Influence and impact strategist will be speaking to us consultants on how 
 to excel in our speaking engagements. He will coach us on how to succeed i
 n our presentations to clients and successful technical presentations to o
 ur peers.\n\nCo-sponsored by: https://chriswidener.com/speaking/\n\nSpeake
 r(s): Chris Widener\, \n\nAgenda: \nWelcome\nIntroduction - Chris Widener 
 - Named one fo the top 50 motivational Speakers in the World\nPresenation\
 nQuestions and Answers\n\nLive Stream\, Seattle\, Washington\, United Stat
 es\, 98125
LOCATION:Live Stream\, Seattle\, Washington\, United States\, 98125
ORGANIZER:mike.brisbois@ieee.org
SEQUENCE:5
SUMMARY:Maximize your speaking Skills with Chris Widener
URL;VALUE=URI:https://events.vtools.ieee.org/m/234173
X-ALT-DESC:Description: &lt;br /&gt;&lt;p&gt;Chris helps leaders and sales people gain 
 trust\, respect\, admiration and loyalty from those they lead and sell to.
  Member of the Motivational Speakers Hall of Fame One of Inc Magazine&amp;rsqu
 o\;s Top 100 Leadership Speakers. He was named one of the Top 50 Speakers 
 in the World.&lt;br /&gt;&lt;br /&gt;You do not want to miss our August Tech Talk. Chr
 is Widener\, America&#39;s Number one Influence and impact strategist will be 
 speaking to us consultants on how to excel in our speaking engagements. He
  will coach us on how to succeed in our presentations to clients and succe
 ssful technical presentations to our peers.&lt;/p&gt;&lt;br /&gt;&lt;br /&gt;Agenda: &lt;br /&gt;&lt;
 p&gt;Welcome &lt;br /&gt;Introduction - Chris Widener - Named one fo the top 50 mot
 ivational Speakers in the World&lt;br /&gt;Presenation&lt;br /&gt;Questions and Answer
 s&lt;/p&gt;
END:VEVENT
END:VCALENDAR

