BEGIN:VCALENDAR
VERSION:2.0
PRODID:IEEE vTools.Events//EN
CALSCALE:GREGORIAN
BEGIN:VTIMEZONE
TZID:America/Guayaquil
BEGIN:DAYLIGHT
DTSTART:20380118T221407
TZOFFSETFROM:-0500
TZOFFSETTO:-0500
RRULE:FREQ=YEARLY;BYDAY=3MO;BYMONTH=1
TZNAME:-05
END:DAYLIGHT
BEGIN:STANDARD
DTSTART:19930204T230000
TZOFFSETFROM:-0400
TZOFFSETTO:-0500
RRULE:FREQ=YEARLY;BYDAY=1TH;BYMONTH=2
TZNAME:-05
END:STANDARD
END:VTIMEZONE
BEGIN:VEVENT
DTSTAMP:20200628T031413Z
UID:D9A269FF-62F1-4E36-B9A8-409BF72A66ED
DTSTART;TZID=America/Guayaquil:20200627T200000
DTEND;TZID=America/Guayaquil:20200627T220000
DESCRIPTION:Reunion general de la directiva de la Rama estudiantil IEEE de 
 la escuela politécnica nacional del Ecuador\, con el fin de planificar ev
 entos próximos\n\nQuito\, Pichincha\, Ecuador
LOCATION:Quito\, Pichincha\, Ecuador
ORGANIZER:sb.epn@ieee.org
SEQUENCE:0
SUMMARY:Reunion Directivos IEEE
URL;VALUE=URI:https://events.vtools.ieee.org/m/234209
X-ALT-DESC:Description: &lt;br /&gt;&lt;p&gt;Reunion general de la directiva de la Rama
  estudiantil IEEE de la escuela polit&amp;eacute\;cnica nacional del Ecuador\,
  con el fin de planificar eventos pr&amp;oacute\;ximos&lt;/p&gt;
END:VEVENT
END:VCALENDAR

