BEGIN:VCALENDAR
VERSION:2.0
PRODID:IEEE vTools.Events//EN
CALSCALE:GREGORIAN
BEGIN:VTIMEZONE
TZID:Asia/Tokyo
BEGIN:STANDARD
DTSTART:19510909T000000
TZOFFSETFROM:+1000
TZOFFSETTO:+0900
TZNAME:JST
END:STANDARD
END:VTIMEZONE
BEGIN:VEVENT
DTSTAMP:20200713T063505Z
UID:F6481C61-2961-4DCC-A79E-7609AB367DC8
DTSTART;TZID=Asia/Tokyo:20200703T130000
DTEND;TZID=Asia/Tokyo:20200703T140000
DESCRIPTION:We invited Professor Dong-Ying Ju from Saitama Institute of Tec
 hnology to give a lecture about the researches in SIT.\n\nSpeaker(s): Prof
 . Dong-Ying Ju\, \n\nRoom: R205\, Bldg: Education &amp; Research Building #8\,
  27-2 Mizumoto-cho\, Muroran Institute of Technology\, Muroran\, Hokkaido\
 , Japan\, 0508585
LOCATION:Room: R205\, Bldg: Education &amp; Research Building #8\, 27-2 Mizumot
 o-cho\, Muroran Institute of Technology\, Muroran\, Hokkaido\, Japan\, 050
 8585
ORGANIZER:heli@mmm.muroran-it.ac.jp
SEQUENCE:2
SUMMARY:Invited Talk (Co-organized)
URL;VALUE=URI:https://events.vtools.ieee.org/m/234463
X-ALT-DESC:Description: &lt;br /&gt;&lt;p&gt;We invited Professor Dong-Ying Ju from Sai
 tama Institute of Technology to give a lecture about the researches in SIT
 .&lt;/p&gt;
END:VEVENT
END:VCALENDAR

