BEGIN:VCALENDAR
VERSION:2.0
PRODID:IEEE vTools.Events//EN
CALSCALE:GREGORIAN
BEGIN:VTIMEZONE
TZID:America/Panama
BEGIN:STANDARD
DTSTART:19080422T001936
TZOFFSETFROM:-0640
TZOFFSETTO:-0500
TZNAME:EST
END:STANDARD
END:VTIMEZONE
BEGIN:VEVENT
DTSTAMP:20210303T193507Z
UID:7B9DD64C-98D4-4E59-B59A-BFF0F3E96DD1
DTSTART;TZID=America/Panama:20200715T163000
DTEND;TZID=America/Panama:20200715T173000
DESCRIPTION:Conoceremos sobre los métodos que usan los epidemiólogos para
  analizar epidemias\, en este caso\, aplicadas a COVID. Desde la recolecci
 ón de datos\, el análisis de datos y la comunicación científica para m
 odificar regulaciones o educar a la comunidad. Esto es epidemiología para
  no epidemiólogos.\n\nPANAMA\, Panama\, Panama\, Virtual: https://events.
 vtools.ieee.org/m/234953
LOCATION:PANAMA\, Panama\, Panama\, Virtual: https://events.vtools.ieee.org
 /m/234953
ORGANIZER:rfranco@ieee.org
SEQUENCE:4
SUMMARY:La Matemática del COVID-19: Un análisis epidemiológico después 
 de 4 meses de cuarentena.
URL;VALUE=URI:https://events.vtools.ieee.org/m/234953
X-ALT-DESC:Description: &lt;br /&gt;&lt;p&gt;Conoceremos sobre los m&amp;eacute\;todos que 
 usan los epidemi&amp;oacute\;logos para analizar epidemias\, en este caso\, ap
 licadas a COVID. Desde la recolecci&amp;oacute\;n de datos\, el an&amp;aacute\;lis
 is de datos y la comunicaci&amp;oacute\;n cient&amp;iacute\;fica para modificar re
 gulaciones o educar a la comunidad. Esto es epidemiolog&amp;iacute\;a para no 
 epidemi&amp;oacute\;logos.&lt;/p&gt;
END:VEVENT
END:VCALENDAR

