BEGIN:VCALENDAR
VERSION:2.0
PRODID:IEEE vTools.Events//EN
CALSCALE:GREGORIAN
BEGIN:VTIMEZONE
TZID:US/Pacific
BEGIN:DAYLIGHT
DTSTART:20200308T030000
TZOFFSETFROM:-0800
TZOFFSETTO:-0700
RRULE:FREQ=YEARLY;BYDAY=2SU;BYMONTH=3
TZNAME:PDT
END:DAYLIGHT
BEGIN:STANDARD
DTSTART:20201101T010000
TZOFFSETFROM:-0700
TZOFFSETTO:-0800
RRULE:FREQ=YEARLY;BYDAY=1SU;BYMONTH=11
TZNAME:PST
END:STANDARD
END:VTIMEZONE
BEGIN:VEVENT
DTSTAMP:20201208T220002Z
UID:208759CF-C6F0-4C61-92DA-122D6B3BB26A
DTSTART;TZID=US/Pacific:20200901T180000
DTEND;TZID=US/Pacific:20200901T193000
DESCRIPTION:In this hands-on Session\, Vibhu Srinivasan\, an Agile thought 
 leader and Director of Accenture&#39;s Seattle Innovation Hub will introduce c
 oncepts from Design Thinking\, Lean product development and Agile Product 
 management techniques to work together to build products.\n\nLearn the tec
 hniques to empower teams\, so that they can be innovative as they do their
  work . Recently Gartner published this picture that shows in theory how D
 esign Thinking \, Lean Startup\n\nJoin Vibhu\, in this session as he unrav
 els how these techniques actually work together to facilitate Product Disc
 overy and Product Development in unison. This session will be practical in
  nature with examples of actual work that is done today.\n\nKey Takeaways:
 \n\n- Explore the definition of Innovation and types of Innovation\n- Lear
 n how innovation can happen by using techniques from Design thinking\n- Le
 arn Key concepts from Design thinking and Lean Startup.\n- Using Design Sp
 rints as a way to use the discovery process\n- Lean Agile mindset as a way
  of working and how it influences Innovation\n- Learn why Storytelling is 
 a technique to influence innovation.\n- Practice design thinking by workin
 g in small teams by doing an activity\n- Lean How dual track agile can hel
 p discovery and development in sync\n- In this time of virtual work\, how 
 can we do these techniques virtually.\n- Learn what you can do to further 
 deepen these concepts\n\nYou will leave with clear appreciation of the too
 ls in the toolbox needed to have every team in the world innovate and deli
 ght customers.\n\nThis will be a workshop style 90-minute long immersive s
 ession.\n\nPre Reading:\nPlease take the time to go through this Stanford 
 D School webinar on Design Thinking. This will help you be more productive
  in this session.\n\nStanford Webinar - Design Thinking = Method\, Not Mag
 ic - https://youtu.be/vSuK2C89yjA\n\nCo-sponsored by: Puget Sound Chapter 
 of Project Management Institute\n\nSpeaker(s): Vibhu Srinivasan\, \n\nhttp
 s://us02web.zoom.us/j/88283821499\, Seattle\, Washington\, United States
LOCATION:https://us02web.zoom.us/j/88283821499\, Seattle\, Washington\, Uni
 ted States
ORGANIZER:hcrowfoot@gmail.com
SEQUENCE:12
SUMMARY:Every Team Can Innovate
URL;VALUE=URI:https://events.vtools.ieee.org/m/235191
X-ALT-DESC:Description: &lt;br /&gt;&lt;p&gt;&lt;span style=&quot;font-weight: 400\;&quot;&gt;In this h
 ands-on Session\, Vibhu Srinivasan\, an Agile thought leader and Director 
 of Accenture&#39;s Seattle Innovation Hub will introduce concepts from Design 
 Thinking\, Lean product development and Agile Product management technique
 s to work together to build products. &lt;/span&gt;&lt;strong&gt;&amp;nbsp\;&lt;/strong&gt;&lt;/p&gt;\
 n&lt;p&gt;&lt;span style=&quot;font-weight: 400\;&quot;&gt;Learn the techniques to empower teams
 \, so that they can be innovative as they do their work . Recently Gartner
  published this picture that shows in theory how Design Thinking \, Lean S
 tartup&amp;nbsp\;&lt;/span&gt;&lt;strong&gt;&amp;nbsp\;&lt;/strong&gt;&lt;/p&gt;\n&lt;p&gt;&lt;span style=&quot;font-wei
 ght: 400\;&quot;&gt;Join Vibhu\,&amp;nbsp\; in this session as he unravels how these t
 echniques actually work together to facilitate Product Discovery and Produ
 ct Development in unison. This session will be practical in nature with ex
 amples of actual work that is done today.&lt;/span&gt;&lt;/p&gt;\n&lt;p&gt;&lt;strong&gt;Key Takea
 ways:&lt;/strong&gt;&lt;/p&gt;\n&lt;ul&gt;\n&lt;li style=&quot;font-weight: 400\;&quot;&gt;&lt;span style=&quot;font
 -weight: 400\;&quot;&gt;Explore the definition of Innovation and types of Innovati
 on&amp;nbsp\;&lt;/span&gt;&lt;/li&gt;\n&lt;li style=&quot;font-weight: 400\;&quot;&gt;&lt;span style=&quot;font-we
 ight: 400\;&quot;&gt;Learn how innovation can happen by using techniques from Desi
 gn thinking&lt;/span&gt;&lt;/li&gt;\n&lt;li style=&quot;font-weight: 400\;&quot;&gt;&lt;span style=&quot;font-
 weight: 400\;&quot;&gt;Learn Key concepts from Design thinking and Lean Startup.&lt;/
 span&gt;&lt;/li&gt;\n&lt;li style=&quot;font-weight: 400\;&quot;&gt;&lt;span style=&quot;font-weight: 400\;
 &quot;&gt;Using Design Sprints as a way to use the discovery process&lt;/span&gt;&lt;/li&gt;\n
 &lt;li style=&quot;font-weight: 400\;&quot;&gt;&lt;span style=&quot;font-weight: 400\;&quot;&gt;Lean Agile
  mindset as a way of working and how it influences Innovation&lt;/span&gt;&lt;/li&gt;\
 n&lt;li style=&quot;font-weight: 400\;&quot;&gt;&lt;span style=&quot;font-weight: 400\;&quot;&gt;Learn why
  Storytelling is a technique to influence innovation.&amp;nbsp\;&lt;/span&gt;&lt;/li&gt;\n
 &lt;li style=&quot;font-weight: 400\;&quot;&gt;&lt;span style=&quot;font-weight: 400\;&quot;&gt;Practice d
 esign thinking by working in small teams by doing an activity&lt;/span&gt;&lt;/li&gt;\
 n&lt;li style=&quot;font-weight: 400\;&quot;&gt;&lt;span style=&quot;font-weight: 400\;&quot;&gt;Lean How 
 dual track agile can help discovery and development in sync&lt;/span&gt;&lt;/li&gt;\n&lt;
 li style=&quot;font-weight: 400\;&quot;&gt;&lt;span style=&quot;font-weight: 400\;&quot;&gt;In this tim
 e of virtual work\, how can we do these techniques virtually.&amp;nbsp\;&lt;/span
 &gt;&lt;/li&gt;\n&lt;li style=&quot;font-weight: 400\;&quot;&gt;&lt;span style=&quot;font-weight: 400\;&quot;&gt;Le
 arn what you can do to further deepen these concepts&lt;/span&gt;&lt;/li&gt;\n&lt;/ul&gt;\n&lt;
 p&gt;&lt;span style=&quot;font-weight: 400\;&quot;&gt;You will leave with clear appreciation 
 of the tools in the toolbox needed to have every team in the world innovat
 e and delight customers.&lt;/span&gt;&lt;/p&gt;\n&lt;p&gt;&lt;span style=&quot;font-weight: 400\;&quot;&gt;T
 his will be a workshop style 90-minute long immersive session.&lt;/span&gt;&lt;/p&gt;\
 n&lt;p&gt;&lt;strong&gt;Pre Reading:&amp;nbsp\;&lt;br /&gt;&lt;/strong&gt;&lt;span style=&quot;font-weight: 40
 0\;&quot;&gt;Please take the time to go through this Stanford D School webinar on 
 Design Thinking. This will help you be more productive in this session.&amp;nb
 sp\;&amp;nbsp\;&lt;/span&gt;&lt;/p&gt;\n&lt;p&gt;&lt;span style=&quot;font-weight: 400\;&quot;&gt;Stanford Webin
 ar - Design Thinking = Method\, Not Magic -&amp;nbsp\;&lt;/span&gt;&lt;a href=&quot;https://
 youtu.be/vSuK2C89yjA&quot;&gt;&lt;span style=&quot;font-weight: 400\;&quot;&gt;https://youtu.be/vS
 uK2C89yjA&lt;/span&gt;&lt;/a&gt;&lt;/p&gt;
END:VEVENT
END:VCALENDAR

