BEGIN:VCALENDAR
VERSION:2.0
PRODID:IEEE vTools.Events//EN
CALSCALE:GREGORIAN
BEGIN:VTIMEZONE
TZID:America/Los_Angeles
BEGIN:DAYLIGHT
DTSTART:20200308T030000
TZOFFSETFROM:-0800
TZOFFSETTO:-0700
RRULE:FREQ=YEARLY;BYDAY=2SU;BYMONTH=3
TZNAME:PDT
END:DAYLIGHT
BEGIN:STANDARD
DTSTART:20201101T010000
TZOFFSETFROM:-0700
TZOFFSETTO:-0800
RRULE:FREQ=YEARLY;BYDAY=1SU;BYMONTH=11
TZNAME:PST
END:STANDARD
END:VTIMEZONE
BEGIN:VEVENT
DTSTAMP:20200915T134443Z
UID:7E5146C9-21B5-49C7-BA01-0E6F72AF9A70
DTSTART;TZID=America/Los_Angeles:20200825T180000
DTEND;TZID=America/Los_Angeles:20200825T200000
DESCRIPTION:SusTech 2021 is hosting talks on Sustainability leading up to t
 he conference in April 2021. https://site.ieee.org/sustech/\n\nAbstract- H
 otter summers\, drier grasslands\, more frequent and more intense fires. W
 e are experiencing a change in our climate that is threatening our homes\,
  our lifestyles\, and importantly our wildlife and wildlands. Allen Monroe
 \, President and CEO of The Living Desert Zoo and Gardens\, will detail th
 ese changes but will also share reasons why we should be hopeful. We can c
 ombat climate change—if we work together!\n\nAfter the talk\, Allen Monr
 oe will be available to answer questions\n\nCo-sponsored by: SusTech 2021 
 and Coastal Los Angeles Section Life Member Affinity Group\n\nSanta Ana\, 
 California\, United States\, Virtual: https://events.vtools.ieee.org/m/235
 872
LOCATION:Santa Ana\, California\, United States\, Virtual: https://events.v
 tools.ieee.org/m/235872
ORGANIZER:c.jackson@ieee.org
SEQUENCE:16
SUMMARY:SusTech-Talks #1: The Reality of Our Changing Climate and How it Af
 fects Our Planet and Wildlife
URL;VALUE=URI:https://events.vtools.ieee.org/m/235872
X-ALT-DESC:Description: &lt;br /&gt;&lt;p&gt;SusTech 2021 is hosting talks on Sustainab
 ility leading up to the conference in April 2021.&amp;nbsp\;&amp;nbsp\;https://sit
 e.ieee.org/sustech/&amp;nbsp\;&lt;/p&gt;\n&lt;p&gt;Abstract- Hotter summers\, drier grassl
 ands\, more frequent and more intense fires. We are experiencing a change 
 in our climate that is threatening our homes\, our lifestyles\, and import
 antly our wildlife and wildlands. Allen Monroe\, President and CEO of The 
 Living Desert Zoo and Gardens\, will detail these changes but will also sh
 are reasons why we should be hopeful. We can combat climate change&amp;mdash\;
 if we work together!&lt;/p&gt;\n&lt;p&gt;After the talk\, Allen Monroe will be availab
 le to answer questions&lt;/p&gt;
END:VEVENT
END:VCALENDAR

