BEGIN:VCALENDAR
VERSION:2.0
PRODID:IEEE vTools.Events//EN
CALSCALE:GREGORIAN
BEGIN:VTIMEZONE
TZID:America/Chicago
BEGIN:DAYLIGHT
DTSTART:20200308T030000
TZOFFSETFROM:-0600
TZOFFSETTO:-0500
RRULE:FREQ=YEARLY;BYDAY=2SU;BYMONTH=3
TZNAME:CDT
END:DAYLIGHT
BEGIN:STANDARD
DTSTART:20201101T010000
TZOFFSETFROM:-0500
TZOFFSETTO:-0600
RRULE:FREQ=YEARLY;BYDAY=1SU;BYMONTH=11
TZNAME:CST
END:STANDARD
END:VTIMEZONE
BEGIN:VEVENT
DTSTAMP:20200902T230558Z
UID:13283A17-8B96-4A59-A23D-736787F3A5D5
DTSTART;TZID=America/Chicago:20200826T180000
DTEND;TZID=America/Chicago:20200826T190000
DESCRIPTION:Hope you are enjoying your summer and staying healthy and safe.
  We will have our August IEEE VTS Chicago webinar with our featured speake
 r Prof. Qi Zhu from Northwestern University where he will talk about Know 
 the Unknowns: Addressing Disturbances and Uncertainties in Connected and A
 utonomous Vehicles. Please see his talk abstract and bio below. This meeti
 ng will be online using Zoom.\n\nPlease register for this webinar by click
 ing on the &quot;Link to external registration&quot; and follow the instructions for
  this Zoom webinar.\n\nSpeaker(s): Prof. Qi Zhu\, \n\nAgenda: \n6:00 PM In
 troduction\, Dr. Alvin Chin\, IEEE VTS Chicago Chair\n\n6:05 PM Know the U
 nknowns: Addressing Disturbances and Uncertainties in Connected and Autono
 mous Vehicles\, Prof. Qi Zhu\, Northwestern University\n\n6:45 PM Q&amp;A\n\n6
 :55 PM Conclusions\n\nOnline\, Illinois\, United States
LOCATION:Online\, Illinois\, United States
ORGANIZER:alvin.chin@ieee.org
SEQUENCE:2
SUMMARY:IEEE VTS Chicago webinar: Addressing Disturbances and Uncertainties
  in Connected and Autonomous Vehicles
URL;VALUE=URI:https://events.vtools.ieee.org/m/236221
X-ALT-DESC:Description: &lt;br /&gt;&lt;p&gt;Hope you are enjoying your summer and stay
 ing healthy and safe.&amp;nbsp\; We will have our August IEEE VTS Chicago webi
 nar with our featured speaker Prof. Qi Zhu from Northwestern University wh
 ere he will talk about&amp;nbsp\;&lt;strong&gt;Know the Unknowns: Addressing Disturb
 ances and Uncertainties in Connected and Autonomous Vehicles.&amp;nbsp\; &amp;nbsp
 \;&lt;/strong&gt;Please see his talk abstract and bio below.&amp;nbsp\; This meeting
  will be online using Zoom.&lt;/p&gt;\n&lt;p&gt;Please register for this webinar by cl
 icking on the &quot;Link to external registration&quot; and follow the instructions 
 for this Zoom webinar.&amp;nbsp\; &amp;nbsp\;&lt;/p&gt;&lt;br /&gt;&lt;br /&gt;Agenda: &lt;br /&gt;&lt;p&gt;6:00
  PM Introduction\, Dr. Alvin Chin\, IEEE VTS Chicago Chair&amp;nbsp\;&lt;/p&gt;\n&lt;p&gt;
 6:05 PM Know the Unknowns: Addressing Disturbances and Uncertainties in Co
 nnected and Autonomous Vehicles\, Prof. Qi Zhu\, Northwestern University&lt;/
 p&gt;\n&lt;p&gt;6:45 PM Q&amp;amp\;A&lt;/p&gt;\n&lt;p&gt;6:55 PM Conclusions&lt;/p&gt;
END:VEVENT
END:VCALENDAR

