BEGIN:VCALENDAR
VERSION:2.0
PRODID:IEEE vTools.Events//EN
CALSCALE:GREGORIAN
BEGIN:VTIMEZONE
TZID:Australia/Sydney
BEGIN:DAYLIGHT
DTSTART:20201004T030000
TZOFFSETFROM:+1000
TZOFFSETTO:+1100
RRULE:FREQ=YEARLY;BYDAY=1SU;BYMONTH=10
TZNAME:AEDT
END:DAYLIGHT
BEGIN:STANDARD
DTSTART:20200405T020000
TZOFFSETFROM:+1100
TZOFFSETTO:+1000
RRULE:FREQ=YEARLY;BYDAY=1SU;BYMONTH=4
TZNAME:AEST
END:STANDARD
END:VTIMEZONE
BEGIN:VEVENT
DTSTAMP:20200903T085004Z
UID:0E5ADC3C-A7E8-4B7F-A4DB-B09CCCCD6F3D
DTSTART;TZID=Australia/Sydney:20200903T170000
DTEND;TZID=Australia/Sydney:20200903T180000
DESCRIPTION:Abstract: The miniaturization led advances in microelectronics 
 over 50 years have revolutionized our lives through fast computing and com
 munication. Recent advances in the field are propelled by applications suc
 h as robotics\, wearable systems\, surgical instruments and health monitor
 ing etc.\, which require electronics to conform to 3D surfaces. This calls
  for new methods to realize sensing\, electronics\, and energy related com
 ponents on unconventional substrates such as plastics and paper. This lect
 ure will present various approaches (over different time and dimension sca
 les) for obtaining distributed electronics and sensing components on flexi
 ble and conformable substrates\, especially in context with tactile or ele
 ctronic skin (e-skin). These approaches range from distributed off-the-she
 lf electronics\, integrated on flexible printed circuit boards to advanced
  alternatives such as e-skin by printed nanowires\, graphene and ultra-thi
 n chips\, etc. The lecture will also discuss the how large area tactile se
 nsing has changed the research paradigm in robotics from hand-based manipu
 lation to using large body contacts to plan and execute movements even in 
 unstructured environments. The technology developed for sensitive flexible
  (and possibly stretchable) touch sensing based systems could also enable 
 solutions for numerous emerging fields such as internet of things\, smart 
 cities and mobile health as well as global issues related to sustainable e
 nvironment and health and safety. This lecture will also discuss how the f
 lexible electronics research may unfold in the future.\n\nCo-sponsored by:
  Prof. Subhas Mukhopadhyay\n\nSpeaker(s): Prof. Ravinder Dahiya\, \n\nvia 
 zoom   https://macquarie.zoom.us/u/a1nuihWJU  \, https://macquarie.zoom.us
 /j/93398865945?pwd=Wkp2OXVPbzk1T2pTbWcwNGtaV3k2UT09\, Sydney\, New South W
 ales\, Australia\, 2109
LOCATION:via zoom   https://macquarie.zoom.us/u/a1nuihWJU  \, https://macqu
 arie.zoom.us/j/93398865945?pwd=Wkp2OXVPbzk1T2pTbWcwNGtaV3k2UT09\, Sydney\,
  New South Wales\, Australia\, 2109
ORGANIZER:Subhas.Mukhopadhyay@mq.edu.au
SEQUENCE:1
SUMMARY:Tactile Skin Technologies for Robotics and Medical Applications 
URL;VALUE=URI:https://events.vtools.ieee.org/m/236529
X-ALT-DESC:Description: &lt;br /&gt;&lt;p&gt;Abstract: The miniaturization led advances
  in microelectronics over 50 years have revolutionized our lives through f
 ast computing and communication. Recent advances in the field are propelle
 d by applications such as robotics\, wearable systems\, surgical instrumen
 ts and health monitoring etc.\, which require electronics to conform to 3D
  surfaces. This calls for new methods to realize sensing\, electronics\, a
 nd energy related components on unconventional substrates such as plastics
  and paper. This lecture will present various approaches (over different t
 ime and dimension scales) for obtaining distributed electronics and sensin
 g components on flexible and conformable substrates\, especially in contex
 t with tactile or electronic skin (e-skin). These approaches range from di
 stributed off-the-shelf electronics\, integrated on flexible printed circu
 it boards to advanced alternatives such as e-skin by printed nanowires\, g
 raphene and ultra-thin chips\, etc. The lecture will also discuss the how 
 large area tactile sensing has changed the research paradigm in robotics f
 rom hand-based manipulation to using large body contacts to plan and execu
 te movements even in unstructured environments. The technology developed f
 or sensitive flexible (and possibly stretchable) touch sensing based syste
 ms could also enable solutions for numerous emerging fields such as intern
 et of things\, smart cities and mobile health as well as global issues rel
 ated to sustainable environment and health and safety. This lecture will a
 lso discuss how the flexible electronics research may unfold in the future
 .&lt;/p&gt;
END:VEVENT
END:VCALENDAR

