BEGIN:VCALENDAR
VERSION:2.0
PRODID:IEEE vTools.Events//EN
CALSCALE:GREGORIAN
BEGIN:VTIMEZONE
TZID:Canada/Eastern
BEGIN:DAYLIGHT
DTSTART:20200308T030000
TZOFFSETFROM:-0500
TZOFFSETTO:-0400
RRULE:FREQ=YEARLY;BYDAY=2SU;BYMONTH=3
TZNAME:EDT
END:DAYLIGHT
BEGIN:STANDARD
DTSTART:20201101T010000
TZOFFSETFROM:-0400
TZOFFSETTO:-0500
RRULE:FREQ=YEARLY;BYDAY=1SU;BYMONTH=11
TZNAME:EST
END:STANDARD
END:VTIMEZONE
BEGIN:VEVENT
DTSTAMP:20200806T213946Z
UID:08202E05-F750-48C9-8572-AAF3343CBFBC
DTSTART;TZID=Canada/Eastern:20200806T160000
DTEND;TZID=Canada/Eastern:20200806T171500
DESCRIPTION:Atonomous and connected vehicles are garnering increasing atten
 tion from a host of stakeholders that include researchers\, car manufactur
 ers and governments. These vehicles are enabled by a set of applications t
 hat gather and analyze data from their surrounding environment. Each of th
 ese applications\, also known as vehicle-to-everything (V2X) applications\
 , has very stringent delay and resource requirements that are needed to re
 alize the envisioned functionality of autonomous vehicles.\n\nThe proposed
  multi-component placement approach addresses these challenges by integrat
 ing edge computing environment and breaking down the applications into sep
 arate components known as services. The placement of these components is r
 ealized by an optimization model that considers the limited resources at t
 he edge\, delay requirements of vehicular applications\, and the resource 
 requirements of vehicular services.\n\nCo-sponsored by: Optimized Computin
 g and Communications (OC2) Laboratory\n\nSpeaker(s): Ibrahim Shaer\, \n\nL
 ondon\, Ontario\, Canada\, Virtual: https://events.vtools.ieee.org/m/23679
 0
LOCATION:London\, Ontario\, Canada\, Virtual: https://events.vtools.ieee.or
 g/m/236790
ORGANIZER:cesar-gomez@ieee.org
SEQUENCE:3
SUMMARY:Multi-Component V2X Applications Placement in Edge Computing Enviro
 nment
URL;VALUE=URI:https://events.vtools.ieee.org/m/236790
X-ALT-DESC:Description: &lt;br /&gt;&lt;p style=&quot;font-size: 11pt\; font-family: Cali
 bri\,sans-serif\; text-align: justify\; margin: 0\; text-justify: inter-id
 eograph\;&quot;&gt;&lt;span lang=&quot;en-US&quot; style=&quot;font-size: 12pt\; font-family: Times 
 New Roman\,serif\;&quot;&gt;A&lt;/span&gt;&lt;span lang=&quot;en-US&quot; style=&quot;font-size: 12pt\; fo
 nt-family: Times New Roman\,serif\;&quot;&gt;tonomous and connected vehicles are g
 arnering increasing attention from a host of stakeholders that include res
 earchers\, car manufacturers and governments. These vehicles are enabled b
 y a set of applications that gather and analyze data from their surroundin
 g environment. Each of these applications\, also known as vehicle-to-every
 thing (V2X) applications\, has very stringent delay and resource requireme
 nts that are needed to realize the envisioned functionality of autonomous 
 vehicles. &lt;/span&gt;&lt;/p&gt;\n&lt;p style=&quot;font-size: 11pt\; font-family: Calibri\,s
 ans-serif\; text-align: justify\; margin: 0\; text-justify: inter-ideograp
 h\;&quot;&gt;&amp;nbsp\;&lt;/p&gt;\n&lt;p style=&quot;font-size: 11pt\; font-family: Calibri\,sans-s
 erif\; text-align: justify\; margin: 0\; text-justify: inter-ideograph\;&quot;&gt;
 &lt;span lang=&quot;en-US&quot; style=&quot;font-size: 12pt\; font-family: Times New Roman\,
 serif\;&quot;&gt;The proposed multi-component placement approach addresses these c
 hallenges by integrating edge computing environment and breaking down the 
 applications into separate components known as services. The placement of 
 these components is realized by an optimization model that considers the l
 imited resources at the edge\, delay requirements of vehicular application
 s\, and the resource requirements of vehicular services.&lt;/span&gt;&lt;/p&gt;
END:VEVENT
END:VCALENDAR

