BEGIN:VCALENDAR
VERSION:2.0
PRODID:IEEE vTools.Events//EN
CALSCALE:GREGORIAN
BEGIN:VTIMEZONE
TZID:America/New_York
BEGIN:DAYLIGHT
DTSTART:20200308T030000
TZOFFSETFROM:-0500
TZOFFSETTO:-0400
RRULE:FREQ=YEARLY;BYDAY=2SU;BYMONTH=3
TZNAME:EDT
END:DAYLIGHT
BEGIN:STANDARD
DTSTART:20201101T010000
TZOFFSETFROM:-0400
TZOFFSETTO:-0500
RRULE:FREQ=YEARLY;BYDAY=1SU;BYMONTH=11
TZNAME:EST
END:STANDARD
END:VTIMEZONE
BEGIN:VEVENT
DTSTAMP:20210209T225547Z
UID:2CE4B875-DB93-4307-84C5-87EAD88B6AA9
DTSTART;TZID=America/New_York:20201016T100000
DTEND;TZID=America/New_York:20201016T140000
DESCRIPTION:This is an online class on Space Weather and Geomagnetic Distur
 bances. The class will touch on magnetometer and GIC data requirements as 
 set forth in the NERC Standard TPL-007-3 – Transmission System Planned P
 erformance for Geomagnetic Disturbance Events\, the status of the NERC GMD
  task force\, and similar related topics. The class is being arranged by m
 embers of the Florida Reliability Coordinating Council\, the Orlando IEEE 
 PES/IAS/PEL Chapter and the Florida West Coast Section of IEEE.\n\nSpeaker
 s include\n\n- Bill Murtagh\, Program Coordinator for the National Oceanic
  and Atmospheric Administration (NOAA) Space Weather Prediction Center (SW
 PC)\n- Dr. Antti Pulkkinen\, Deputy Director of the Heliophysics Science D
 ivision at NASA Goddard Space Flight Center\n- Emanuel Bernabeu\, Director
  Applied Innovation &amp; Analytics\, PJM Interconnection\n\nThere are two reg
 istrations available:\n\nAttendee: No Cost\n\nAttendee w/ CEU (3.5 PDH): $
 5\n\nPlease register below. We will send out an email with the WEBEX link 
 prior to the event.\n\nCEU Registration notes:\n- CEU will be provided by 
 IEEE as a 0.35 (3.5 PDH) Credit\n- There are unfortunately no refunds if y
 ou are unable to attend\n- We will track attendance for CEU attendees and 
 you must be on the meeting webex from start to finish\n- If you are regist
 ered for CEU&#39;s you will receive a CEU application form and class survey\, 
 the form and survey must be completed to receive the credits.\n\nOrlando\,
  Florida\, United States\, Virtual: https://events.vtools.ieee.org/m/23706
 6
LOCATION:Orlando\, Florida\, United States\, Virtual: https://events.vtools
 .ieee.org/m/237066
ORGANIZER:astaley@ouc.com
SEQUENCE:7
SUMMARY:Space Weather and Geomagnetic Disturbances as it relates to the Pow
 er System
URL;VALUE=URI:https://events.vtools.ieee.org/m/237066
X-ALT-DESC:Description: &lt;br /&gt;&lt;p&gt;This is an online class on Space Weather a
 nd Geomagnetic Disturbances.&amp;nbsp\; The class will touch on magnetometer a
 nd GIC data requirements as set forth in the NERC Standard TPL-007-3 &amp;ndas
 h\; Transmission System Planned Performance for Geomagnetic Disturbance Ev
 ents\, the status of the NERC GMD task force\, and similar related topics.
 &amp;nbsp\; The class is being arranged by members of the Florida Reliability 
 Coordinating Council\, the Orlando IEEE PES/IAS/PEL Chapter and the Florid
 a West Coast Section of IEEE.&amp;nbsp\;&lt;/p&gt;\n&lt;p&gt;Speakers include&lt;/p&gt;\n&lt;ul&gt;\n&lt;
 li&gt;Bill Murtagh\, Program Coordinator for the National Oceanic and Atmosph
 eric Administration (NOAA) Space Weather Prediction Center (SWPC)&lt;/li&gt;\n&lt;l
 i&gt;Dr. Antti Pulkkinen\, Deputy Director of the Heliophysics Science Divisi
 on at NASA Goddard Space Flight Center&lt;/li&gt;\n&lt;li&gt;Emanuel Bernabeu\, Direct
 or Applied Innovation &amp;amp\; Analytics\, PJM Interconnection&lt;/li&gt;\n&lt;/ul&gt;\n
 &lt;p&gt;There are two registrations available:&lt;/p&gt;\n&lt;p&gt;Attendee: No Cost&lt;/p&gt;\n&lt;
 p&gt;Attendee w/ CEU (3.5 PDH): $5&lt;/p&gt;\n&lt;p&gt;Please register below.&amp;nbsp\; We w
 ill send out an email with the WEBEX link prior to the event.&amp;nbsp\; &amp;nbsp
 \;&lt;/p&gt;\n&lt;p&gt;&amp;nbsp\;&lt;/p&gt;\n&lt;p&gt;&lt;span style=&quot;font-size: 8pt\;&quot;&gt;CEU Registration
  notes:&lt;br /&gt;&lt;/span&gt;&lt;span style=&quot;font-size: 8pt\;&quot;&gt;&lt;em&gt;- CEU will be provi
 ded by IEEE as a 0.35 (3.5 PDH) Credit&lt;br /&gt;&lt;/em&gt;&lt;/span&gt;&lt;span style=&quot;font-
 size: 8pt\;&quot;&gt;&lt;em&gt;- There are unfortunately no refunds if you are unable to
  attend&lt;br /&gt;&lt;/em&gt;&lt;/span&gt;&lt;span style=&quot;font-size: 8pt\;&quot;&gt;&lt;em&gt;- We will trac
 k attendance for CEU attendees and you must be on the meeting webex from s
 tart to finish&lt;br /&gt;-&amp;nbsp\;If you are registered for CEU&#39;s you&amp;nbsp\;will
  receive&amp;nbsp\;a CEU application form and class survey\,&amp;nbsp\;the form&amp;nb
 sp\;and survey must be completed to receive the credits. &lt;/em&gt;&lt;/span&gt;&lt;span
  style=&quot;font-size: 8pt\;&quot;&gt;&lt;em&gt;&amp;nbsp\;&amp;nbsp\;&lt;/em&gt;&lt;/span&gt;&lt;/p&gt;
END:VEVENT
END:VCALENDAR

