BEGIN:VCALENDAR
VERSION:2.0
PRODID:IEEE vTools.Events//EN
CALSCALE:GREGORIAN
BEGIN:VTIMEZONE
TZID:America/New_York
BEGIN:DAYLIGHT
DTSTART:20200308T030000
TZOFFSETFROM:-0500
TZOFFSETTO:-0400
RRULE:FREQ=YEARLY;BYDAY=2SU;BYMONTH=3
TZNAME:EDT
END:DAYLIGHT
BEGIN:STANDARD
DTSTART:20201101T010000
TZOFFSETFROM:-0400
TZOFFSETTO:-0500
RRULE:FREQ=YEARLY;BYDAY=1SU;BYMONTH=11
TZNAME:EST
END:STANDARD
END:VTIMEZONE
BEGIN:VEVENT
DTSTAMP:20200831T180604Z
UID:C1A1687F-1540-49F0-9765-E31F8B486C33
DTSTART;TZID=America/New_York:20200831T130000
DTEND;TZID=America/New_York:20200831T140000
DESCRIPTION:Our own Communications Society Chapter here in Atlanta\, GA pre
 sents the 2nd Virtual Talk for 2020 which will be a technical presentation
  on &quot;5G New Radio&quot; given by Mr. William Lawton at Georgia Tech Research In
 stitute (GTRI). Please see the presentation Abstract below. This event wil
 l be held on August 31st\, 2020 at 1:00 p.m. EST/12:00 p.m. CDT/11:00 a.m.
  MT/10:00 a.m. PST. Please register using the link below.\n\nPresentation 
 Abstract\n\nIn this presentation\, I am going to present an overview of 5G
  New Radio (NR) including the 5G Core and Radio Access Network as well as 
 a historical perspective on cellular capabilities evolving from 2G\, 3G an
 d 4G. 5G NR features and capabilities to be covered include Release 15 and
  Release 16 as well as some expectations for Release 17. The overview will
  include aspects of the Physical Layer up through the protocol stack. Cert
 ain system features such as Network Slicing\, Integrated Access and Backha
 ul\, Vehicle-to-Everything (V2X) and Ultra-Reliable and Low-Latency Commun
 ication (URLLC). Physical layer aspects including Orthogonal Frequency Div
 ision Multiple Access (OFMDA)\, adaptive modulation and coding and beamfor
 ming / beamtracking will also be covered. Additionally\, the greatly incre
 ased operating bands (including millimeter-wave) and associated numerologi
 es will be discussed.\n\nSpeaker(s): Mr. Bill Lawton\, \n\nAgenda: \nWilli
 am Edward Lawton received the B.Sc. and M.Sc. degrees from the University 
 of Florida in 1998 and 2005\, respectively\, with specializations includin
 g Wireless Communications and Digital Signal Processing. William contribut
 ed to the development of the powerline technology underlying the first gen
 eration for the HomePlug Powerline Alliance while working with Intellon (a
 cquired by Atheros in 2009\; acquired by Qualcomm in 2011). Prior to joini
 ng Georgia Institute of Technology in 2020\, William spent 17 years with I
 nterDigital Communications developing commercial cellular technologies\, s
 olutions and standards for UMTS\, LTE and 5G New Radio (NR). He has receiv
 ed seven patents related to his powerline and cellular wireless innovation
 s. William is currently the Chief of the Communication Systems and Spectru
 m Division (CSSD) of the Information and Communications Lab (ICL) at the G
 eorgia Tech Research Institute (GTRI) researching and developing leading-e
 dge communications and spectrum sensing solutions and platforms.\n\nVirtua
 l: https://events.vtools.ieee.org/m/237609
LOCATION:Virtual: https://events.vtools.ieee.org/m/237609
ORGANIZER:bpage1@ieee.org
SEQUENCE:3
SUMMARY:5G New Radio
URL;VALUE=URI:https://events.vtools.ieee.org/m/237609
X-ALT-DESC:Description: &lt;br /&gt;&lt;p&gt;Our own Communications Society Chapter her
 e in Atlanta\, GA presents the 2nd Virtual Talk for 2020 which will be a t
 echnical presentation on &lt;span style=&quot;font-size: 14pt\; color: #800000\;&quot;&gt;
 &lt;strong&gt;&quot;5G New Radio&quot;&lt;/strong&gt;&lt;/span&gt; given by &lt;strong&gt;&lt;span style=&quot;font-
 size: 12pt\;&quot;&gt;Mr. William Lawton at Georgia Tech Research Institute (GTRI)
 &lt;/span&gt;&lt;/strong&gt;. Please see the presentation Abstract below. This event w
 ill be held on August 31st\, 2020 at 1:00 p.m. EST/12:00 p.m. CDT/11:00 a.
 m. MT/10:00 a.m. PST. Please register using the link below.&lt;/p&gt;\n&lt;p&gt;&lt;stron
 g&gt;&lt;u&gt;Presentation Abstract&lt;/u&gt;&lt;/strong&gt;&lt;/p&gt;\n&lt;p&gt;In this presentation\, I a
 m going to present an overview of 5G New Radio (NR) including the 5G Core 
 and Radio Access Network as well as a historical perspective on cellular c
 apabilities evolving from 2G\, 3G and 4G. 5G NR features and capabilities 
 to be covered include Release 15 and Release 16 as well as some expectatio
 ns for Release 17. The overview will include aspects of the Physical Layer
  up through the protocol stack.&amp;nbsp\; Certain system features such as Net
 work Slicing\, Integrated Access and Backhaul\, Vehicle-to-Everything (V2X
 ) and Ultra-Reliable and Low-Latency Communication (URLLC). &amp;nbsp\;Physica
 l layer aspects including Orthogonal Frequency Division Multiple Access (O
 FMDA)\, adaptive modulation and coding and beamforming / beamtracking will
  also be covered.&amp;nbsp\; Additionally\, the greatly increased operating ba
 nds (including millimeter-wave) and associated numerologies will be discus
 sed.&lt;/p&gt;&lt;br /&gt;&lt;br /&gt;Agenda: &lt;br /&gt;&lt;p&gt;William Edward Lawton received the B.
 Sc. and M.Sc. degrees from the University of Florida in 1998 and 2005\, re
 spectively\, with specializations including Wireless Communications and Di
 gital Signal Processing.&amp;nbsp\; William contributed to the development of 
 the powerline technology underlying the first generation for the HomePlug 
 Powerline Alliance while working with Intellon (acquired by Atheros in 200
 9\; acquired by Qualcomm in 2011). Prior to joining Georgia Institute of T
 echnology in 2020\, William spent 17 years with InterDigital Communication
 s developing commercial cellular technologies\, solutions and standards fo
 r UMTS\, LTE and 5G New Radio (NR). He has received seven patents related 
 to his powerline and cellular wireless innovations. William is currently t
 he Chief of the Communication Systems and Spectrum Division (CSSD) of the 
 Information and Communications Lab (ICL) at the Georgia Tech Research Inst
 itute (GTRI) researching and developing leading-edge communications and sp
 ectrum sensing solutions and platforms.&lt;/p&gt;
END:VEVENT
END:VCALENDAR

